BEGIN:VCALENDAR
VERSION:2.0
PRODID:-//Allan Kardec Spiritist Institute - ECPv6.15.20//NONSGML v1.0//EN
CALSCALE:GREGORIAN
METHOD:PUBLISH
X-ORIGINAL-URL:https://aksihawaii.org
X-WR-CALDESC:Events for Allan Kardec Spiritist Institute
REFRESH-INTERVAL;VALUE=DURATION:PT1H
X-Robots-Tag:noindex
X-PUBLISHED-TTL:PT1H
BEGIN:VTIMEZONE
TZID:Pacific/Honolulu
BEGIN:STANDARD
TZOFFSETFROM:-1000
TZOFFSETTO:-1000
TZNAME:HST
DTSTART:20240101T000000
END:STANDARD
END:VTIMEZONE
BEGIN:VEVENT
DTSTART;TZID=Pacific/Honolulu:20250407T190000
DTEND;TZID=Pacific/Honolulu:20250407T193000
DTSTAMP:20260424T025448
CREATED:20250404T061526Z
LAST-MODIFIED:20250404T061822Z
UID:4746-1744052400-1744054200@aksihawaii.org
SUMMARY:Gospel According to Spiritism (In Portuguese)
DESCRIPTION:
URL:https://aksihawaii.org/event/gospel-according-to-spiritism-2/
END:VEVENT
BEGIN:VEVENT
DTSTART;TZID=Pacific/Honolulu:20250407T193000
DTEND;TZID=Pacific/Honolulu:20250407T194500
DTSTAMP:20260424T025448
CREATED:20250404T061741Z
LAST-MODIFIED:20250404T062246Z
UID:4748-1744054200-1744055100@aksihawaii.org
SUMMARY:Therapeutic Passes
DESCRIPTION:
URL:https://aksihawaii.org/event/passe-2/
END:VEVENT
BEGIN:VEVENT
DTSTART;TZID=Pacific/Honolulu:20250407T200000
DTEND;TZID=Pacific/Honolulu:20250407T203000
DTSTAMP:20260424T025448
CREATED:20250404T062131Z
LAST-MODIFIED:20250404T063711Z
UID:4751-1744056000-1744057800@aksihawaii.org
SUMMARY:Study of the Book " Good News" (In Portuguese)
DESCRIPTION:Chapter 26 – Peter’s denial
URL:https://aksihawaii.org/event/study-of-the-book-good-news/
END:VEVENT
END:VCALENDAR