BEGIN:VCALENDAR
VERSION:2.0
PRODID:-//Allan Kardec Spiritist Institute - ECPv6.15.20//NONSGML v1.0//EN
CALSCALE:GREGORIAN
METHOD:PUBLISH
X-ORIGINAL-URL:https://aksihawaii.org
X-WR-CALDESC:Events for Allan Kardec Spiritist Institute
REFRESH-INTERVAL;VALUE=DURATION:PT1H
X-Robots-Tag:noindex
X-PUBLISHED-TTL:PT1H
BEGIN:VTIMEZONE
TZID:Pacific/Honolulu
BEGIN:STANDARD
TZOFFSETFROM:-1000
TZOFFSETTO:-1000
TZNAME:HST
DTSTART:20240101T000000
END:STANDARD
END:VTIMEZONE
BEGIN:VEVENT
DTSTART;TZID=Pacific/Honolulu:20250428T190000
DTEND;TZID=Pacific/Honolulu:20250428T193000
DTSTAMP:20260424T011315
CREATED:20250404T063537Z
LAST-MODIFIED:20250404T063537Z
UID:4770-1745866800-1745868600@aksihawaii.org
SUMMARY:Gospel According to Spiritism (In Portuguese)
DESCRIPTION:
URL:https://aksihawaii.org/event/gospel-according-to-spiritism-in-portuguese-3/
END:VEVENT
BEGIN:VEVENT
DTSTART;TZID=Pacific/Honolulu:20250428T193000
DTEND;TZID=Pacific/Honolulu:20250428T194500
DTSTAMP:20260424T011315
CREATED:20250404T063906Z
LAST-MODIFIED:20250427T173350Z
UID:4775-1745868600-1745869500@aksihawaii.org
SUMMARY:Therapeutic Passes
DESCRIPTION:
URL:https://aksihawaii.org/event/therapeutic-passes-3/
END:VEVENT
BEGIN:VEVENT
DTSTART;TZID=Pacific/Honolulu:20250428T200000
DTEND;TZID=Pacific/Honolulu:20250428T203000
DTSTAMP:20260424T011315
CREATED:20250404T064043Z
LAST-MODIFIED:20250404T064043Z
UID:4777-1745870400-1745872200@aksihawaii.org
SUMMARY:Study of the Book ” Good News” (In Portuguese)
DESCRIPTION:Chapter 29 – The Five hundred of Galilee
URL:https://aksihawaii.org/event/study-of-the-book-good-news-in-portuguese-2/
END:VEVENT
END:VCALENDAR