BEGIN:VCALENDAR
VERSION:2.0
PRODID:-//Allan Kardec Spiritist Institute - ECPv6.15.20//NONSGML v1.0//EN
CALSCALE:GREGORIAN
METHOD:PUBLISH
X-ORIGINAL-URL:https://aksihawaii.org
X-WR-CALDESC:Events for Allan Kardec Spiritist Institute
REFRESH-INTERVAL;VALUE=DURATION:PT1H
X-Robots-Tag:noindex
X-PUBLISHED-TTL:PT1H
BEGIN:VTIMEZONE
TZID:Pacific/Honolulu
BEGIN:STANDARD
TZOFFSETFROM:-1000
TZOFFSETTO:-1000
TZNAME:HST
DTSTART:20240101T000000
END:STANDARD
END:VTIMEZONE
BEGIN:VEVENT
DTSTART;TZID=Pacific/Honolulu:20250616T190000
DTEND;TZID=Pacific/Honolulu:20250616T193000
DTSTAMP:20260423T234219
CREATED:20250522T043807Z
LAST-MODIFIED:20250522T180708Z
UID:4821-1750100400-1750102200@aksihawaii.org
SUMMARY:Gospel According to Spiritism (In Portuguese)
DESCRIPTION:
URL:https://aksihawaii.org/event/gospel-according-to-spiritism-in-portuguese-8/
LOCATION:Heritage Hall\, 401 Baldwin Ave\, Paia\, HI\, 96779\, United States
END:VEVENT
BEGIN:VEVENT
DTSTART;TZID=Pacific/Honolulu:20250616T193000
DTEND;TZID=Pacific/Honolulu:20250616T194500
DTSTAMP:20260423T234219
CREATED:20250522T044251Z
LAST-MODIFIED:20250522T044251Z
UID:4833-1750102200-1750103100@aksihawaii.org
SUMMARY:Therapeutic Passes
DESCRIPTION:
URL:https://aksihawaii.org/event/therapeutic-passes-8/
END:VEVENT
BEGIN:VEVENT
DTSTART;TZID=Pacific/Honolulu:20250616T200000
DTEND;TZID=Pacific/Honolulu:20250616T203000
DTSTAMP:20260423T234219
CREATED:20250522T042813Z
LAST-MODIFIED:20250617T165415Z
UID:4811-1750104000-1750105800@aksihawaii.org
SUMMARY:Study of the” Acts of the Apostles” (In Portuguese)
DESCRIPTION:CHAPTER 1: THE REPLACEMENT OF JUDAS (1:12-21) \n 
URL:https://aksihawaii.org/event/study-of-the-acts-of-the-apostles-in-portuguese-4/
END:VEVENT
END:VCALENDAR