BEGIN:VCALENDAR
VERSION:2.0
PRODID:-//Allan Kardec Spiritist Institute - ECPv6.15.20//NONSGML v1.0//EN
CALSCALE:GREGORIAN
METHOD:PUBLISH
X-ORIGINAL-URL:https://aksihawaii.org
X-WR-CALDESC:Events for Allan Kardec Spiritist Institute
REFRESH-INTERVAL;VALUE=DURATION:PT1H
X-Robots-Tag:noindex
X-PUBLISHED-TTL:PT1H
BEGIN:VTIMEZONE
TZID:Pacific/Honolulu
BEGIN:STANDARD
TZOFFSETFROM:-1000
TZOFFSETTO:-1000
TZNAME:HST
DTSTART:20240101T000000
END:STANDARD
END:VTIMEZONE
BEGIN:VEVENT
DTSTART;TZID=Pacific/Honolulu:20250628T170000
DTEND;TZID=Pacific/Honolulu:20250628T213000
DTSTAMP:20260423T234220
CREATED:20250522T045228Z
LAST-MODIFIED:20250522T180605Z
UID:4843-1751130000-1751146200@aksihawaii.org
SUMMARY:FESTA NO ARRAIAL
DESCRIPTION:Fourth  year celebrating our fundraising Festa no Arraial!
URL:https://aksihawaii.org/event/festa-no-arraial-2/
LOCATION:Heritage Hall\, 401 Baldwin Ave\, Paia\, HI\, 96779\, United States
END:VEVENT
END:VCALENDAR