BEGIN:VCALENDAR
VERSION:2.0
PRODID:-//Allan Kardec Spiritist Institute - ECPv6.15.20//NONSGML v1.0//EN
CALSCALE:GREGORIAN
METHOD:PUBLISH
X-ORIGINAL-URL:https://aksihawaii.org
X-WR-CALDESC:Events for Allan Kardec Spiritist Institute
REFRESH-INTERVAL;VALUE=DURATION:PT1H
X-Robots-Tag:noindex
X-PUBLISHED-TTL:PT1H
BEGIN:VTIMEZONE
TZID:Pacific/Honolulu
BEGIN:STANDARD
TZOFFSETFROM:-1000
TZOFFSETTO:-1000
TZNAME:HST
DTSTART:20240101T000000
END:STANDARD
END:VTIMEZONE
BEGIN:VEVENT
DTSTART;TZID=Pacific/Honolulu:20250728T190000
DTEND;TZID=Pacific/Honolulu:20250728T193000
DTSTAMP:20260423T203227
CREATED:20250522T174131Z
LAST-MODIFIED:20250522T180346Z
UID:4871-1753729200-1753731000@aksihawaii.org
SUMMARY:Gospel According to Spiritism (In Portuguese)
DESCRIPTION:
URL:https://aksihawaii.org/event/gospel-according-to-spiritism-in-portuguese-15/
LOCATION:Heritage Hall\, 401 Baldwin Ave\, Paia\, HI\, 96779\, United States
END:VEVENT
BEGIN:VEVENT
DTSTART;TZID=Pacific/Honolulu:20250728T193000
DTEND;TZID=Pacific/Honolulu:20250728T194500
DTSTAMP:20260423T203227
CREATED:20250522T173916Z
LAST-MODIFIED:20250522T180208Z
UID:4863-1753731000-1753731900@aksihawaii.org
SUMMARY:Therapeutic Passes
DESCRIPTION:
URL:https://aksihawaii.org/event/therapeutic-passes-14/
END:VEVENT
BEGIN:VEVENT
DTSTART;TZID=Pacific/Honolulu:20250728T200000
DTEND;TZID=Pacific/Honolulu:20250728T203000
DTSTAMP:20260423T203227
CREATED:20250522T175246Z
LAST-MODIFIED:20250831T230829Z
UID:4879-1753732800-1753734600@aksihawaii.org
SUMMARY:Study of the” Acts of the Apostles” (In Portuguese)
DESCRIPTION:
URL:https://aksihawaii.org/event/study-of-the-acts-of-the-apostles-in-portuguese-9/
END:VEVENT
END:VCALENDAR