BEGIN:VCALENDAR
VERSION:2.0
PRODID:-//Allan Kardec Spiritist Institute - ECPv6.15.20//NONSGML v1.0//EN
CALSCALE:GREGORIAN
METHOD:PUBLISH
X-ORIGINAL-URL:https://aksihawaii.org
X-WR-CALDESC:Events for Allan Kardec Spiritist Institute
REFRESH-INTERVAL;VALUE=DURATION:PT1H
X-Robots-Tag:noindex
X-PUBLISHED-TTL:PT1H
BEGIN:VTIMEZONE
TZID:Pacific/Honolulu
BEGIN:STANDARD
TZOFFSETFROM:-1000
TZOFFSETTO:-1000
TZNAME:HST
DTSTART:20240101T000000
END:STANDARD
END:VTIMEZONE
BEGIN:VEVENT
DTSTART;TZID=Pacific/Honolulu:20250908T190000
DTEND;TZID=Pacific/Honolulu:20250908T203000
DTSTAMP:20260423T190244
CREATED:20250831T211527Z
LAST-MODIFIED:20250831T231359Z
UID:4924-1757358000-1757363400@aksihawaii.org
SUMMARY:MEMBERS MEETING
DESCRIPTION:NO CLASS \, MONDAY ACTIVITIES WILL RESUME ON SEPTEMBER 15TH.
URL:https://aksihawaii.org/event/members-meeting-no-class/
END:VEVENT
END:VCALENDAR