BEGIN:VCALENDAR
VERSION:2.0
PRODID:-//Allan Kardec Spiritist Institute - ECPv6.15.20//NONSGML v1.0//EN
CALSCALE:GREGORIAN
METHOD:PUBLISH
X-ORIGINAL-URL:https://aksihawaii.org
X-WR-CALDESC:Events for Allan Kardec Spiritist Institute
REFRESH-INTERVAL;VALUE=DURATION:PT1H
X-Robots-Tag:noindex
X-PUBLISHED-TTL:PT1H
BEGIN:VTIMEZONE
TZID:Pacific/Honolulu
BEGIN:STANDARD
TZOFFSETFROM:-1000
TZOFFSETTO:-1000
TZNAME:HST
DTSTART:20240101T000000
END:STANDARD
END:VTIMEZONE
BEGIN:VEVENT
DTSTART;TZID=Pacific/Honolulu:20250929T190000
DTEND;TZID=Pacific/Honolulu:20250929T193000
DTSTAMP:20260423T172113
CREATED:20250831T221131Z
LAST-MODIFIED:20250831T221332Z
UID:4963-1759172400-1759174200@aksihawaii.org
SUMMARY:Gospel According to Spiritism (In Portuguese)
DESCRIPTION:
URL:https://aksihawaii.org/event/gospel-according-to-spiritism-in-portuguese-16/
END:VEVENT
BEGIN:VEVENT
DTSTART;TZID=Pacific/Honolulu:20250929T193000
DTEND;TZID=Pacific/Honolulu:20250929T194500
DTSTAMP:20260423T172113
CREATED:20250831T223654Z
LAST-MODIFIED:20250831T223654Z
UID:4995-1759174200-1759175100@aksihawaii.org
SUMMARY:Therapeutic Passes
DESCRIPTION:
URL:https://aksihawaii.org/event/therapeutic-passes-18/
END:VEVENT
BEGIN:VEVENT
DTSTART;TZID=Pacific/Honolulu:20250929T200000
DTEND;TZID=Pacific/Honolulu:20250929T203000
DTSTAMP:20260423T172113
CREATED:20250831T211425Z
LAST-MODIFIED:20250912T231932Z
UID:4922-1759176000-1759177800@aksihawaii.org
SUMMARY:Study of the” Acts of the Apostles” (In Portuguese)
DESCRIPTION:CHAPTER 4: PRAYER OF APOSTLES IN PERSECUTION (4:23-31) \n  \n 
URL:https://aksihawaii.org/event/study-of-the-acts-of-the-apostles-in-portuguese-14/
END:VEVENT
END:VCALENDAR