BEGIN:VCALENDAR
VERSION:2.0
PRODID:-//Allan Kardec Spiritist Institute - ECPv6.15.20//NONSGML v1.0//EN
CALSCALE:GREGORIAN
METHOD:PUBLISH
X-ORIGINAL-URL:https://aksihawaii.org
X-WR-CALDESC:Events for Allan Kardec Spiritist Institute
REFRESH-INTERVAL;VALUE=DURATION:PT1H
X-Robots-Tag:noindex
X-PUBLISHED-TTL:PT1H
BEGIN:VTIMEZONE
TZID:Pacific/Honolulu
BEGIN:STANDARD
TZOFFSETFROM:-1000
TZOFFSETTO:-1000
TZNAME:HST
DTSTART:20240101T000000
END:STANDARD
END:VTIMEZONE
BEGIN:VEVENT
DTSTART;TZID=Pacific/Honolulu:20251006T190000
DTEND;TZID=Pacific/Honolulu:20251006T193000
DTSTAMP:20260423T172737
CREATED:20250831T221440Z
LAST-MODIFIED:20250831T221440Z
UID:4969-1759777200-1759779000@aksihawaii.org
SUMMARY:Gospel According to Spiritism (In Portuguese)
DESCRIPTION:
URL:https://aksihawaii.org/event/gospel-according-to-spiritism-in-portuguese-19/
END:VEVENT
BEGIN:VEVENT
DTSTART;TZID=Pacific/Honolulu:20251006T193000
DTEND;TZID=Pacific/Honolulu:20251006T194500
DTSTAMP:20260423T172737
CREATED:20250831T223755Z
LAST-MODIFIED:20250831T223755Z
UID:4997-1759779000-1759779900@aksihawaii.org
SUMMARY:Therapeutic Passes
DESCRIPTION:
URL:https://aksihawaii.org/event/therapeutic-passes-19/
END:VEVENT
BEGIN:VEVENT
DTSTART;TZID=Pacific/Honolulu:20251006T200000
DTEND;TZID=Pacific/Honolulu:20251006T203000
DTSTAMP:20260423T172737
CREATED:20250831T211756Z
LAST-MODIFIED:20250912T231827Z
UID:4926-1759780800-1759782600@aksihawaii.org
SUMMARY:Study of the” Acts of the Apostles” (In Portuguese)
DESCRIPTION:CHAPTER 4 : THE FIRST CHRISTIAN COMMUNITY (4:32-35) \n 
URL:https://aksihawaii.org/event/study-of-the-acts-of-the-apostles-in-portuguese-15/
END:VEVENT
END:VCALENDAR