BEGIN:VCALENDAR
VERSION:2.0
PRODID:-//Allan Kardec Spiritist Institute - ECPv6.15.20//NONSGML v1.0//EN
CALSCALE:GREGORIAN
METHOD:PUBLISH
X-ORIGINAL-URL:https://aksihawaii.org
X-WR-CALDESC:Events for Allan Kardec Spiritist Institute
REFRESH-INTERVAL;VALUE=DURATION:PT1H
X-Robots-Tag:noindex
X-PUBLISHED-TTL:PT1H
BEGIN:VTIMEZONE
TZID:Pacific/Honolulu
BEGIN:STANDARD
TZOFFSETFROM:-1000
TZOFFSETTO:-1000
TZNAME:HST
DTSTART:20240101T000000
END:STANDARD
END:VTIMEZONE
BEGIN:VEVENT
DTSTART;TZID=Pacific/Honolulu:20251110T190000
DTEND;TZID=Pacific/Honolulu:20251110T193000
DTSTAMP:20260423T155929
CREATED:20250831T221852Z
LAST-MODIFIED:20250831T221852Z
UID:4979-1762801200-1762803000@aksihawaii.org
SUMMARY:Gospel According to Spiritism (In Portuguese)
DESCRIPTION:
URL:https://aksihawaii.org/event/gospel-according-to-spiritism-in-portuguese-24/
END:VEVENT
BEGIN:VEVENT
DTSTART;TZID=Pacific/Honolulu:20251110T193000
DTEND;TZID=Pacific/Honolulu:20251110T194500
DTSTAMP:20260423T155929
CREATED:20250831T224107Z
LAST-MODIFIED:20250831T224107Z
UID:5007-1762803000-1762803900@aksihawaii.org
SUMMARY:Therapeutic Passes
DESCRIPTION:
URL:https://aksihawaii.org/event/therapeutic-passes-24/
END:VEVENT
BEGIN:VEVENT
DTSTART;TZID=Pacific/Honolulu:20251110T200000
DTEND;TZID=Pacific/Honolulu:20251110T203000
DTSTAMP:20260423T155929
CREATED:20250831T213509Z
LAST-MODIFIED:20250912T232456Z
UID:4936-1762804800-1762806600@aksihawaii.org
SUMMARY:Study of the” Acts of the Apostles” (In Portuguese)
DESCRIPTION:CHAPTER 5: SIGNS AND WONDERS BY THE APOSTLES (5:12-16)
URL:https://aksihawaii.org/event/study-of-the-acts-of-the-apostles-in-portuguese-20/
END:VEVENT
END:VCALENDAR