BEGIN:VCALENDAR
VERSION:2.0
PRODID:-//Allan Kardec Spiritist Institute - ECPv6.15.20//NONSGML v1.0//EN
CALSCALE:GREGORIAN
METHOD:PUBLISH
X-WR-CALNAME:Allan Kardec Spiritist Institute
X-ORIGINAL-URL:https://aksihawaii.org
X-WR-CALDESC:Events for Allan Kardec Spiritist Institute
REFRESH-INTERVAL;VALUE=DURATION:PT1H
X-Robots-Tag:noindex
X-PUBLISHED-TTL:PT1H
BEGIN:VTIMEZONE
TZID:Pacific/Honolulu
BEGIN:STANDARD
TZOFFSETFROM:-1000
TZOFFSETTO:-1000
TZNAME:HST
DTSTART:20240101T000000
END:STANDARD
END:VTIMEZONE
BEGIN:VEVENT
DTSTART;TZID=Pacific/Honolulu:20251124T190000
DTEND;TZID=Pacific/Honolulu:20251124T193000
DTSTAMP:20260423T155755
CREATED:20250831T221955Z
LAST-MODIFIED:20250831T221955Z
UID:4983-1764010800-1764012600@aksihawaii.org
SUMMARY:Gospel According to Spiritism (In Portuguese)
DESCRIPTION:
URL:https://aksihawaii.org/event/gospel-according-to-spiritism-in-portuguese-26/
END:VEVENT
BEGIN:VEVENT
DTSTART;TZID=Pacific/Honolulu:20251124T193000
DTEND;TZID=Pacific/Honolulu:20251124T194500
DTSTAMP:20260423T155755
CREATED:20250831T224222Z
LAST-MODIFIED:20250831T224222Z
UID:5011-1764012600-1764013500@aksihawaii.org
SUMMARY:Therapeutic Passes
DESCRIPTION:
URL:https://aksihawaii.org/event/therapeutic-passes-26/
END:VEVENT
BEGIN:VEVENT
DTSTART;TZID=Pacific/Honolulu:20251124T200000
DTEND;TZID=Pacific/Honolulu:20251124T203000
DTSTAMP:20260423T155755
CREATED:20250831T213926Z
LAST-MODIFIED:20250912T233010Z
UID:4940-1764014400-1764016200@aksihawaii.org
SUMMARY:Study of the” Acts of the Apostles” (In Portuguese)
DESCRIPTION:CHAPTER 5: THE APOSTLES BEFORE THE SANHEDRIN (5:17-42)
URL:https://aksihawaii.org/event/study-of-the-acts-of-the-apostles-in-portuguese-22/
END:VEVENT
END:VCALENDAR