BEGIN:VCALENDAR
VERSION:2.0
PRODID:-//Allan Kardec Spiritist Institute - ECPv6.15.20//NONSGML v1.0//EN
CALSCALE:GREGORIAN
METHOD:PUBLISH
X-ORIGINAL-URL:https://aksihawaii.org
X-WR-CALDESC:Events for Allan Kardec Spiritist Institute
REFRESH-INTERVAL;VALUE=DURATION:PT1H
X-Robots-Tag:noindex
X-PUBLISHED-TTL:PT1H
BEGIN:VTIMEZONE
TZID:Pacific/Honolulu
BEGIN:STANDARD
TZOFFSETFROM:-1000
TZOFFSETTO:-1000
TZNAME:HST
DTSTART:20240101T000000
END:STANDARD
END:VTIMEZONE
BEGIN:VEVENT
DTSTART;TZID=Pacific/Honolulu:20251126T193000
DTEND;TZID=Pacific/Honolulu:20251126T203000
DTSTAMP:20260423T155944
CREATED:20250831T225652Z
LAST-MODIFIED:20250831T225652Z
UID:5049-1764185400-1764189000@aksihawaii.org
SUMMARY:Gospel According to Spiritism and The Spirits’ Book Study (In English)
DESCRIPTION:Meeting via ZOOM Meeting ID: 97580261745 Password: 966092
URL:https://aksihawaii.org/event/gospel-according-to-spiritism-and-the-spirits-book-study-in-english-29/
END:VEVENT
END:VCALENDAR