BEGIN:VCALENDAR
VERSION:2.0
PRODID:-//Allan Kardec Spiritist Institute - ECPv6.15.20//NONSGML v1.0//EN
CALSCALE:GREGORIAN
METHOD:PUBLISH
X-ORIGINAL-URL:https://aksihawaii.org
X-WR-CALDESC:Events for Allan Kardec Spiritist Institute
REFRESH-INTERVAL;VALUE=DURATION:PT1H
X-Robots-Tag:noindex
X-PUBLISHED-TTL:PT1H
BEGIN:VTIMEZONE
TZID:Pacific/Honolulu
BEGIN:STANDARD
TZOFFSETFROM:-1000
TZOFFSETTO:-1000
TZNAME:HST
DTSTART:20240101T000000
END:STANDARD
END:VTIMEZONE
BEGIN:VEVENT
DTSTART;TZID=Pacific/Honolulu:20251129T090000
DTEND;TZID=Pacific/Honolulu:20251129T100000
DTSTAMP:20260423T155923
CREATED:20250901T011157Z
LAST-MODIFIED:20250901T012250Z
UID:5094-1764406800-1764410400@aksihawaii.org
SUMMARY:THANKSGIVING WEEKEND (NO CLASS)
DESCRIPTION:
URL:https://aksihawaii.org/event/thanksgiving-weekend-no-class/
END:VEVENT
END:VCALENDAR