BEGIN:VCALENDAR
VERSION:2.0
PRODID:-//Allan Kardec Spiritist Institute - ECPv6.15.20//NONSGML v1.0//EN
CALSCALE:GREGORIAN
METHOD:PUBLISH
X-WR-CALNAME:Allan Kardec Spiritist Institute
X-ORIGINAL-URL:https://aksihawaii.org
X-WR-CALDESC:Events for Allan Kardec Spiritist Institute
REFRESH-INTERVAL;VALUE=DURATION:PT1H
X-Robots-Tag:noindex
X-PUBLISHED-TTL:PT1H
BEGIN:VTIMEZONE
TZID:Pacific/Honolulu
BEGIN:STANDARD
TZOFFSETFROM:-1000
TZOFFSETTO:-1000
TZNAME:HST
DTSTART:20240101T000000
END:STANDARD
END:VTIMEZONE
BEGIN:VEVENT
DTSTART;TZID=Pacific/Honolulu:20251208T190000
DTEND;TZID=Pacific/Honolulu:20251208T193000
DTSTAMP:20260423T143345
CREATED:20250831T222558Z
LAST-MODIFIED:20250831T222558Z
UID:4987-1765220400-1765222200@aksihawaii.org
SUMMARY:Gospel According to Spiritism (In Portuguese)
DESCRIPTION:
URL:https://aksihawaii.org/event/gospel-according-to-spiritism-in-portuguese-28/
END:VEVENT
BEGIN:VEVENT
DTSTART;TZID=Pacific/Honolulu:20251208T193000
DTEND;TZID=Pacific/Honolulu:20251208T194500
DTSTAMP:20260423T143345
CREATED:20250831T224321Z
LAST-MODIFIED:20250831T224321Z
UID:5015-1765222200-1765223100@aksihawaii.org
SUMMARY:Therapeutic Passes
DESCRIPTION:
URL:https://aksihawaii.org/event/therapeutic-passes-28/
END:VEVENT
BEGIN:VEVENT
DTSTART;TZID=Pacific/Honolulu:20251208T200000
DTEND;TZID=Pacific/Honolulu:20251208T203000
DTSTAMP:20260423T143345
CREATED:20250831T214403Z
LAST-MODIFIED:20250912T233116Z
UID:4944-1765224000-1765225800@aksihawaii.org
SUMMARY:Study of the” Acts of the Apostles” (In Portuguese)
DESCRIPTION:CHAPTER 6: THE SEVEN CHOSEN TO HELP THE APOSTLES (6:1-7)
URL:https://aksihawaii.org/event/study-of-the-acts-of-the-apostles-in-portuguese-24/
END:VEVENT
END:VCALENDAR