BEGIN:VCALENDAR
VERSION:2.0
PRODID:-//Allan Kardec Spiritist Institute - ECPv6.15.20//NONSGML v1.0//EN
CALSCALE:GREGORIAN
METHOD:PUBLISH
X-WR-CALNAME:Allan Kardec Spiritist Institute
X-ORIGINAL-URL:https://aksihawaii.org
X-WR-CALDESC:Events for Allan Kardec Spiritist Institute
REFRESH-INTERVAL;VALUE=DURATION:PT1H
X-Robots-Tag:noindex
X-PUBLISHED-TTL:PT1H
BEGIN:VTIMEZONE
TZID:Pacific/Honolulu
BEGIN:STANDARD
TZOFFSETFROM:-1000
TZOFFSETTO:-1000
TZNAME:HST
DTSTART:20240101T000000
END:STANDARD
END:VTIMEZONE
BEGIN:VEVENT
DTSTART;TZID=Pacific/Honolulu:20251213T090000
DTEND;TZID=Pacific/Honolulu:20251213T100000
DTSTAMP:20260423T143441
CREATED:20250901T010943Z
LAST-MODIFIED:20250901T012124Z
UID:5089-1765616400-1765620000@aksihawaii.org
SUMMARY:SPIRITIST EDUCATION (SCHOOL OF VIRTUES)
DESCRIPTION:FOR KIDS\, PRE-TEENS\, AND TEENS \nLESSON 16: FRIENDSHIP EVERYWHERE
URL:https://aksihawaii.org/event/spiritist-education-school-of-virtues-13/
END:VEVENT
END:VCALENDAR