BEGIN:VCALENDAR
VERSION:2.0
PRODID:-//Allan Kardec Spiritist Institute - ECPv6.15.20//NONSGML v1.0//EN
CALSCALE:GREGORIAN
METHOD:PUBLISH
X-WR-CALNAME:Allan Kardec Spiritist Institute
X-ORIGINAL-URL:https://aksihawaii.org
X-WR-CALDESC:Events for Allan Kardec Spiritist Institute
REFRESH-INTERVAL;VALUE=DURATION:PT1H
X-Robots-Tag:noindex
X-PUBLISHED-TTL:PT1H
BEGIN:VTIMEZONE
TZID:Pacific/Honolulu
BEGIN:STANDARD
TZOFFSETFROM:-1000
TZOFFSETTO:-1000
TZNAME:HST
DTSTART:20240101T000000
END:STANDARD
END:VTIMEZONE
BEGIN:VEVENT
DTSTART;TZID=Pacific/Honolulu:20251215T190000
DTEND;TZID=Pacific/Honolulu:20251215T193000
DTSTAMP:20260423T143453
CREATED:20250831T222628Z
LAST-MODIFIED:20250831T222628Z
UID:4989-1765825200-1765827000@aksihawaii.org
SUMMARY:Gospel According to Spiritism (In Portuguese)
DESCRIPTION:
URL:https://aksihawaii.org/event/gospel-according-to-spiritism-in-portuguese-29/
END:VEVENT
BEGIN:VEVENT
DTSTART;TZID=Pacific/Honolulu:20251215T193000
DTEND;TZID=Pacific/Honolulu:20251215T194500
DTSTAMP:20260423T143453
CREATED:20250831T224350Z
LAST-MODIFIED:20250831T224350Z
UID:5017-1765827000-1765827900@aksihawaii.org
SUMMARY:Therapeutic Passes
DESCRIPTION:
URL:https://aksihawaii.org/event/therapeutic-passes-29/
END:VEVENT
BEGIN:VEVENT
DTSTART;TZID=Pacific/Honolulu:20251215T200000
DTEND;TZID=Pacific/Honolulu:20251215T203000
DTSTAMP:20260423T143453
CREATED:20250831T214641Z
LAST-MODIFIED:20250912T233230Z
UID:4946-1765828800-1765830600@aksihawaii.org
SUMMARY:Study of the” Acts of the Apostles” (In Portuguese)
DESCRIPTION:CHAPTER 6: THE ARREST OF STEPHEN (6:8-15)
URL:https://aksihawaii.org/event/study-of-the-acts-of-the-apostles-in-portuguese-25/
END:VEVENT
END:VCALENDAR