BEGIN:VCALENDAR
VERSION:2.0
PRODID:-//Allan Kardec Spiritist Institute - ECPv6.15.20//NONSGML v1.0//EN
CALSCALE:GREGORIAN
METHOD:PUBLISH
X-WR-CALNAME:Allan Kardec Spiritist Institute
X-ORIGINAL-URL:https://aksihawaii.org
X-WR-CALDESC:Events for Allan Kardec Spiritist Institute
REFRESH-INTERVAL;VALUE=DURATION:PT1H
X-Robots-Tag:noindex
X-PUBLISHED-TTL:PT1H
BEGIN:VTIMEZONE
TZID:Pacific/Honolulu
BEGIN:STANDARD
TZOFFSETFROM:-1000
TZOFFSETTO:-1000
TZNAME:HST
DTSTART:20240101T000000
END:STANDARD
END:VTIMEZONE
BEGIN:VEVENT
DTSTART;TZID=Pacific/Honolulu:20251217T193000
DTEND;TZID=Pacific/Honolulu:20251217T203000
DTSTAMP:20260423T143345
CREATED:20250831T225439Z
LAST-MODIFIED:20250831T225439Z
UID:5047-1765999800-1766003400@aksihawaii.org
SUMMARY:Gospel According to Spiritism and The Spirits’ Book Study (In English)
DESCRIPTION:Meeting via ZOOM Meeting ID: 97580261745 Password: 966092
URL:https://aksihawaii.org/event/gospel-according-to-spiritism-and-the-spirits-book-study-in-english-28/
END:VEVENT
END:VCALENDAR