BEGIN:VCALENDAR
VERSION:2.0
PRODID:-//Allan Kardec Spiritist Institute - ECPv6.15.20//NONSGML v1.0//EN
CALSCALE:GREGORIAN
METHOD:PUBLISH
X-WR-CALNAME:Allan Kardec Spiritist Institute
X-ORIGINAL-URL:https://aksihawaii.org
X-WR-CALDESC:Events for Allan Kardec Spiritist Institute
REFRESH-INTERVAL;VALUE=DURATION:PT1H
X-Robots-Tag:noindex
X-PUBLISHED-TTL:PT1H
BEGIN:VTIMEZONE
TZID:Pacific/Honolulu
BEGIN:STANDARD
TZOFFSETFROM:-1000
TZOFFSETTO:-1000
TZNAME:HST
DTSTART:20240101T000000
END:STANDARD
END:VTIMEZONE
BEGIN:VEVENT
DTSTART;VALUE=DATE:20251220
DTEND;VALUE=DATE:20251221
DTSTAMP:20260423T143441
CREATED:20250831T230242Z
LAST-MODIFIED:20250831T230307Z
UID:5056-1766188800-1766275199@aksihawaii.org
SUMMARY:AKSI CHRISTMAS COMMUNITY SERVICE EVENT
DESCRIPTION:
URL:https://aksihawaii.org/event/christmas-community-service-event/
END:VEVENT
BEGIN:VEVENT
DTSTART;TZID=Pacific/Honolulu:20251220T090000
DTEND;TZID=Pacific/Honolulu:20251220T100000
DTSTAMP:20260423T143441
CREATED:20250901T011046Z
LAST-MODIFIED:20250901T012107Z
UID:5091-1766221200-1766224800@aksihawaii.org
SUMMARY:SPIRITIST EDUCATION (SCHOOL OF VIRTUES)
DESCRIPTION:FOR KIDS\, PRE-TEENS\, AND TEENS \nLESSON 17- JESUS’ BIRTH AND CHILDHOOD/CHRISTMAS IS HERE
URL:https://aksihawaii.org/event/5091/
END:VEVENT
END:VCALENDAR