BEGIN:VCALENDAR
VERSION:2.0
PRODID:-//Allan Kardec Spiritist Institute - ECPv6.15.20//NONSGML v1.0//EN
CALSCALE:GREGORIAN
METHOD:PUBLISH
X-WR-CALNAME:Allan Kardec Spiritist Institute
X-ORIGINAL-URL:https://aksihawaii.org
X-WR-CALDESC:Events for Allan Kardec Spiritist Institute
REFRESH-INTERVAL;VALUE=DURATION:PT1H
X-Robots-Tag:noindex
X-PUBLISHED-TTL:PT1H
BEGIN:VTIMEZONE
TZID:Pacific/Honolulu
BEGIN:STANDARD
TZOFFSETFROM:-1000
TZOFFSETTO:-1000
TZNAME:HST
DTSTART:20250101T000000
END:STANDARD
END:VTIMEZONE
BEGIN:VEVENT
DTSTART;TZID=Pacific/Honolulu:20260119T200000
DTEND;TZID=Pacific/Honolulu:20260119T203000
DTSTAMP:20260423T125807
CREATED:20250831T215435Z
LAST-MODIFIED:20250831T215435Z
UID:4952-1768852800-1768854600@aksihawaii.org
SUMMARY:Study of the” Acts of the Apostles” (In Portuguese)
DESCRIPTION:CHAPTER 9: PETER’S HEALING IN LYDDA AND JOPPA (9:32-43)
URL:https://aksihawaii.org/event/study-of-the-acts-of-the-apostles-in-portuguese-28/
END:VEVENT
END:VCALENDAR