BEGIN:VCALENDAR
VERSION:2.0
PRODID:-//Allan Kardec Spiritist Institute - ECPv6.15.20//NONSGML v1.0//EN
CALSCALE:GREGORIAN
METHOD:PUBLISH
X-WR-CALNAME:Allan Kardec Spiritist Institute
X-ORIGINAL-URL:https://aksihawaii.org
X-WR-CALDESC:Events for Allan Kardec Spiritist Institute
REFRESH-INTERVAL;VALUE=DURATION:PT1H
X-Robots-Tag:noindex
X-PUBLISHED-TTL:PT1H
BEGIN:VTIMEZONE
TZID:Pacific/Honolulu
BEGIN:STANDARD
TZOFFSETFROM:-1000
TZOFFSETTO:-1000
TZNAME:HST
DTSTART:20250101T000000
END:STANDARD
END:VTIMEZONE
BEGIN:VEVENT
DTSTART;TZID=Pacific/Honolulu:20260627T100000
DTEND;TZID=Pacific/Honolulu:20260627T120000
DTSTAMP:20260423T110601
CREATED:20250901T052217Z
LAST-MODIFIED:20250901T052217Z
UID:5131-1782554400-1782561600@aksihawaii.org
SUMMARY:FESTA NO ARRAIAL VOLUNTEERS MEETING
DESCRIPTION:
URL:https://aksihawaii.org/event/festa-no-arraial-volunteers-meeting/
END:VEVENT
END:VCALENDAR