BEGIN:VCALENDAR
VERSION:2.0
PRODID:-//Allan Kardec Spiritist Institute - ECPv6.15.20//NONSGML v1.0//EN
CALSCALE:GREGORIAN
METHOD:PUBLISH
X-WR-CALNAME:Allan Kardec Spiritist Institute
X-ORIGINAL-URL:https://aksihawaii.org
X-WR-CALDESC:Events for Allan Kardec Spiritist Institute
REFRESH-INTERVAL;VALUE=DURATION:PT1H
X-Robots-Tag:noindex
X-PUBLISHED-TTL:PT1H
BEGIN:VTIMEZONE
TZID:Pacific/Honolulu
BEGIN:STANDARD
TZOFFSETFROM:-1000
TZOFFSETTO:-1000
TZNAME:HST
DTSTART:20180101T000000
END:STANDARD
END:VTIMEZONE
BEGIN:VEVENT
DTSTART;TZID=Pacific/Honolulu:20190718T183000
DTEND;TZID=Pacific/Honolulu:20190718T200000
DTSTAMP:20260425T055151
CREATED:20190708T220856Z
LAST-MODIFIED:20190712T183944Z
UID:4356-1563474600-1563480000@aksihawaii.org
SUMMARY:A VIDA NO MUNDO ESPIRITUAL: LIVRO NOSSO LAR
DESCRIPTION:Capítulos 49-50 (Regressando a Casa\, Cidadão de “Nosso Lar”)\nExpositores: Paulo e Gabi
URL:https://aksihawaii.org/event/a-vida-no-mundo-espiritual-livro-nosso-lar-19/
END:VEVENT
BEGIN:VEVENT
DTSTART;TZID=Pacific/Honolulu:20190714T090000
DTEND;TZID=Pacific/Honolulu:20190714T100000
DTSTAMP:20260425T055151
CREATED:20190702T195747Z
LAST-MODIFIED:20190702T195747Z
UID:4350-1563094800-1563098400@aksihawaii.org
SUMMARY:SPIRITIST CHILDREN EDUCATION
DESCRIPTION:SUMMER BREAK
URL:https://aksihawaii.org/event/spiritist-children-education-38/
END:VEVENT
BEGIN:VEVENT
DTSTART;TZID=Pacific/Honolulu:20190714T090000
DTEND;TZID=Pacific/Honolulu:20190714T100000
DTSTAMP:20260425T055151
CREATED:20190702T195025Z
LAST-MODIFIED:20190712T183646Z
UID:4340-1563094800-1563098400@aksihawaii.org
SUMMARY:PUBLIC LECTURE - CANCELED
DESCRIPTION:
URL:https://aksihawaii.org/event/public-lecture-45/
END:VEVENT
BEGIN:VEVENT
DTSTART;TZID=Pacific/Honolulu:20190711T183000
DTEND;TZID=Pacific/Honolulu:20190711T200000
DTSTAMP:20260425T055151
CREATED:20190702T195519Z
LAST-MODIFIED:20190712T185336Z
UID:4346-1562869800-1562875200@aksihawaii.org
SUMMARY:A VIDA NO MUNDO ESPIRITUAL: LIVRO NOSSO LAR
DESCRIPTION:
URL:https://aksihawaii.org/event/a-vida-no-mundo-espiritual-livro-nosso-lar-18/
END:VEVENT
BEGIN:VEVENT
DTSTART;TZID=Pacific/Honolulu:20190707T090000
DTEND;TZID=Pacific/Honolulu:20190707T100000
DTSTAMP:20260425T055151
CREATED:20190702T195704Z
LAST-MODIFIED:20190702T195704Z
UID:4348-1562490000-1562493600@aksihawaii.org
SUMMARY:SPIRITIST CHILDREN EDUCATION
DESCRIPTION:SUMMER BREAK
URL:https://aksihawaii.org/event/spiritist-children-education-37/
END:VEVENT
BEGIN:VEVENT
DTSTART;TZID=Pacific/Honolulu:20190707T090000
DTEND;TZID=Pacific/Honolulu:20190707T100000
DTSTAMP:20260425T055151
CREATED:20190702T194854Z
LAST-MODIFIED:20190702T194854Z
UID:4338-1562490000-1562493600@aksihawaii.org
SUMMARY:PUBLIC LECTURE
DESCRIPTION:Chapter 13. – DO NOT LET YOUR LEFT HAND KNOW WHAT YOUR RIGHT HAND IS DOING: Item 9-10 – Instructions from the Spirits: Material and moral charity\nGeronimo (IN ENGLISH)
URL:https://aksihawaii.org/event/public-lecture-44/
END:VEVENT
BEGIN:VEVENT
DTSTART;TZID=Pacific/Honolulu:20190704T183000
DTEND;TZID=Pacific/Honolulu:20190704T200000
DTSTAMP:20260425T055151
CREATED:20190506T231719Z
LAST-MODIFIED:20190712T185306Z
UID:4302-1562265000-1562270400@aksihawaii.org
SUMMARY:A VIDA NO MUNDO ESPIRITUAL: LIVRO NOSSO LAR
DESCRIPTION:
URL:https://aksihawaii.org/event/a-vida-no-mundo-espiritual-livro-nosso-lar-17/
END:VEVENT
BEGIN:VEVENT
DTSTART;TZID=Pacific/Honolulu:20190630T090000
DTEND;TZID=Pacific/Honolulu:20190630T100000
DTSTAMP:20260425T055151
CREATED:20190527T074114Z
LAST-MODIFIED:20190527T074114Z
UID:4326-1561885200-1561888800@aksihawaii.org
SUMMARY:SPIRITIST CHILDREN EDUCATION
DESCRIPTION:SUMMER BREAK
URL:https://aksihawaii.org/event/spiritist-children-education-36/
END:VEVENT
BEGIN:VEVENT
DTSTART;TZID=Pacific/Honolulu:20190630T090000
DTEND;TZID=Pacific/Honolulu:20190630T100000
DTSTAMP:20260425T055151
CREATED:20190527T070645Z
LAST-MODIFIED:20190527T073417Z
UID:4314-1561885200-1561888800@aksihawaii.org
SUMMARY:PUBLIC LECTURE
DESCRIPTION:Prayer\nPaulo (IN PORTUGUESE)
URL:https://aksihawaii.org/event/public-lecture-43/
END:VEVENT
BEGIN:VEVENT
DTSTART;TZID=Pacific/Honolulu:20190629T170000
DTEND;TZID=Pacific/Honolulu:20190629T213000
DTSTAMP:20260425T055151
CREATED:20190527T090043Z
LAST-MODIFIED:20190527T090043Z
UID:4334-1561827600-1561843800@aksihawaii.org
SUMMARY:FESTA NO ARRAIAL
DESCRIPTION:Third year celebrating our fundraising Festa no Arraial!
URL:https://aksihawaii.org/event/festa-no-arraial/
END:VEVENT
BEGIN:VEVENT
DTSTART;TZID=Pacific/Honolulu:20190627T183000
DTEND;TZID=Pacific/Honolulu:20190627T200000
DTSTAMP:20260425T055151
CREATED:20190506T231215Z
LAST-MODIFIED:20190527T073724Z
UID:4300-1561660200-1561665600@aksihawaii.org
SUMMARY:PREPARAÇÃO PARA FESTA NO ARRAIAL
DESCRIPTION:Lets get ready for our biggest event and fundraiser of the year!!!! Viva São João!
URL:https://aksihawaii.org/event/preparacao-para-a-festa-no-arraial/
END:VEVENT
BEGIN:VEVENT
DTSTART;TZID=Pacific/Honolulu:20190623T090000
DTEND;TZID=Pacific/Honolulu:20190623T100000
DTSTAMP:20260425T055151
CREATED:20190527T074044Z
LAST-MODIFIED:20190527T074044Z
UID:4324-1561280400-1561284000@aksihawaii.org
SUMMARY:SPIRITIST CHILDREN EDUCATION
DESCRIPTION:SUMMER BREAK
URL:https://aksihawaii.org/event/spiritist-children-education-35/
END:VEVENT
BEGIN:VEVENT
DTSTART;TZID=Pacific/Honolulu:20190623T090000
DTEND;TZID=Pacific/Honolulu:20190623T100000
DTSTAMP:20260425T055151
CREATED:20190527T050635Z
LAST-MODIFIED:20190527T050635Z
UID:4311-1561280400-1561284000@aksihawaii.org
SUMMARY:PUBLIC LECTURE
DESCRIPTION:Chapter 13. – DO NOT LET YOUR LEFT HAND KNOW WHAT YOUR RIGHT HAND IS DOING: Item 7-8 –  To invitethe poor and the lame. To give without thought of recompense\nPaulo (IN PORTUGUESE)
URL:https://aksihawaii.org/event/public-lecture-42/
END:VEVENT
BEGIN:VEVENT
DTSTART;TZID=Pacific/Honolulu:20190620T183000
DTEND;TZID=Pacific/Honolulu:20190620T200000
DTSTAMP:20260425T055151
CREATED:20190506T230830Z
LAST-MODIFIED:20190506T230830Z
UID:4298-1561055400-1561060800@aksihawaii.org
SUMMARY:A VIDA NO MUNDO ESPIRITUAL: LIVRO NOSSO LAR
DESCRIPTION:Capítulos 46-48 (Sacrifício de Mulher\,A Volta de Laura\, Culto Familiar)\nExpositores: Raquel\, Natalia e Ines
URL:https://aksihawaii.org/event/a-vida-no-mundo-espiritual-livro-nosso-lar-16/
END:VEVENT
BEGIN:VEVENT
DTSTART;TZID=Pacific/Honolulu:20190616T090000
DTEND;TZID=Pacific/Honolulu:20190616T100000
DTSTAMP:20260425T055151
CREATED:20190527T074008Z
LAST-MODIFIED:20190527T074008Z
UID:4322-1560675600-1560679200@aksihawaii.org
SUMMARY:SPIRITIST CHILDREN EDUCATION
DESCRIPTION:SUMMER BREAK
URL:https://aksihawaii.org/event/spiritist-children-education-34/
END:VEVENT
BEGIN:VEVENT
DTSTART;TZID=Pacific/Honolulu:20190616T090000
DTEND;TZID=Pacific/Honolulu:20190616T100000
DTSTAMP:20260425T055151
CREATED:20190527T050507Z
LAST-MODIFIED:20190527T070509Z
UID:4309-1560675600-1560679200@aksihawaii.org
SUMMARY:PUBLIC LECTURE
DESCRIPTION:Chapter 13. – DO NOT LET YOUR LEFT HAND KNOW WHAT YOUR RIGHT HAND IS DOING: Item 5-6 – The widow’s mite\nRenata (IN PORTUGUESE)
URL:https://aksihawaii.org/event/public-lecture-41/
END:VEVENT
BEGIN:VEVENT
DTSTART;TZID=Pacific/Honolulu:20190613T183000
DTEND;TZID=Pacific/Honolulu:20190613T200000
DTSTAMP:20260425T055151
CREATED:20190506T230724Z
LAST-MODIFIED:20190506T230724Z
UID:4296-1560450600-1560456000@aksihawaii.org
SUMMARY:A VIDA NO MUNDO ESPIRITUAL: LIVRO NOSSO LAR
DESCRIPTION:Capítulos 44-45 (As Trevas\, No Campo da Música\, )\nExpositores: Renata e Brisa
URL:https://aksihawaii.org/event/a-vida-no-mundo-espiritual-livro-nosso-lar-15/
END:VEVENT
BEGIN:VEVENT
DTSTART;TZID=Pacific/Honolulu:20190609T090000
DTEND;TZID=Pacific/Honolulu:20190609T100000
DTSTAMP:20260425T055151
CREATED:20190527T073935Z
LAST-MODIFIED:20190527T073935Z
UID:4320-1560070800-1560074400@aksihawaii.org
SUMMARY:SPIRITIST CHILDREN EDUCATION
DESCRIPTION:SUMMER BREAK
URL:https://aksihawaii.org/event/spiritist-children-education-33/
END:VEVENT
BEGIN:VEVENT
DTSTART;TZID=Pacific/Honolulu:20190609T090000
DTEND;TZID=Pacific/Honolulu:20190609T100000
DTSTAMP:20260425T055151
CREATED:20190527T044711Z
LAST-MODIFIED:20190527T044711Z
UID:4307-1560070800-1560074400@aksihawaii.org
SUMMARY:PUBLIC LECTURE
DESCRIPTION:Chapter 13. – DO NOT LET YOUR LEFT HAND KNOW WHAT YOUR RIGHT HAND IS DOING: Item 4 –  Hidden misfortunes\nRaquel (IN PORTUGUESE)
URL:https://aksihawaii.org/event/public-lecture-40/
END:VEVENT
BEGIN:VEVENT
DTSTART;TZID=Pacific/Honolulu:20190606T183000
DTEND;TZID=Pacific/Honolulu:20190606T200000
DTSTAMP:20260425T055151
CREATED:20190506T230556Z
LAST-MODIFIED:20190506T230556Z
UID:4294-1559845800-1559851200@aksihawaii.org
SUMMARY:A VIDA NO MUNDO ESPIRITUAL: LIVRO NOSSO LAR
DESCRIPTION:Capítulos 41-43 ( Convocados à Luta\, A Palavra do Governador\, Em Conversação)\nExpositores: Mirian e Lili
URL:https://aksihawaii.org/event/a-vida-no-mundo-espiritual-livro-nosso-lar-14/
END:VEVENT
BEGIN:VEVENT
DTSTART;TZID=Pacific/Honolulu:20190602T090000
DTEND;TZID=Pacific/Honolulu:20190602T100000
DTSTAMP:20260425T055151
CREATED:20190527T073829Z
LAST-MODIFIED:20190527T073829Z
UID:4318-1559466000-1559469600@aksihawaii.org
SUMMARY:SPIRITIST CHILDREN EDUCATION
DESCRIPTION:SUMMER BREAK
URL:https://aksihawaii.org/event/spiritist-children-education-32/
END:VEVENT
BEGIN:VEVENT
DTSTART;TZID=Pacific/Honolulu:20190602T090000
DTEND;TZID=Pacific/Honolulu:20190602T100000
DTSTAMP:20260425T055151
CREATED:20190527T043913Z
LAST-MODIFIED:20190527T043913Z
UID:4305-1559466000-1559469600@aksihawaii.org
SUMMARY:PUBLIC LECTURE
DESCRIPTION:Chapter 13. – DO NOT LET YOUR LEFT HAND KNOW WHAT YOUR RIGHT HAND IS DOING: Item 1-3 – Do good without ostentation\nGeronimo (IN ENGLISH)
URL:https://aksihawaii.org/event/public-lecture-39/
END:VEVENT
BEGIN:VEVENT
DTSTART;TZID=Pacific/Honolulu:20190530T200000
DTEND;TZID=Pacific/Honolulu:20190530T210000
DTSTAMP:20260425T055151
CREATED:20190527T080328Z
LAST-MODIFIED:20190527T080507Z
UID:4328-1559246400-1559250000@aksihawaii.org
SUMMARY:MEDIUNIDADE: ESTUDO E PRÁTICA
DESCRIPTION:Assunto:Passe magnético
URL:https://aksihawaii.org/event/mediunidade-estudo-e-pratica-20/
END:VEVENT
BEGIN:VEVENT
DTSTART;TZID=Pacific/Honolulu:20190530T183000
DTEND;TZID=Pacific/Honolulu:20190530T200000
DTSTAMP:20260425T055151
CREATED:20190413T010823Z
LAST-MODIFIED:20190506T230333Z
UID:4276-1559241000-1559246400@aksihawaii.org
SUMMARY:A VIDA NO MUNDO ESPIRITUAL: LIVRO NOSSO LAR
DESCRIPTION:Capítulos 38-40 (O Caso Tobias\, Ouvindo a Senhora Laura\, Quem Semeia Colherá)\nExpositores: Raquel\, Ines e Natalia
URL:https://aksihawaii.org/event/a-vida-no-mundo-espiritual-livro-nosso-lar-13/
END:VEVENT
BEGIN:VEVENT
DTSTART;TZID=Pacific/Honolulu:20190526T080000
DTEND;TZID=Pacific/Honolulu:20190526T100000
DTSTAMP:20260425T055151
CREATED:20190413T010127Z
LAST-MODIFIED:20190413T010127Z
UID:4267-1558857600-1558864800@aksihawaii.org
SUMMARY:SPIRITIST CHILDREN EDUCATION
DESCRIPTION:Lesson 19. Allan Kardec\, Living Jesus’ teachings\nTeacher: Renata
URL:https://aksihawaii.org/event/spiritist-children-education-31/
END:VEVENT
BEGIN:VEVENT
DTSTART;TZID=Pacific/Honolulu:20190526T080000
DTEND;TZID=Pacific/Honolulu:20190526T100000
DTSTAMP:20260425T055151
CREATED:20190413T005806Z
LAST-MODIFIED:20190413T005806Z
UID:4261-1558857600-1558864800@aksihawaii.org
SUMMARY:PUBLIC LECTURE
DESCRIPTION:Chapter 12. – LOVE YOUR ENEMIES: Item 11-16-  Instructions from the Spirits: Duelling\nItana (IN PORTUGUESE)
URL:https://aksihawaii.org/event/public-lecture-38/
END:VEVENT
BEGIN:VEVENT
DTSTART;TZID=Pacific/Honolulu:20190523T200000
DTEND;TZID=Pacific/Honolulu:20190523T210000
DTSTAMP:20260425T055151
CREATED:20190527T080609Z
LAST-MODIFIED:20190527T080609Z
UID:4330-1558641600-1558645200@aksihawaii.org
SUMMARY:MEDIUNIDADE: ESTUDO E PRÁTICA
DESCRIPTION:Assunto:Passe magnético
URL:https://aksihawaii.org/event/mediunidade-estudo-e-pratica-21/
END:VEVENT
BEGIN:VEVENT
DTSTART;TZID=Pacific/Honolulu:20190523T183000
DTEND;TZID=Pacific/Honolulu:20190523T200000
DTSTAMP:20260425T055151
CREATED:20190413T010716Z
LAST-MODIFIED:20190506T230232Z
UID:4274-1558636200-1558641600@aksihawaii.org
SUMMARY:A VIDA NO MUNDO ESPIRITUAL: LIVRO NOSSO LAR
DESCRIPTION:Capítulos 36-37 (O Sonho\, A Preleção da Ministra\,)\nExpositores: Itana\, Geronimo e Jussara
URL:https://aksihawaii.org/event/a-vida-no-mundo-espiritual-livro-nosso-lar-12/
END:VEVENT
BEGIN:VEVENT
DTSTART;TZID=Pacific/Honolulu:20190519T090000
DTEND;TZID=Pacific/Honolulu:20190519T100000
DTSTAMP:20260425T055151
CREATED:20190413T005629Z
LAST-MODIFIED:20190413T005629Z
UID:4259-1558256400-1558260000@aksihawaii.org
SUMMARY:PUBLIC LECTURE
DESCRIPTION:Chapter 12. – LOVE YOUR ENEMIES: Item 10 – Instructions from the Spirits: Hate\nRaquel (IN PORTUGUESE)
URL:https://aksihawaii.org/event/public-lecture-37/
END:VEVENT
BEGIN:VEVENT
DTSTART;TZID=Pacific/Honolulu:20190519T080000
DTEND;TZID=Pacific/Honolulu:20190519T090000
DTSTAMP:20260425T055151
CREATED:20190413T010032Z
LAST-MODIFIED:20190413T010032Z
UID:4265-1558252800-1558256400@aksihawaii.org
SUMMARY:SPIRITIST CHILDREN EDUCATION
DESCRIPTION:Lesson 18. Jesus & The Consoler’s promise\nTeacher: Itana
URL:https://aksihawaii.org/event/spiritist-children-education-30/
END:VEVENT
END:VCALENDAR