BEGIN:VCALENDAR
VERSION:2.0
PRODID:-//Allan Kardec Spiritist Institute - ECPv6.15.20//NONSGML v1.0//EN
CALSCALE:GREGORIAN
METHOD:PUBLISH
X-WR-CALNAME:Allan Kardec Spiritist Institute
X-ORIGINAL-URL:https://aksihawaii.org
X-WR-CALDESC:Events for Allan Kardec Spiritist Institute
REFRESH-INTERVAL;VALUE=DURATION:PT1H
X-Robots-Tag:noindex
X-PUBLISHED-TTL:PT1H
BEGIN:VTIMEZONE
TZID:Pacific/Honolulu
BEGIN:STANDARD
TZOFFSETFROM:-1000
TZOFFSETTO:-1000
TZNAME:HST
DTSTART:20180101T000000
END:STANDARD
END:VTIMEZONE
BEGIN:VEVENT
DTSTART;TZID=Pacific/Honolulu:20191017T183000
DTEND;TZID=Pacific/Honolulu:20191017T200000
DTSTAMP:20260425T040754
CREATED:20190902T052225Z
LAST-MODIFIED:20191004T214204Z
UID:4426-1571337000-1571342400@aksihawaii.org
SUMMARY:A VIDA NO MUNDO ESPIRITUAL: LIVRO OS MENSAGEIROS
DESCRIPTION:CAPÍTULOS 14-16 (Preparativos\, A viagem\, No Posto de Socorro)\nExpositores: Raquel e Ines
URL:https://aksihawaii.org/event/a-vida-no-mundo-espiritual-livro-os-mensageiros-6/
END:VEVENT
BEGIN:VEVENT
DTSTART;TZID=Pacific/Honolulu:20191013T090000
DTEND;TZID=Pacific/Honolulu:20191013T100000
DTSTAMP:20260425T040754
CREATED:20191001T200625Z
LAST-MODIFIED:20191001T200718Z
UID:4449-1570957200-1570960800@aksihawaii.org
SUMMARY:SPIRITIST CHILDREN EDUCATION
DESCRIPTION:Lesson 30. Review L. 28- Friendship in your Family \, L. 29- Friendship Everywhere\nTeacher: Raquel
URL:https://aksihawaii.org/event/spiritist-children-education-51/
END:VEVENT
BEGIN:VEVENT
DTSTART;TZID=Pacific/Honolulu:20191013T090000
DTEND;TZID=Pacific/Honolulu:20191013T100000
DTSTAMP:20260425T040754
CREATED:20191001T200405Z
LAST-MODIFIED:20191001T200527Z
UID:4446-1570957200-1570960800@aksihawaii.org
SUMMARY:PUBLIC LECTURE
DESCRIPTION:“Chapter 15. – WITHOUT CHARITY THERE IS NO SALVATION: Item 8-9  Without the\nChurch there is no salvation. Without truth there is no salvation”\nItana (IN PORTUGUESE)
URL:https://aksihawaii.org/event/public-lecture-58/
END:VEVENT
BEGIN:VEVENT
DTSTART;TZID=Pacific/Honolulu:20191006T090000
DTEND;TZID=Pacific/Honolulu:20191006T100000
DTSTAMP:20260425T040754
CREATED:20191001T200239Z
LAST-MODIFIED:20191001T200239Z
UID:4444-1570352400-1570356000@aksihawaii.org
SUMMARY:SPIRITIST CHILDREN EDUCATION
DESCRIPTION:Lesson 29. Friendship Everywhere\nTeacher: Itana
URL:https://aksihawaii.org/event/spiritist-children-education-50/
END:VEVENT
BEGIN:VEVENT
DTSTART;TZID=Pacific/Honolulu:20191006T090000
DTEND;TZID=Pacific/Honolulu:20191006T100000
DTSTAMP:20260425T040754
CREATED:20191001T200116Z
LAST-MODIFIED:20191001T200138Z
UID:4441-1570352400-1570356000@aksihawaii.org
SUMMARY:PUBLIC LECTURE
DESCRIPTION:Chapter 15. – WITHOUT CHARITY THERE IS NO SALVATION: Item 6-7  The need for charity\, according to Saint Paul\nGeronimo (IN ENGLISH)
URL:https://aksihawaii.org/event/public-lecture-57/
END:VEVENT
BEGIN:VEVENT
DTSTART;TZID=Pacific/Honolulu:20191003T183000
DTEND;TZID=Pacific/Honolulu:20191003T200000
DTSTAMP:20260425T040754
CREATED:20190902T023125Z
LAST-MODIFIED:20191001T195305Z
UID:4424-1570127400-1570132800@aksihawaii.org
SUMMARY:A VIDA NO MUNDO ESPIRITUAL: LIVRO OS MENSAGEIROS
DESCRIPTION:CAPÍTULOS 10 -13 (A experiência de Joel Belarmino\, o doutrinador\, A palavra de Monteiro \, Ponderações de Vicente)\nExpositor: Paulo
URL:https://aksihawaii.org/event/a-vida-no-mundo-espiritual-livro-os-mensageiros-5/
END:VEVENT
BEGIN:VEVENT
DTSTART;TZID=Pacific/Honolulu:20190929T090000
DTEND;TZID=Pacific/Honolulu:20190929T100000
DTSTAMP:20260425T040754
CREATED:20190830T183109Z
LAST-MODIFIED:20190830T183109Z
UID:4413-1569747600-1569751200@aksihawaii.org
SUMMARY:SPIRITIST CHILDREN EDUCATION
DESCRIPTION:Lesson 28. Friendship in your Family\nTeacher: Renata
URL:https://aksihawaii.org/event/spiritist-children-education-49/
END:VEVENT
BEGIN:VEVENT
DTSTART;TZID=Pacific/Honolulu:20190929T090000
DTEND;TZID=Pacific/Honolulu:20190929T100000
DTSTAMP:20260425T040754
CREATED:20190830T183006Z
LAST-MODIFIED:20190830T183006Z
UID:4411-1569747600-1569751200@aksihawaii.org
SUMMARY:PUBLIC LECTURE
DESCRIPTION:“Chapter 15. – WITHOUT CHARITY THERE IS NO SALVATION: Item 4-5  The greatest\nof the commandments”\nPaulo (IN PORTUGUESE)
URL:https://aksihawaii.org/event/public-lecture-56/
END:VEVENT
BEGIN:VEVENT
DTSTART;TZID=Pacific/Honolulu:20190922T090000
DTEND;TZID=Pacific/Honolulu:20190922T100000
DTSTAMP:20260425T040754
CREATED:20190830T182853Z
LAST-MODIFIED:20190830T182853Z
UID:4409-1569142800-1569146400@aksihawaii.org
SUMMARY:SPIRITIST CHILDREN EDUCATION
DESCRIPTION:Lesson 27. Review L. 25 – Family\, Love & Respect and L.26-Obedience\nTeacher: Raquel
URL:https://aksihawaii.org/event/spiritist-children-education-48/
END:VEVENT
BEGIN:VEVENT
DTSTART;TZID=Pacific/Honolulu:20190922T090000
DTEND;TZID=Pacific/Honolulu:20190922T100000
DTSTAMP:20260425T040754
CREATED:20190830T182713Z
LAST-MODIFIED:20190830T182713Z
UID:4407-1569142800-1569146400@aksihawaii.org
SUMMARY:PUBLIC LECTURE
DESCRIPTION:Chapter 15. – WITHOUT CHARITY THERE IS NO SALVATION: Item 1-3 What the spirit needs in order to be saved. The parable of the good Samaritan\nRenata ( IN PORTUGUESE)
URL:https://aksihawaii.org/event/public-lecture-55/
END:VEVENT
BEGIN:VEVENT
DTSTART;TZID=Pacific/Honolulu:20190919T183000
DTEND;TZID=Pacific/Honolulu:20190919T200000
DTSTAMP:20260425T040754
CREATED:20190902T022811Z
LAST-MODIFIED:20190906T195407Z
UID:4422-1568917800-1568923200@aksihawaii.org
SUMMARY:A VIDA NO MUNDO ESPIRITUAL: LIVRO OS MENSAGEIROS
DESCRIPTION:CAPÍTULOS 7-9 (A queda de Otávio\,O desastre de Acelino\, Ouvindo impressões)\nExpositores: Renata e Brisa
URL:https://aksihawaii.org/event/a-vida-no-mundo-espiritual-livro-os-mensageiros-4/
END:VEVENT
BEGIN:VEVENT
DTSTART;TZID=Pacific/Honolulu:20190915T090000
DTEND;TZID=Pacific/Honolulu:20190915T100000
DTSTAMP:20260425T040754
CREATED:20190830T182558Z
LAST-MODIFIED:20190830T182558Z
UID:4405-1568538000-1568541600@aksihawaii.org
SUMMARY:SPIRITIST CHILDREN EDUCATION
DESCRIPTION:Lesson 26. Obedience\nTeacher: Itana
URL:https://aksihawaii.org/event/spiritist-children-education-47/
END:VEVENT
BEGIN:VEVENT
DTSTART;TZID=Pacific/Honolulu:20190915T090000
DTEND;TZID=Pacific/Honolulu:20190915T100000
DTSTAMP:20260425T040754
CREATED:20190830T182503Z
LAST-MODIFIED:20190830T182503Z
UID:4403-1568538000-1568541600@aksihawaii.org
SUMMARY:PUBLIC LECTURE
DESCRIPTION:Chapter 14. – HONOR YOUR FATHER AND YOUR MOTHER: Item 9 Instructions from the Spirits: Children’s ingratitude and family ties.\nRaquel (IN PORTUGUESE)
URL:https://aksihawaii.org/event/public-lecture-54/
END:VEVENT
BEGIN:VEVENT
DTSTART;TZID=Pacific/Honolulu:20190912T183000
DTEND;TZID=Pacific/Honolulu:20190912T210000
DTSTAMP:20260425T040754
CREATED:20190906T195651Z
LAST-MODIFIED:20190906T195651Z
UID:4434-1568313000-1568322000@aksihawaii.org
SUMMARY:MOVIE NIGHT
DESCRIPTION:Convidamos a todos para assistirmos o filme “KARDEC”.
URL:https://aksihawaii.org/event/movie-night/
END:VEVENT
BEGIN:VEVENT
DTSTART;TZID=Pacific/Honolulu:20190908T090000
DTEND;TZID=Pacific/Honolulu:20190908T100000
DTSTAMP:20260425T040754
CREATED:20190830T182402Z
LAST-MODIFIED:20190830T182402Z
UID:4401-1567933200-1567936800@aksihawaii.org
SUMMARY:SPIRITIST CHILDREN EDUCATION
DESCRIPTION:Lesson 25. Family\, Love & Respect\nTeacher: Renata
URL:https://aksihawaii.org/event/spiritist-children-education-46/
END:VEVENT
BEGIN:VEVENT
DTSTART;TZID=Pacific/Honolulu:20190908T090000
DTEND;TZID=Pacific/Honolulu:20190908T100000
DTSTAMP:20260425T040754
CREATED:20190830T182309Z
LAST-MODIFIED:20190830T182309Z
UID:4399-1567933200-1567936800@aksihawaii.org
SUMMARY:PUBLIC LECTURE
DESCRIPTION:“Chapter 14. – HONOR YOUR FATHER AND YOUR MOTHER: Item 8 Corporeal relationship\nand spiritual relationship”\nPaulo ( IN PORTUGUESE)
URL:https://aksihawaii.org/event/public-lecture-53/
END:VEVENT
BEGIN:VEVENT
DTSTART;TZID=Pacific/Honolulu:20190905T183000
DTEND;TZID=Pacific/Honolulu:20190905T200000
DTSTAMP:20260425T040754
CREATED:20190830T184044Z
LAST-MODIFIED:20190830T184044Z
UID:4419-1567708200-1567713600@aksihawaii.org
SUMMARY:A VIDA NO MUNDO ESPIRITUAL: LIVRO OS MENSAGEIROS
DESCRIPTION:Capitulos 5 e 6 (  Ouvindo instruções\, Advertências profundas)\nExpositores: Raquel e Ines
URL:https://aksihawaii.org/event/a-vida-no-mundo-espiritual-livro-os-mensageiros-3/
END:VEVENT
BEGIN:VEVENT
DTSTART;TZID=Pacific/Honolulu:20190901T090000
DTEND;TZID=Pacific/Honolulu:20190901T100000
DTSTAMP:20260425T040754
CREATED:20190830T182205Z
LAST-MODIFIED:20190830T182205Z
UID:4397-1567328400-1567332000@aksihawaii.org
SUMMARY:SPIRITIST CHILDREN EDUCATION
DESCRIPTION:Lesson 24. Review L. 22- Love in Action\, Love & Truth and L. 23- Good Manners\nTeacher: Raquel
URL:https://aksihawaii.org/event/spiritist-children-education-45/
END:VEVENT
BEGIN:VEVENT
DTSTART;TZID=Pacific/Honolulu:20190901T090000
DTEND;TZID=Pacific/Honolulu:20190901T100000
DTSTAMP:20260425T040754
CREATED:20190830T182021Z
LAST-MODIFIED:20190830T182021Z
UID:4395-1567328400-1567332000@aksihawaii.org
SUMMARY:PUBLIC LECTURE
DESCRIPTION:Chapter 14. – HONOR YOUR FATHER AND YOUR MOTHER: Item 5-7 Who is my mother and who are my brothers?\nGeronimo (IN ENGLISH)
URL:https://aksihawaii.org/event/public-lecture-52/
END:VEVENT
BEGIN:VEVENT
DTSTART;TZID=Pacific/Honolulu:20190829T183000
DTEND;TZID=Pacific/Honolulu:20190829T200000
DTSTAMP:20260425T040754
CREATED:20190830T183831Z
LAST-MODIFIED:20190830T183831Z
UID:4417-1567103400-1567108800@aksihawaii.org
SUMMARY:A VIDA NO MUNDO ESPIRITUAL: LIVRO OS MENSAGEIROS
DESCRIPTION:Capitulos 3 e 4 ( No centro dos mensageiros\, O caso Vicente)\nExpositor: Itana
URL:https://aksihawaii.org/event/a-vida-no-mundo-espiritual-livro-os-mensageiros-2/
END:VEVENT
BEGIN:VEVENT
DTSTART;TZID=Pacific/Honolulu:20190825T090000
DTEND;TZID=Pacific/Honolulu:20190825T100000
DTSTAMP:20260425T040754
CREATED:20190730T204717Z
LAST-MODIFIED:20190819T234423Z
UID:4387-1566723600-1566727200@aksihawaii.org
SUMMARY:SPIRITIST CHILDREN EDUCATION
DESCRIPTION:Lesson 23. Good Manners\nTeacher: Raquel
URL:https://aksihawaii.org/event/spiritist-children-education-44/
END:VEVENT
BEGIN:VEVENT
DTSTART;TZID=Pacific/Honolulu:20190825T090000
DTEND;TZID=Pacific/Honolulu:20190825T100000
DTSTAMP:20260425T040754
CREATED:20190730T204534Z
LAST-MODIFIED:20190819T234449Z
UID:4385-1566723600-1566727200@aksihawaii.org
SUMMARY:PUBLIC LECTURE
DESCRIPTION:Chapter 14. – HONOUR YOUR FATHER AND YOUR MOTHER:Item 1-4 – Filial devotion\nPaulo (IN PORTUGUESE)
URL:https://aksihawaii.org/event/public-lecture-51/
END:VEVENT
BEGIN:VEVENT
DTSTART;TZID=Pacific/Honolulu:20190822T183000
DTEND;TZID=Pacific/Honolulu:20190822T200000
DTSTAMP:20260425T040754
CREATED:20190830T183632Z
LAST-MODIFIED:20190830T183632Z
UID:4415-1566498600-1566504000@aksihawaii.org
SUMMARY:A VIDA NO MUNDO ESPIRITUAL: LIVRO OS MENSAGEIROS
DESCRIPTION:Capitulos 1 -2 ( Renovação \, Aniceto)\nExpositor: Paulo
URL:https://aksihawaii.org/event/a-vida-no-mundo-espiritual-livro-os-mensageiros/
END:VEVENT
BEGIN:VEVENT
DTSTART;TZID=Pacific/Honolulu:20190818T090000
DTEND;TZID=Pacific/Honolulu:20190818T100000
DTSTAMP:20260425T040754
CREATED:20190730T204056Z
LAST-MODIFIED:20190730T204139Z
UID:4382-1566118800-1566122400@aksihawaii.org
SUMMARY:SPIRITIST CHILDREN EDUCATION
DESCRIPTION:Lesson 22. Love in Action\, Love & Truth\nTeacher: Raquel
URL:https://aksihawaii.org/event/spiritist-children-education-43/
END:VEVENT
BEGIN:VEVENT
DTSTART;TZID=Pacific/Honolulu:20190818T090000
DTEND;TZID=Pacific/Honolulu:20190818T100000
DTSTAMP:20260425T040754
CREATED:20190730T203936Z
LAST-MODIFIED:20190730T203936Z
UID:4380-1566118800-1566122400@aksihawaii.org
SUMMARY:PUBLIC LECTURE
DESCRIPTION:Chapter 13. – DO NOT LET YOUR LEFT HAND KNOW WHAT YOUR RIGHT HAND IS DOING: Item 20 – Exclusivist beneficence\nItana(IN PORTUGUESE)
URL:https://aksihawaii.org/event/public-lecture-50/
END:VEVENT
BEGIN:VEVENT
DTSTART;TZID=Pacific/Honolulu:20190811T090000
DTEND;TZID=Pacific/Honolulu:20190811T100000
DTSTAMP:20260425T040754
CREATED:20190730T203655Z
LAST-MODIFIED:20190730T203655Z
UID:4378-1565514000-1565517600@aksihawaii.org
SUMMARY:SPIRITIST CHILDREN EDUCATION
DESCRIPTION:Lesson 21. Review L. 19 – Allan Kardec\, Living Jesus’ teachings\nTeacher: Itana
URL:https://aksihawaii.org/event/spiritist-children-education-42/
END:VEVENT
BEGIN:VEVENT
DTSTART;TZID=Pacific/Honolulu:20190811T090000
DTEND;TZID=Pacific/Honolulu:20190811T100000
DTSTAMP:20260425T040754
CREATED:20190730T203333Z
LAST-MODIFIED:20190730T203333Z
UID:4376-1565514000-1565517600@aksihawaii.org
SUMMARY:PUBLIC LECTURE
DESCRIPTION:Chapter 13. – DO NOT LET YOUR LEFT HAND KNOW WHAT YOUR RIGHT HAND IS DOING: Item 19 – Beneficence recompensed by ingratitude.\nRenata (IN PORTUGUESE)
URL:https://aksihawaii.org/event/public-lecture-49/
END:VEVENT
BEGIN:VEVENT
DTSTART;TZID=Pacific/Honolulu:20190804T090000
DTEND;TZID=Pacific/Honolulu:20190804T100000
DTSTAMP:20260425T040754
CREATED:20190730T202713Z
LAST-MODIFIED:20190730T202713Z
UID:4374-1564909200-1564912800@aksihawaii.org
SUMMARY:SPIRITIST CHILDREN EDUCATION
DESCRIPTION:Lesson 20. Review L. 10 – God Loves Me & L. 15 -Jesus\, Our Role Model and Master\nTeacher: Renata
URL:https://aksihawaii.org/event/spiritist-children-education-41/
END:VEVENT
BEGIN:VEVENT
DTSTART;TZID=Pacific/Honolulu:20190804T090000
DTEND;TZID=Pacific/Honolulu:20190804T100000
DTSTAMP:20260425T040754
CREATED:20190730T202509Z
LAST-MODIFIED:20190730T202509Z
UID:4372-1564909200-1564912800@aksihawaii.org
SUMMARY:PUBLIC LECTURE
DESCRIPTION:Chapter 13. – DO NOT LET YOUR LEFT HAND KNOW WHAT YOUR RIGHT HAND IS DOING: Item 18 – The orphans\nPaulo (IN PORTUGUESE)
URL:https://aksihawaii.org/event/public-lecture-48/
END:VEVENT
BEGIN:VEVENT
DTSTART;TZID=Pacific/Honolulu:20190801T183000
DTEND;TZID=Pacific/Honolulu:20190801T200000
DTSTAMP:20260425T040754
CREATED:20190730T214839Z
LAST-MODIFIED:20190730T214839Z
UID:4389-1564684200-1564689600@aksihawaii.org
SUMMARY:A VIDA NO MUNDO ESPIRITUAL: LIVRO NOSSO LAR
DESCRIPTION:Avaliação do Curso/aulas.
URL:https://aksihawaii.org/event/a-vida-no-mundo-espiritual-livro-nosso-lar-21/
END:VEVENT
END:VCALENDAR