BEGIN:VCALENDAR
VERSION:2.0
PRODID:-//Allan Kardec Spiritist Institute - ECPv6.15.20//NONSGML v1.0//EN
CALSCALE:GREGORIAN
METHOD:PUBLISH
X-WR-CALNAME:Allan Kardec Spiritist Institute
X-ORIGINAL-URL:https://aksihawaii.org
X-WR-CALDESC:Events for Allan Kardec Spiritist Institute
REFRESH-INTERVAL;VALUE=DURATION:PT1H
X-Robots-Tag:noindex
X-PUBLISHED-TTL:PT1H
BEGIN:VTIMEZONE
TZID:Pacific/Honolulu
BEGIN:STANDARD
TZOFFSETFROM:-1000
TZOFFSETTO:-1000
TZNAME:HST
DTSTART:20190101T000000
END:STANDARD
END:VTIMEZONE
BEGIN:VEVENT
DTSTART;TZID=Pacific/Honolulu:20250428T200000
DTEND;TZID=Pacific/Honolulu:20250428T203000
DTSTAMP:20260424T055803
CREATED:20250404T064043Z
LAST-MODIFIED:20250404T064043Z
UID:4777-1745870400-1745872200@aksihawaii.org
SUMMARY:Study of the Book ” Good News” (In Portuguese)
DESCRIPTION:Chapter 29 – The Five hundred of Galilee
URL:https://aksihawaii.org/event/study-of-the-book-good-news-in-portuguese-2/
END:VEVENT
BEGIN:VEVENT
DTSTART;TZID=Pacific/Honolulu:20250428T193000
DTEND;TZID=Pacific/Honolulu:20250428T194500
DTSTAMP:20260424T055803
CREATED:20250404T063906Z
LAST-MODIFIED:20250427T173350Z
UID:4775-1745868600-1745869500@aksihawaii.org
SUMMARY:Therapeutic Passes
DESCRIPTION:
URL:https://aksihawaii.org/event/therapeutic-passes-3/
END:VEVENT
BEGIN:VEVENT
DTSTART;TZID=Pacific/Honolulu:20250428T190000
DTEND;TZID=Pacific/Honolulu:20250428T193000
DTSTAMP:20260424T055803
CREATED:20250404T063537Z
LAST-MODIFIED:20250404T063537Z
UID:4770-1745866800-1745868600@aksihawaii.org
SUMMARY:Gospel According to Spiritism (In Portuguese)
DESCRIPTION:
URL:https://aksihawaii.org/event/gospel-according-to-spiritism-in-portuguese-3/
END:VEVENT
BEGIN:VEVENT
DTSTART;TZID=Pacific/Honolulu:20250423T193000
DTEND;TZID=Pacific/Honolulu:20250423T203000
DTSTAMP:20260424T055803
CREATED:20250418T023507Z
LAST-MODIFIED:20250418T023823Z
UID:4780-1745436600-1745440200@aksihawaii.org
SUMMARY:Gospel According to Spiritism and The Spirits' Book Study (In English)
DESCRIPTION:Meeting via ZOOM \nMeeting ID: 97580261745 \nPassword: 966092
URL:https://aksihawaii.org/event/gospel-according-spiritism-and-the-spirits-book-study-in-english/
END:VEVENT
BEGIN:VEVENT
DTSTART;TZID=Pacific/Honolulu:20250421T200000
DTEND;TZID=Pacific/Honolulu:20250421T203000
DTSTAMP:20260424T055803
CREATED:20250404T063341Z
LAST-MODIFIED:20250404T063624Z
UID:4768-1745265600-1745267400@aksihawaii.org
SUMMARY:Study of the Book ” Good News” (In Portuguese)
DESCRIPTION:Chapter 28 – The Good Thief
URL:https://aksihawaii.org/event/study-of-the-book-good-news-in-portuguese/
END:VEVENT
BEGIN:VEVENT
DTSTART;TZID=Pacific/Honolulu:20250421T193000
DTEND;TZID=Pacific/Honolulu:20250421T194500
DTSTAMP:20260424T055803
CREATED:20250404T063251Z
LAST-MODIFIED:20250404T063251Z
UID:4766-1745263800-1745264700@aksihawaii.org
SUMMARY:Therapeutic Passes
DESCRIPTION:
URL:https://aksihawaii.org/event/therapeutic-passes-2/
END:VEVENT
BEGIN:VEVENT
DTSTART;TZID=Pacific/Honolulu:20250421T190000
DTEND;TZID=Pacific/Honolulu:20250421T193000
DTSTAMP:20260424T055803
CREATED:20250404T063205Z
LAST-MODIFIED:20250404T063205Z
UID:4764-1745262000-1745263800@aksihawaii.org
SUMMARY:Gospel According to Spiritism (In Portuguese)
DESCRIPTION:
URL:https://aksihawaii.org/event/gospel-according-to-spiritism-in-portuguese-2/
END:VEVENT
BEGIN:VEVENT
DTSTART;TZID=Pacific/Honolulu:20250414T200000
DTEND;TZID=Pacific/Honolulu:20250414T203000
DTSTAMP:20260424T055803
CREATED:20250404T062711Z
LAST-MODIFIED:20250404T063810Z
UID:4760-1744660800-1744662600@aksihawaii.org
SUMMARY:Study of the Book ” Good News” (In Portuguese)
DESCRIPTION:Chapter 27 – The Garden Prayer
URL:https://aksihawaii.org/event/study-of-the-book-good-news-2/
END:VEVENT
BEGIN:VEVENT
DTSTART;TZID=Pacific/Honolulu:20250414T193000
DTEND;TZID=Pacific/Honolulu:20250414T194500
DTSTAMP:20260424T055803
CREATED:20250404T062622Z
LAST-MODIFIED:20250404T062740Z
UID:4758-1744659000-1744659900@aksihawaii.org
SUMMARY:Therapeutic Passes
DESCRIPTION:
URL:https://aksihawaii.org/event/therapeutic-passes/
END:VEVENT
BEGIN:VEVENT
DTSTART;TZID=Pacific/Honolulu:20250414T190000
DTEND;TZID=Pacific/Honolulu:20250414T193000
DTSTAMP:20260424T055803
CREATED:20250404T062541Z
LAST-MODIFIED:20250404T062541Z
UID:4756-1744657200-1744659000@aksihawaii.org
SUMMARY:Gospel According to Spiritism (In Portuguese)
DESCRIPTION:
URL:https://aksihawaii.org/event/gospel-according-to-spiritism-in-portuguese/
END:VEVENT
BEGIN:VEVENT
DTSTART;TZID=Pacific/Honolulu:20250407T200000
DTEND;TZID=Pacific/Honolulu:20250407T203000
DTSTAMP:20260424T055803
CREATED:20250404T062131Z
LAST-MODIFIED:20250404T063711Z
UID:4751-1744056000-1744057800@aksihawaii.org
SUMMARY:Study of the Book " Good News" (In Portuguese)
DESCRIPTION:Chapter 26 – Peter’s denial
URL:https://aksihawaii.org/event/study-of-the-book-good-news/
END:VEVENT
BEGIN:VEVENT
DTSTART;TZID=Pacific/Honolulu:20250407T193000
DTEND;TZID=Pacific/Honolulu:20250407T194500
DTSTAMP:20260424T055803
CREATED:20250404T061741Z
LAST-MODIFIED:20250404T062246Z
UID:4748-1744054200-1744055100@aksihawaii.org
SUMMARY:Therapeutic Passes
DESCRIPTION:
URL:https://aksihawaii.org/event/passe-2/
END:VEVENT
BEGIN:VEVENT
DTSTART;TZID=Pacific/Honolulu:20250407T190000
DTEND;TZID=Pacific/Honolulu:20250407T193000
DTSTAMP:20260424T055803
CREATED:20250404T061526Z
LAST-MODIFIED:20250404T061822Z
UID:4746-1744052400-1744054200@aksihawaii.org
SUMMARY:Gospel According to Spiritism (In Portuguese)
DESCRIPTION:
URL:https://aksihawaii.org/event/gospel-according-to-spiritism-2/
END:VEVENT
BEGIN:VEVENT
DTSTART;TZID=Pacific/Honolulu:20231106T202000
DTEND;TZID=Pacific/Honolulu:20231106T210000
DTSTAMP:20260424T055803
CREATED:20231022T061009Z
LAST-MODIFIED:20231022T061009Z
UID:4739-1699302000-1699304400@aksihawaii.org
SUMMARY:MEDIUMSHIP: STUDY AND PRACTICE
DESCRIPTION:
URL:https://aksihawaii.org/event/mediumship-study-and-practice-2/
END:VEVENT
BEGIN:VEVENT
DTSTART;TZID=Pacific/Honolulu:20231106T193000
DTEND;TZID=Pacific/Honolulu:20231106T201000
DTSTAMP:20260424T055803
CREATED:20231022T054029Z
LAST-MODIFIED:20231022T062131Z
UID:4729-1699299000-1699301400@aksihawaii.org
SUMMARY:LIFE IN THE SPIRITUAL WORLD COLLECTION : BOOK BETWEEN HEAVEN AND EARTH  (In Portuguese)
DESCRIPTION:Opening Class \n1-Study methodology recommendation to read the book \n2- Class progress \n3- Class Schedule \n  \n 
URL:https://aksihawaii.org/event/book-between-heaven-and-earth-in-portuguese/
END:VEVENT
BEGIN:VEVENT
DTSTART;TZID=Pacific/Honolulu:20231106T190000
DTEND;TZID=Pacific/Honolulu:20231106T191500
DTSTAMP:20260424T055803
CREATED:20231022T053156Z
LAST-MODIFIED:20231022T055113Z
UID:4726-1699297200-1699298100@aksihawaii.org
SUMMARY:PASSE
DESCRIPTION:
URL:https://aksihawaii.org/event/passe/
END:VEVENT
BEGIN:VEVENT
DTSTART;TZID=Pacific/Honolulu:20231106T183000
DTEND;TZID=Pacific/Honolulu:20231106T190000
DTSTAMP:20260424T055803
CREATED:20231021T030228Z
LAST-MODIFIED:20231022T062049Z
UID:4724-1699295400-1699297200@aksihawaii.org
SUMMARY:GOSPEL ACCORDING TO SPIRITISM
DESCRIPTION:  \nInitial Reading : TBA \nInitial Prayer: TBA \nGospel According to Spiritism: TBA \nThe Sprit’s Book : TBA \nBook of Hope (Livro da Esperança) by Emmanuel: TBA \nFacilitator : TBA \nhttps://www.febnet.org.br/wp-content/uploads/2014/05/Livro-dos-Espiritos.pdf
URL:https://aksihawaii.org/event/gospel-according-to-spiritism/
END:VEVENT
BEGIN:VEVENT
DTSTART;TZID=Pacific/Honolulu:20200830T090000
DTEND;TZID=Pacific/Honolulu:20200830T100000
DTSTAMP:20260424T055803
CREATED:20200701T194053Z
LAST-MODIFIED:20200701T194053Z
UID:4716-1598778000-1598781600@aksihawaii.org
SUMMARY:PUBLIC LECTURE
DESCRIPTION:Tema: ” Minha vida com Chico Xavier”\nExpositora Convidada: Celia Resende
URL:https://aksihawaii.org/event/public-lecture-100/
END:VEVENT
BEGIN:VEVENT
DTSTART;TZID=Pacific/Honolulu:20200823T090000
DTEND;TZID=Pacific/Honolulu:20200823T100000
DTSTAMP:20260424T055803
CREATED:20200701T193939Z
LAST-MODIFIED:20200701T193939Z
UID:4714-1598173200-1598176800@aksihawaii.org
SUMMARY:PUBLIC LECTURE
DESCRIPTION:ESE – Capítulo XX – Os trabalhadores da última hora. Item 5 : Os obreiros do Senhor.\nExpositor Convidado: Caca Resende
URL:https://aksihawaii.org/event/public-lecture-99/
END:VEVENT
BEGIN:VEVENT
DTSTART;TZID=Pacific/Honolulu:20200816T090000
DTEND;TZID=Pacific/Honolulu:20200816T100000
DTSTAMP:20260424T055803
CREATED:20200701T193801Z
LAST-MODIFIED:20200701T193801Z
UID:4712-1597568400-1597572000@aksihawaii.org
SUMMARY:PUBLIC LECTURE
DESCRIPTION:Tema: “A virtude da raiva e outras lições que meu avo Mahatma Gandhi”\nExpositor Convidado: Arun Gandhi
URL:https://aksihawaii.org/event/public-lecture-98/
END:VEVENT
BEGIN:VEVENT
DTSTART;TZID=Pacific/Honolulu:20200809T090000
DTEND;TZID=Pacific/Honolulu:20200809T100000
DTSTAMP:20260424T055803
CREATED:20200701T193552Z
LAST-MODIFIED:20200701T193552Z
UID:4710-1596963600-1596967200@aksihawaii.org
SUMMARY:PUBLIC LECTURE
DESCRIPTION:ESE – Capítulo XX – Os trabalhadores da última hora. Item 4 : Missão\ndos espíritas.\nExpositora Convidada: Eulalia Bueno
URL:https://aksihawaii.org/event/public-lecture-97/
END:VEVENT
BEGIN:VEVENT
DTSTART;TZID=Pacific/Honolulu:20200802T090000
DTEND;TZID=Pacific/Honolulu:20200802T100000
DTSTAMP:20260424T055803
CREATED:20200701T193305Z
LAST-MODIFIED:20200701T193305Z
UID:4708-1596358800-1596362400@aksihawaii.org
SUMMARY:PUBLIC LECTURE
DESCRIPTION:Tema: “Depressão e espiritualidade em tempos de pandemia”\nExpositor Convidado: Nazareno Feitosa
URL:https://aksihawaii.org/event/public-lecture-96/
END:VEVENT
BEGIN:VEVENT
DTSTART;TZID=Pacific/Honolulu:20200730T183000
DTEND;TZID=Pacific/Honolulu:20200730T200000
DTSTAMP:20260424T055803
CREATED:20200627T190539Z
LAST-MODIFIED:20200627T190656Z
UID:4687-1596133800-1596139200@aksihawaii.org
SUMMARY:A VIDA NO MUNDO ESPIRITUAL: LIVRO MISSIONÁRIOS DA LUZ
DESCRIPTION:Capítulo 14 – Proteção\nExpositores: Itana e Geronimo
URL:https://aksihawaii.org/event/a-vida-no-mundo-espiritual-livro-missionarios-da-luz-18/
END:VEVENT
BEGIN:VEVENT
DTSTART;TZID=Pacific/Honolulu:20200726T090000
DTEND;TZID=Pacific/Honolulu:20200726T100000
DTSTAMP:20260424T055803
CREATED:20200628T185446Z
LAST-MODIFIED:20200628T185446Z
UID:4704-1595754000-1595757600@aksihawaii.org
SUMMARY:PUBLIC LECTURE
DESCRIPTION:ESE Capítulo XX – Os trabalhadores da última hora.\nExpositora Convidada: Larissa Chaves
URL:https://aksihawaii.org/event/public-lecture-94/
END:VEVENT
BEGIN:VEVENT
DTSTART;TZID=Pacific/Honolulu:20200723T183000
DTEND;TZID=Pacific/Honolulu:20200723T200000
DTSTAMP:20260424T055803
CREATED:20200627T190352Z
LAST-MODIFIED:20200627T190626Z
UID:4685-1595529000-1595534400@aksihawaii.org
SUMMARY:A VIDA NO MUNDO ESPIRITUAL: LIVRO MISSIONÁRIOS DA LUZ
DESCRIPTION:Capítulo 13 – Reencarnação\nExpositores: Paulo\, Clarissa\, Dora e Natalia
URL:https://aksihawaii.org/event/a-vida-no-mundo-espiritual-livro-missionarios-da-luz-17/
END:VEVENT
BEGIN:VEVENT
DTSTART;TZID=Pacific/Honolulu:20200719T090000
DTEND;TZID=Pacific/Honolulu:20200719T100000
DTSTAMP:20260424T055803
CREATED:20200628T185149Z
LAST-MODIFIED:20200628T185220Z
UID:4702-1595149200-1595152800@aksihawaii.org
SUMMARY:PUBLIC LECTURE
DESCRIPTION:TEMA: a definir\nExpositor Convidado: Saulo Cesar Ribeiro
URL:https://aksihawaii.org/event/public-lecture-93/
END:VEVENT
BEGIN:VEVENT
DTSTART;TZID=Pacific/Honolulu:20200716T183000
DTEND;TZID=Pacific/Honolulu:20200716T200000
DTSTAMP:20260424T055803
CREATED:20200627T190208Z
LAST-MODIFIED:20200627T190208Z
UID:4683-1594924200-1594929600@aksihawaii.org
SUMMARY:A VIDA NO MUNDO ESPIRITUAL: LIVRO MISSIONÁRIOS DA LUZ
DESCRIPTION:Capítulo 12– Preparação de Experiências\nExpositores: Renata e Brisa
URL:https://aksihawaii.org/event/a-vida-no-mundo-espiritual-livro-missionarios-da-luz-16/
END:VEVENT
BEGIN:VEVENT
DTSTART;TZID=Pacific/Honolulu:20200712T090000
DTEND;TZID=Pacific/Honolulu:20200712T100000
DTSTAMP:20260424T055803
CREATED:20200701T193024Z
LAST-MODIFIED:20200701T193024Z
UID:4706-1594544400-1594548000@aksihawaii.org
SUMMARY:PUBLIC LECTURE
DESCRIPTION:ESE – Capítulo XIX – A fé transporta montanhas. Item 11 – – Instruções dos Espíritos: A\nfé: mãe da esperança e da caridade.\nExpositor Convidado: Thiago Toledo
URL:https://aksihawaii.org/event/public-lecture-95/
END:VEVENT
BEGIN:VEVENT
DTSTART;TZID=Pacific/Honolulu:20200709T183000
DTEND;TZID=Pacific/Honolulu:20200709T200000
DTSTAMP:20260424T055803
CREATED:20200627T185816Z
LAST-MODIFIED:20200627T185816Z
UID:4681-1594319400-1594324800@aksihawaii.org
SUMMARY:A VIDA NO MUNDO ESPIRITUAL: LIVRO MISSIONÁRIOS DA LUZ
DESCRIPTION:Capítulo 11-  Intercessão\nExpositores: Raquel e Ines
URL:https://aksihawaii.org/event/a-vida-no-mundo-espiritual-livro-missionarios-da-luz-10/
END:VEVENT
BEGIN:VEVENT
DTSTART;TZID=Pacific/Honolulu:20200705T090000
DTEND;TZID=Pacific/Honolulu:20200705T100000
DTSTAMP:20260424T055803
CREATED:20200628T184634Z
LAST-MODIFIED:20200628T184634Z
UID:4700-1593939600-1593943200@aksihawaii.org
SUMMARY:PUBLIC LECTURE
DESCRIPTION:ESE – Capítulo XIX – A fé transporta montanhas. Itens 8 a 10 : Parábola da Figueira que Secou.\nExpositora Convidada: Cristiane Lenzi
URL:https://aksihawaii.org/event/public-lecture-92/
END:VEVENT
END:VCALENDAR