BEGIN:VCALENDAR
VERSION:2.0
PRODID:-//Allan Kardec Spiritist Institute - ECPv6.15.20//NONSGML v1.0//EN
CALSCALE:GREGORIAN
METHOD:PUBLISH
X-WR-CALNAME:Allan Kardec Spiritist Institute
X-ORIGINAL-URL:https://aksihawaii.org
X-WR-CALDESC:Events for Allan Kardec Spiritist Institute
REFRESH-INTERVAL;VALUE=DURATION:PT1H
X-Robots-Tag:noindex
X-PUBLISHED-TTL:PT1H
BEGIN:VTIMEZONE
TZID:Pacific/Honolulu
BEGIN:STANDARD
TZOFFSETFROM:-1000
TZOFFSETTO:-1000
TZNAME:HST
DTSTART:20180101T000000
END:STANDARD
END:VTIMEZONE
BEGIN:VEVENT
DTSTART;TZID=Pacific/Honolulu:20190404T200000
DTEND;TZID=Pacific/Honolulu:20190404T210000
DTSTAMP:20260425T165530
CREATED:20190319T011302Z
LAST-MODIFIED:20190319T011928Z
UID:4239-1554408000-1554411600@aksihawaii.org
SUMMARY:MEDIUNIDADE: ESTUDO E PRÁTICA
DESCRIPTION:MÓDULO I: Reuniões mediúnicas\nRoteiro 3 – Etapas da reunião mediúnica
URL:https://aksihawaii.org/event/mediunidade-estudo-e-pratica-15/
END:VEVENT
BEGIN:VEVENT
DTSTART;TZID=Pacific/Honolulu:20190404T183000
DTEND;TZID=Pacific/Honolulu:20190404T200000
DTSTAMP:20260425T165530
CREATED:20190319T004149Z
LAST-MODIFIED:20190319T004149Z
UID:4207-1554402600-1554408000@aksihawaii.org
SUMMARY:A VIDA NO MUNDO ESPIRITUAL: LIVRO NOSSO LAR
DESCRIPTION:Capítulos 11-12 (Notícias do Plano\, O Umbral )\nExpositores: Paulo e Gabi
URL:https://aksihawaii.org/event/a-vida-no-mundo-espiritual-livro-nosso-lar-5/
END:VEVENT
BEGIN:VEVENT
DTSTART;TZID=Pacific/Honolulu:20190331T090000
DTEND;TZID=Pacific/Honolulu:20190331T100000
DTSTAMP:20260425T165530
CREATED:20190302T181228Z
LAST-MODIFIED:20190302T182202Z
UID:4188-1554022800-1554026400@aksihawaii.org
SUMMARY:PUBLIC LECTURE
DESCRIPTION:Chapter 11. – LOVE YOUR NEIGHBOUR AS YOURSELF: Item 14 –  Instructions from the Spirits: Charity towards criminals.\nPaulo\n(In Portuguese)
URL:https://aksihawaii.org/event/public-lecture-29/
END:VEVENT
BEGIN:VEVENT
DTSTART;TZID=Pacific/Honolulu:20190331T090000
DTEND;TZID=Pacific/Honolulu:20190331T100000
DTSTAMP:20260425T165530
CREATED:20190301T215012Z
LAST-MODIFIED:20190301T215012Z
UID:4178-1554022800-1554026400@aksihawaii.org
SUMMARY:SPIRITIST CHILDREN EDUCATION
DESCRIPTION:Lesson 12. Our Choices\, Law of Cause & Effect\nTeacher: Raquel
URL:https://aksihawaii.org/event/spiritist-children-education-23/
END:VEVENT
BEGIN:VEVENT
DTSTART;TZID=Pacific/Honolulu:20190328T200000
DTEND;TZID=Pacific/Honolulu:20190328T210000
DTSTAMP:20260425T165530
CREATED:20190319T010949Z
LAST-MODIFIED:20190319T010949Z
UID:4237-1553803200-1553806800@aksihawaii.org
SUMMARY:MEDIUNIDADE: ESTUDO E PRÁTICA
DESCRIPTION:MÓDULO I: Reuniões mediúnicas\nRoteiro 2 – Condições de organização e funcionamento
URL:https://aksihawaii.org/event/mediunidade-estudo-e-pratica-14/
END:VEVENT
BEGIN:VEVENT
DTSTART;TZID=Pacific/Honolulu:20190328T183000
DTEND;TZID=Pacific/Honolulu:20190328T200000
DTSTAMP:20260425T165530
CREATED:20190319T003942Z
LAST-MODIFIED:20190319T003942Z
UID:4205-1553797800-1553803200@aksihawaii.org
SUMMARY:A VIDA NO MUNDO ESPIRITUAL: LIVRO NOSSO LAR
DESCRIPTION:Capítulos 8-10 (Organização de Serviços\, Problema de Alimentação\, No Bosque das Águas)\nExpositores: Ranata e Brisa
URL:https://aksihawaii.org/event/a-vida-no-mundo-espiritual-livro-nosso-lar-4/
END:VEVENT
BEGIN:VEVENT
DTSTART;TZID=Pacific/Honolulu:20190324T090000
DTEND;TZID=Pacific/Honolulu:20190324T100000
DTSTAMP:20260425T165530
CREATED:20190302T181544Z
LAST-MODIFIED:20190319T003504Z
UID:4190-1553418000-1553421600@aksihawaii.org
SUMMARY:PUBLIC LECTURE
DESCRIPTION:Chapter 11. – LOVE YOUR NEIGHBOUR AS YOURSELF: Item 13 – Instructions from the Spirits: Faith and Charity\nPaulo
URL:https://aksihawaii.org/event/public-lecture-30/
END:VEVENT
BEGIN:VEVENT
DTSTART;TZID=Pacific/Honolulu:20190324T090000
DTEND;TZID=Pacific/Honolulu:20190324T100000
DTSTAMP:20260425T165530
CREATED:20190301T214921Z
LAST-MODIFIED:20190301T214921Z
UID:4176-1553418000-1553421600@aksihawaii.org
SUMMARY:SPIRITIST CHILDREN EDUCATION
DESCRIPTION:Lesson 11. Life Goes On\nTeacher: Itana
URL:https://aksihawaii.org/event/spiritist-children-education-22/
END:VEVENT
BEGIN:VEVENT
DTSTART;TZID=Pacific/Honolulu:20190321T200000
DTEND;TZID=Pacific/Honolulu:20190321T210000
DTSTAMP:20260425T165530
CREATED:20190319T010835Z
LAST-MODIFIED:20190319T011153Z
UID:4235-1553198400-1553202000@aksihawaii.org
SUMMARY:MEDIUNIDADE: ESTUDO E PRÁTICA
DESCRIPTION:MÓDULO I: Reuniões mediúnicas\nRoteiro 1 – Reuniões mediúnicas sérias: natureza e características.\nExpositor: Paulo
URL:https://aksihawaii.org/event/mediunidade-estudo-e-pratica-13/
END:VEVENT
BEGIN:VEVENT
DTSTART;TZID=Pacific/Honolulu:20190321T183000
DTEND;TZID=Pacific/Honolulu:20190321T200000
DTSTAMP:20260425T165530
CREATED:20190319T003635Z
LAST-MODIFIED:20190319T003828Z
UID:4200-1553193000-1553198400@aksihawaii.org
SUMMARY:A VIDA NO MUNDO ESPIRITUAL: LIVRO NOSSO LAR
DESCRIPTION:Capítulos 4-7 (O Médico Espiritual\, Recebendo Assistência\, Precioso Aviso\, Explicações de Lísias )\nExpositores: Raquel\, Ines e Natalia
URL:https://aksihawaii.org/event/a-vida-no-mundo-espiritual-livro-nosso-lar-2/
END:VEVENT
BEGIN:VEVENT
DTSTART;TZID=Pacific/Honolulu:20190317T090000
DTEND;TZID=Pacific/Honolulu:20190317T100000
DTSTAMP:20260425T165530
CREATED:20190302T180944Z
LAST-MODIFIED:20190302T180944Z
UID:4184-1552813200-1552816800@aksihawaii.org
SUMMARY:PUBLIC LECTURE
DESCRIPTION:Chapter 11. – LOVE YOUR NEIGHBOUR AS YOURSELF: Item 11-12 – Instructions from the Spirits:  Selfishness\nPaulo
URL:https://aksihawaii.org/event/public-lecture-27/
END:VEVENT
BEGIN:VEVENT
DTSTART;TZID=Pacific/Honolulu:20190317T090000
DTEND;TZID=Pacific/Honolulu:20190317T100000
DTSTAMP:20260425T165530
CREATED:20190301T214832Z
LAST-MODIFIED:20190301T214832Z
UID:4174-1552813200-1552816800@aksihawaii.org
SUMMARY:SPIRITIST CHILDREN EDUCATION
DESCRIPTION:Lesson 10. God Loves Me\nTeacher: Renata
URL:https://aksihawaii.org/event/spiritist-children-education-21/
END:VEVENT
BEGIN:VEVENT
DTSTART;TZID=Pacific/Honolulu:20190314T183000
DTEND;TZID=Pacific/Honolulu:20190314T200000
DTSTAMP:20260425T165530
CREATED:20190319T003802Z
LAST-MODIFIED:20190319T003802Z
UID:4203-1552588200-1552593600@aksihawaii.org
SUMMARY:A VIDA NO MUNDO ESPIRITUAL: LIVRO NOSSO LAR
DESCRIPTION:Capítulos 1-3 (Nas zonas inferiores\, Clarêncio\, A Oração Coletiva  )\nExpositores: Lili e Mirian
URL:https://aksihawaii.org/event/a-vida-no-mundo-espiritual-livro-nosso-lar-3/
END:VEVENT
BEGIN:VEVENT
DTSTART;TZID=Pacific/Honolulu:20190310T090000
DTEND;TZID=Pacific/Honolulu:20190310T100000
DTSTAMP:20260425T165530
CREATED:20190302T180841Z
LAST-MODIFIED:20190302T180841Z
UID:4182-1552208400-1552212000@aksihawaii.org
SUMMARY:PUBLIC LECTURE
DESCRIPTION:Chapter 11. – LOVE YOUR NEIGHBOUR AS YOURSELF: Item 8-10 – Instructions from the Spirits: The law of love.\nRenata
URL:https://aksihawaii.org/event/public-lecture-26/
END:VEVENT
BEGIN:VEVENT
DTSTART;TZID=Pacific/Honolulu:20190310T090000
DTEND;TZID=Pacific/Honolulu:20190310T100000
DTSTAMP:20260425T165530
CREATED:20190301T214729Z
LAST-MODIFIED:20190301T214729Z
UID:4172-1552208400-1552212000@aksihawaii.org
SUMMARY:SPIRITIST CHILDREN EDUCATION
DESCRIPTION:Lesson 9. Review L. 6-8\nTeahcer: Raquel
URL:https://aksihawaii.org/event/spiritist-children-education-20/
END:VEVENT
BEGIN:VEVENT
DTSTART;TZID=Pacific/Honolulu:20190307T183000
DTEND;TZID=Pacific/Honolulu:20190307T200000
DTSTAMP:20260425T165530
CREATED:20190302T182045Z
LAST-MODIFIED:20190302T182045Z
UID:4194-1551983400-1551988800@aksihawaii.org
SUMMARY:A VIDA NO MUNDO ESPIRITUAL: LIVRO NOSSO LAR
DESCRIPTION:Apresentação\, Prefácio e Introdução\nExpositores: Gabi e Paulo
URL:https://aksihawaii.org/event/a-vida-no-mundo-espiritual-livro-nosso-lar/
END:VEVENT
BEGIN:VEVENT
DTSTART;TZID=Pacific/Honolulu:20190303T090000
DTEND;TZID=Pacific/Honolulu:20190303T100000
DTSTAMP:20260425T165530
CREATED:20190302T181112Z
LAST-MODIFIED:20190302T181803Z
UID:4186-1551603600-1551607200@aksihawaii.org
SUMMARY:PUBLIC LECTURE
DESCRIPTION:Chapter 11. – LOVE YOUR NEIGHBOUR AS YOURSELF: Item 5-7 – Give unto Caesar that which belongs to Caesar\nGeronimo
URL:https://aksihawaii.org/event/public-lecture-28/
END:VEVENT
BEGIN:VEVENT
DTSTART;TZID=Pacific/Honolulu:20190303T090000
DTEND;TZID=Pacific/Honolulu:20190303T100000
DTSTAMP:20260425T165530
CREATED:20190301T214630Z
LAST-MODIFIED:20190301T214630Z
UID:4170-1551603600-1551607200@aksihawaii.org
SUMMARY:SPIRITIST CHILDREN EDUCATION
DESCRIPTION:Lesson 8. Trusting God\, The Law of Evolution\nTeacher:Renata
URL:https://aksihawaii.org/event/spiritist-children-education-19/
END:VEVENT
BEGIN:VEVENT
DTSTART;TZID=Pacific/Honolulu:20190224T090000
DTEND;TZID=Pacific/Honolulu:20190224T100000
DTSTAMP:20260425T165530
CREATED:20190211T222554Z
LAST-MODIFIED:20190211T222554Z
UID:4166-1550998800-1551002400@aksihawaii.org
SUMMARY:PUBLIC LECTURE
DESCRIPTION:Chapter 11. – LOVE YOUR NEIGHBOUR AS YOURSELF: Item 1-4 – The greatest commandment. Do unto others as we would have them do unto as. The parable of the creditors and the debtors\nItana
URL:https://aksihawaii.org/event/public-lecture-24/
END:VEVENT
BEGIN:VEVENT
DTSTART;TZID=Pacific/Honolulu:20190224T090000
DTEND;TZID=Pacific/Honolulu:20190224T100000
DTSTAMP:20260425T165530
CREATED:20190211T222441Z
LAST-MODIFIED:20190211T222441Z
UID:4163-1550998800-1551002400@aksihawaii.org
SUMMARY:SPIRITIST CHILDREN EDUCATION
DESCRIPTION:Lesson 7. Talking to God\, Prayer\nRaquel
URL:https://aksihawaii.org/event/spiritist-children-education-18/
END:VEVENT
BEGIN:VEVENT
DTSTART;TZID=Pacific/Honolulu:20190217T090000
DTEND;TZID=Pacific/Honolulu:20190217T100000
DTSTAMP:20260425T165530
CREATED:20190211T222229Z
LAST-MODIFIED:20190211T222229Z
UID:4158-1550394000-1550397600@aksihawaii.org
SUMMARY:PUBLIC LECTURE
DESCRIPTION:Chapter 10. – BLESSED ARE THE MERCIFUL: Item 19 -21 – Instructions from the Spirits: Is it permitted to reprehend\, observe imperfections or to comment on the evil in others?\nRaquel
URL:https://aksihawaii.org/event/public-lecture-23/
END:VEVENT
BEGIN:VEVENT
DTSTART;TZID=Pacific/Honolulu:20190217T090000
DTEND;TZID=Pacific/Honolulu:20190217T100000
DTSTAMP:20260425T165530
CREATED:20190211T222128Z
LAST-MODIFIED:20190211T222128Z
UID:4155-1550394000-1550397600@aksihawaii.org
SUMMARY:SPIRITIST CHILDREN EDUCATION
DESCRIPTION:Lesson 6. Guardian Angels\nTeacher: Renata
URL:https://aksihawaii.org/event/spiritist-children-education-17/
END:VEVENT
BEGIN:VEVENT
DTSTART;TZID=Pacific/Honolulu:20190214T200000
DTEND;TZID=Pacific/Honolulu:20190214T210000
DTSTAMP:20260425T165530
CREATED:20190128T204027Z
LAST-MODIFIED:20190211T215254Z
UID:4115-1550174400-1550178000@aksihawaii.org
SUMMARY:MEDIUNIDADE: ESTUDO E PRÁTICA
DESCRIPTION:Expositor:Paulo
URL:https://aksihawaii.org/event/mediunidade-estudo-e-pratica-12/
END:VEVENT
BEGIN:VEVENT
DTSTART;TZID=Pacific/Honolulu:20190214T183000
DTEND;TZID=Pacific/Honolulu:20190214T200000
DTSTAMP:20260425T165530
CREATED:20190211T215449Z
LAST-MODIFIED:20190211T215449Z
UID:4146-1550169000-1550174400@aksihawaii.org
SUMMARY:ESDE
DESCRIPTION:Expositor: Paulo
URL:https://aksihawaii.org/event/esde/
END:VEVENT
BEGIN:VEVENT
DTSTART;TZID=Pacific/Honolulu:20190210T090000
DTEND;TZID=Pacific/Honolulu:20190210T100000
DTSTAMP:20260425T165530
CREATED:20190211T215713Z
LAST-MODIFIED:20190211T215713Z
UID:4152-1549789200-1549792800@aksihawaii.org
SUMMARY:PUBLIC LECTURE
DESCRIPTION:Chapter 10. – BLESSED ARE THE MERCIFUL: Item 16 -18 – Instructions from the Spirits: Indulgence\nPaulo
URL:https://aksihawaii.org/event/public-lecture-22/
END:VEVENT
BEGIN:VEVENT
DTSTART;TZID=Pacific/Honolulu:20190210T090000
DTEND;TZID=Pacific/Honolulu:20190210T100000
DTSTAMP:20260425T165530
CREATED:20190211T215603Z
LAST-MODIFIED:20190211T215603Z
UID:4149-1549789200-1549792800@aksihawaii.org
SUMMARY:SPIRITIST CHILDREN EDUCATION
DESCRIPTION:Review Lesson 1 -4\nTeacher: Itana
URL:https://aksihawaii.org/event/spiritist-children-education-16/
END:VEVENT
BEGIN:VEVENT
DTSTART;TZID=Pacific/Honolulu:20190207T200000
DTEND;TZID=Pacific/Honolulu:20190207T210000
DTSTAMP:20260425T165530
CREATED:20190122T233413Z
LAST-MODIFIED:20190128T204140Z
UID:4103-1549569600-1549573200@aksihawaii.org
SUMMARY:MEDIUNIDADE: ESTUDO E PRÁTICA
DESCRIPTION:MÓDULO IV – TEMA 4 – Exemplos de comunidades espirituais (1) Expositor: Paulo
URL:https://aksihawaii.org/event/mediunidade-estudo-e-pratica-11/
END:VEVENT
BEGIN:VEVENT
DTSTART;TZID=Pacific/Honolulu:20190207T183000
DTEND;TZID=Pacific/Honolulu:20190207T200000
DTSTAMP:20260425T165530
CREATED:20190114T183127Z
LAST-MODIFIED:20190114T183127Z
UID:4078-1549564200-1549569600@aksihawaii.org
SUMMARY:ESDE TOMO ÚNICO
DESCRIPTION:Módulo IX – Movimento Espírita e Unificação: Rot. 3 – O trabalho federativo e de unificação do Movimento\nEspírita: conceito\, diretrizes e estrutura. \nExpositor: Raquel
URL:https://aksihawaii.org/event/esde-tomo-unico-17/
END:VEVENT
BEGIN:VEVENT
DTSTART;TZID=Pacific/Honolulu:20190203T090000
DTEND;TZID=Pacific/Honolulu:20190203T100000
DTSTAMP:20260425T165530
CREATED:20190122T235330Z
LAST-MODIFIED:20190122T235330Z
UID:4112-1549184400-1549188000@aksihawaii.org
SUMMARY:PUBLIC LECTURE
DESCRIPTION:Chapter 10. – BLESSED ARE THE MERCIFUL: Item 14 -15 – Instructions from the Spirits: The pardoning of offences \nSpeaker: Geronimo \n(In English)
URL:https://aksihawaii.org/event/public-lecture-21/
END:VEVENT
BEGIN:VEVENT
DTSTART;TZID=Pacific/Honolulu:20190203T090000
DTEND;TZID=Pacific/Honolulu:20190203T100000
DTSTAMP:20260425T165530
CREATED:20190122T235028Z
LAST-MODIFIED:20190122T235028Z
UID:4109-1549184400-1549188000@aksihawaii.org
SUMMARY:SPIRITIST CHILDREN EDUCATION
DESCRIPTION: Lesson 4. God is My Friend\nTeahcer: Renata
URL:https://aksihawaii.org/event/spiritist-children-education-15/
END:VEVENT
END:VCALENDAR