BEGIN:VCALENDAR
VERSION:2.0
PRODID:-//Allan Kardec Spiritist Institute - ECPv6.15.20//NONSGML v1.0//EN
CALSCALE:GREGORIAN
METHOD:PUBLISH
X-WR-CALNAME:Allan Kardec Spiritist Institute
X-ORIGINAL-URL:https://aksihawaii.org
X-WR-CALDESC:Events for Allan Kardec Spiritist Institute
REFRESH-INTERVAL;VALUE=DURATION:PT1H
X-Robots-Tag:noindex
X-PUBLISHED-TTL:PT1H
BEGIN:VTIMEZONE
TZID:Pacific/Honolulu
BEGIN:STANDARD
TZOFFSETFROM:-1000
TZOFFSETTO:-1000
TZNAME:HST
DTSTART:20170101T000000
END:STANDARD
END:VTIMEZONE
BEGIN:VEVENT
DTSTART;TZID=Pacific/Honolulu:20190303T090000
DTEND;TZID=Pacific/Honolulu:20190303T100000
DTSTAMP:20260425T181943
CREATED:20190301T214630Z
LAST-MODIFIED:20190301T214630Z
UID:4170-1551603600-1551607200@aksihawaii.org
SUMMARY:SPIRITIST CHILDREN EDUCATION
DESCRIPTION:Lesson 8. Trusting God\, The Law of Evolution\nTeacher:Renata
URL:https://aksihawaii.org/event/spiritist-children-education-19/
END:VEVENT
BEGIN:VEVENT
DTSTART;TZID=Pacific/Honolulu:20190224T090000
DTEND;TZID=Pacific/Honolulu:20190224T100000
DTSTAMP:20260425T181943
CREATED:20190211T222554Z
LAST-MODIFIED:20190211T222554Z
UID:4166-1550998800-1551002400@aksihawaii.org
SUMMARY:PUBLIC LECTURE
DESCRIPTION:Chapter 11. – LOVE YOUR NEIGHBOUR AS YOURSELF: Item 1-4 – The greatest commandment. Do unto others as we would have them do unto as. The parable of the creditors and the debtors\nItana
URL:https://aksihawaii.org/event/public-lecture-24/
END:VEVENT
BEGIN:VEVENT
DTSTART;TZID=Pacific/Honolulu:20190224T090000
DTEND;TZID=Pacific/Honolulu:20190224T100000
DTSTAMP:20260425T181943
CREATED:20190211T222441Z
LAST-MODIFIED:20190211T222441Z
UID:4163-1550998800-1551002400@aksihawaii.org
SUMMARY:SPIRITIST CHILDREN EDUCATION
DESCRIPTION:Lesson 7. Talking to God\, Prayer\nRaquel
URL:https://aksihawaii.org/event/spiritist-children-education-18/
END:VEVENT
BEGIN:VEVENT
DTSTART;TZID=Pacific/Honolulu:20190217T090000
DTEND;TZID=Pacific/Honolulu:20190217T100000
DTSTAMP:20260425T181943
CREATED:20190211T222229Z
LAST-MODIFIED:20190211T222229Z
UID:4158-1550394000-1550397600@aksihawaii.org
SUMMARY:PUBLIC LECTURE
DESCRIPTION:Chapter 10. – BLESSED ARE THE MERCIFUL: Item 19 -21 – Instructions from the Spirits: Is it permitted to reprehend\, observe imperfections or to comment on the evil in others?\nRaquel
URL:https://aksihawaii.org/event/public-lecture-23/
END:VEVENT
BEGIN:VEVENT
DTSTART;TZID=Pacific/Honolulu:20190217T090000
DTEND;TZID=Pacific/Honolulu:20190217T100000
DTSTAMP:20260425T181943
CREATED:20190211T222128Z
LAST-MODIFIED:20190211T222128Z
UID:4155-1550394000-1550397600@aksihawaii.org
SUMMARY:SPIRITIST CHILDREN EDUCATION
DESCRIPTION:Lesson 6. Guardian Angels\nTeacher: Renata
URL:https://aksihawaii.org/event/spiritist-children-education-17/
END:VEVENT
BEGIN:VEVENT
DTSTART;TZID=Pacific/Honolulu:20190214T200000
DTEND;TZID=Pacific/Honolulu:20190214T210000
DTSTAMP:20260425T181943
CREATED:20190128T204027Z
LAST-MODIFIED:20190211T215254Z
UID:4115-1550174400-1550178000@aksihawaii.org
SUMMARY:MEDIUNIDADE: ESTUDO E PRÁTICA
DESCRIPTION:Expositor:Paulo
URL:https://aksihawaii.org/event/mediunidade-estudo-e-pratica-12/
END:VEVENT
BEGIN:VEVENT
DTSTART;TZID=Pacific/Honolulu:20190214T183000
DTEND;TZID=Pacific/Honolulu:20190214T200000
DTSTAMP:20260425T181943
CREATED:20190211T215449Z
LAST-MODIFIED:20190211T215449Z
UID:4146-1550169000-1550174400@aksihawaii.org
SUMMARY:ESDE
DESCRIPTION:Expositor: Paulo
URL:https://aksihawaii.org/event/esde/
END:VEVENT
BEGIN:VEVENT
DTSTART;TZID=Pacific/Honolulu:20190210T090000
DTEND;TZID=Pacific/Honolulu:20190210T100000
DTSTAMP:20260425T181943
CREATED:20190211T215713Z
LAST-MODIFIED:20190211T215713Z
UID:4152-1549789200-1549792800@aksihawaii.org
SUMMARY:PUBLIC LECTURE
DESCRIPTION:Chapter 10. – BLESSED ARE THE MERCIFUL: Item 16 -18 – Instructions from the Spirits: Indulgence\nPaulo
URL:https://aksihawaii.org/event/public-lecture-22/
END:VEVENT
BEGIN:VEVENT
DTSTART;TZID=Pacific/Honolulu:20190210T090000
DTEND;TZID=Pacific/Honolulu:20190210T100000
DTSTAMP:20260425T181943
CREATED:20190211T215603Z
LAST-MODIFIED:20190211T215603Z
UID:4149-1549789200-1549792800@aksihawaii.org
SUMMARY:SPIRITIST CHILDREN EDUCATION
DESCRIPTION:Review Lesson 1 -4\nTeacher: Itana
URL:https://aksihawaii.org/event/spiritist-children-education-16/
END:VEVENT
BEGIN:VEVENT
DTSTART;TZID=Pacific/Honolulu:20190207T200000
DTEND;TZID=Pacific/Honolulu:20190207T210000
DTSTAMP:20260425T181943
CREATED:20190122T233413Z
LAST-MODIFIED:20190128T204140Z
UID:4103-1549569600-1549573200@aksihawaii.org
SUMMARY:MEDIUNIDADE: ESTUDO E PRÁTICA
DESCRIPTION:MÓDULO IV – TEMA 4 – Exemplos de comunidades espirituais (1) Expositor: Paulo
URL:https://aksihawaii.org/event/mediunidade-estudo-e-pratica-11/
END:VEVENT
BEGIN:VEVENT
DTSTART;TZID=Pacific/Honolulu:20190207T183000
DTEND;TZID=Pacific/Honolulu:20190207T200000
DTSTAMP:20260425T181943
CREATED:20190114T183127Z
LAST-MODIFIED:20190114T183127Z
UID:4078-1549564200-1549569600@aksihawaii.org
SUMMARY:ESDE TOMO ÚNICO
DESCRIPTION:Módulo IX – Movimento Espírita e Unificação: Rot. 3 – O trabalho federativo e de unificação do Movimento\nEspírita: conceito\, diretrizes e estrutura. \nExpositor: Raquel
URL:https://aksihawaii.org/event/esde-tomo-unico-17/
END:VEVENT
BEGIN:VEVENT
DTSTART;TZID=Pacific/Honolulu:20190203T090000
DTEND;TZID=Pacific/Honolulu:20190203T100000
DTSTAMP:20260425T181943
CREATED:20190122T235330Z
LAST-MODIFIED:20190122T235330Z
UID:4112-1549184400-1549188000@aksihawaii.org
SUMMARY:PUBLIC LECTURE
DESCRIPTION:Chapter 10. – BLESSED ARE THE MERCIFUL: Item 14 -15 – Instructions from the Spirits: The pardoning of offences \nSpeaker: Geronimo \n(In English)
URL:https://aksihawaii.org/event/public-lecture-21/
END:VEVENT
BEGIN:VEVENT
DTSTART;TZID=Pacific/Honolulu:20190203T090000
DTEND;TZID=Pacific/Honolulu:20190203T100000
DTSTAMP:20260425T181943
CREATED:20190122T235028Z
LAST-MODIFIED:20190122T235028Z
UID:4109-1549184400-1549188000@aksihawaii.org
SUMMARY:SPIRITIST CHILDREN EDUCATION
DESCRIPTION: Lesson 4. God is My Friend\nTeahcer: Renata
URL:https://aksihawaii.org/event/spiritist-children-education-15/
END:VEVENT
BEGIN:VEVENT
DTSTART;TZID=Pacific/Honolulu:20190131T200000
DTEND;TZID=Pacific/Honolulu:20190131T210000
DTSTAMP:20260425T181943
CREATED:20190114T185238Z
LAST-MODIFIED:20190128T204331Z
UID:4099-1548964800-1548968400@aksihawaii.org
SUMMARY:MEDIUNIDADE: ESTUDO E PRÁTICA
DESCRIPTION:MÓDULO IV- A vida no plano espiritual Tema 3–  As comunidades do plano extrafísico
URL:https://aksihawaii.org/event/mediunidade-estudo-e-pratica-10/
END:VEVENT
BEGIN:VEVENT
DTSTART;TZID=Pacific/Honolulu:20190131T063000
DTEND;TZID=Pacific/Honolulu:20190131T200000
DTSTAMP:20260425T181943
CREATED:20181106T211705Z
LAST-MODIFIED:20190114T183309Z
UID:4054-1548916200-1548964800@aksihawaii.org
SUMMARY:ESDE TOMO ÚNICO
DESCRIPTION:Módulo IX – Movimento Espírita e Unificação: Rot. 2 – O Centro Espírita: conceitos\, objetivos e atividades básicas. \nExpositores: Itana e Geronimo
URL:https://aksihawaii.org/event/esde-tomo-unico-16/
END:VEVENT
BEGIN:VEVENT
DTSTART;TZID=Pacific/Honolulu:20190127T090000
DTEND;TZID=Pacific/Honolulu:20190127T100000
DTSTAMP:20260425T181943
CREATED:20190114T184633Z
LAST-MODIFIED:20190114T184633Z
UID:4093-1548579600-1548583200@aksihawaii.org
SUMMARY:SPIRITIST CHILDREN EDUCATION
DESCRIPTION:Lesson 3 – God’s Creation\nTeahcer: Itana
URL:https://aksihawaii.org/event/spiritist-children-education-14/
END:VEVENT
BEGIN:VEVENT
DTSTART;TZID=Pacific/Honolulu:20190127T090000
DTEND;TZID=Pacific/Honolulu:20190127T100000
DTSTAMP:20260425T181943
CREATED:20181106T211609Z
LAST-MODIFIED:20181106T211836Z
UID:4052-1548579600-1548583200@aksihawaii.org
SUMMARY:PUBLIC LECTURE
DESCRIPTION:Chapter 10. – BLESSED ARE THE MERCIFUL: Item 11-13 –  Do not judge others if you do not wish to be judged in return. He that is without sin\, let him be the first tocast a stone. \nExpositor: Paulo \n(In Portuguese)
URL:https://aksihawaii.org/event/public-lecture-20/
END:VEVENT
BEGIN:VEVENT
DTSTART;TZID=Pacific/Honolulu:20190124T200000
DTEND;TZID=Pacific/Honolulu:20190124T210000
DTSTAMP:20260425T181943
CREATED:20190114T185020Z
LAST-MODIFIED:20190128T204356Z
UID:4096-1548360000-1548363600@aksihawaii.org
SUMMARY:MEDIUNIDADE: ESTUDO E PRÁTICA
DESCRIPTION:MÓDULO IV- A vida no plano espiritual Tema 3–  As comunidades do plano extrafísico
URL:https://aksihawaii.org/event/mediunidade-estudo-e-pratica-6/
END:VEVENT
BEGIN:VEVENT
DTSTART;TZID=Pacific/Honolulu:20190124T183000
DTEND;TZID=Pacific/Honolulu:20190124T200000
DTSTAMP:20260425T181943
CREATED:20181106T211502Z
LAST-MODIFIED:20190114T183444Z
UID:4050-1548354600-1548360000@aksihawaii.org
SUMMARY:ESDE TOMO ÚNICO
DESCRIPTION:Módulo IX – Movimento Espírita e Unificação: Rot. 1 – Movimento Espírita: conceito e objetivo. \nExpositor: Paulo
URL:https://aksihawaii.org/event/esde-tomo-unico-15/
END:VEVENT
BEGIN:VEVENT
DTSTART;TZID=Pacific/Honolulu:20190120T090000
DTEND;TZID=Pacific/Honolulu:20190120T100000
DTSTAMP:20260425T181943
CREATED:20190114T184346Z
LAST-MODIFIED:20190114T184431Z
UID:4088-1547974800-1547978400@aksihawaii.org
SUMMARY:SPIRITIST CHILDREN EDUCATION
DESCRIPTION:Lesson 2 – God\, father and creator/\n           Attributes of God \nTeahcer: Raquel
URL:https://aksihawaii.org/event/spiritist-children-education-13/
END:VEVENT
BEGIN:VEVENT
DTSTART;TZID=Pacific/Honolulu:20190120T090000
DTEND;TZID=Pacific/Honolulu:20190120T100000
DTSTAMP:20260425T181943
CREATED:20181106T211403Z
LAST-MODIFIED:20190104T183252Z
UID:4048-1547974800-1547978400@aksihawaii.org
SUMMARY:PUBLIC LECTURE
DESCRIPTION:Chapter 10. – BLESSED ARE THE MERCIFUL: Item 9-10 -The mote and the beam in the eye. \nExpositor: Renata \n(In Portuguese)
URL:https://aksihawaii.org/event/public-lecture-19/
END:VEVENT
BEGIN:VEVENT
DTSTART;TZID=Pacific/Honolulu:20190117T200000
DTEND;TZID=Pacific/Honolulu:20190117T210000
DTSTAMP:20260425T181943
CREATED:20181008T085919Z
LAST-MODIFIED:20190104T183905Z
UID:3810-1547755200-1547758800@aksihawaii.org
SUMMARY:MEDIUNIDADE: ESTUDO E PRÁTICA
DESCRIPTION:MÓDULO IV- A vida no plano espiritual \nTema 3–  As comunidades do plano extrafísico
URL:https://aksihawaii.org/event/mediunidade-estudo-e-pratica-9/
END:VEVENT
BEGIN:VEVENT
DTSTART;TZID=Pacific/Honolulu:20190117T183000
DTEND;TZID=Pacific/Honolulu:20190117T200000
DTSTAMP:20260425T181943
CREATED:20181106T211134Z
LAST-MODIFIED:20190114T183533Z
UID:4046-1547749800-1547755200@aksihawaii.org
SUMMARY:ESDE TOMO ÚNICO
DESCRIPTION:Avaliação do Curso \nExpositor: Paulo
URL:https://aksihawaii.org/event/esde-tomo-unico-14/
END:VEVENT
BEGIN:VEVENT
DTSTART;TZID=Pacific/Honolulu:20190113T090000
DTEND;TZID=Pacific/Honolulu:20190113T100000
DTSTAMP:20260425T181943
CREATED:20190114T184050Z
LAST-MODIFIED:20190114T184050Z
UID:4085-1547370000-1547373600@aksihawaii.org
SUMMARY:SPIRITIST CHILDREN EDUCATION
DESCRIPTION:Lesson 1 – God is Awesome.\n           Body Divine gift. \nTeahcer: Raquel
URL:https://aksihawaii.org/event/spiritist-children-education-12/
END:VEVENT
BEGIN:VEVENT
DTSTART;TZID=Pacific/Honolulu:20190113T090000
DTEND;TZID=Pacific/Honolulu:20190113T100000
DTSTAMP:20260425T181943
CREATED:20181106T211018Z
LAST-MODIFIED:20190104T183144Z
UID:4044-1547370000-1547373600@aksihawaii.org
SUMMARY:PUBLIC LECTURE
DESCRIPTION:Chapter 10. – BLESSED ARE THE MERCIFUL: Item 7-8 – The sacrifice most agreeable to God. \nExpositor: Itana \n(In Portuguese)
URL:https://aksihawaii.org/event/public-lecture-18/
END:VEVENT
BEGIN:VEVENT
DTSTART;TZID=Pacific/Honolulu:20190110T200000
DTEND;TZID=Pacific/Honolulu:20190110T210000
DTSTAMP:20260425T181943
CREATED:20181008T085114Z
LAST-MODIFIED:20190104T183832Z
UID:3801-1547150400-1547154000@aksihawaii.org
SUMMARY:MEDIUNIDADE: ESTUDO E PRÁTICA
DESCRIPTION:MÓDULO IV- A vida no plano espiritual \nTema 2 –  Os espíritos errantes
URL:https://aksihawaii.org/event/mediunidade-estudo-e-pratica-8/
END:VEVENT
BEGIN:VEVENT
DTSTART;TZID=Pacific/Honolulu:20190110T183000
DTEND;TZID=Pacific/Honolulu:20190110T200000
DTSTAMP:20260425T181943
CREATED:20181106T205402Z
LAST-MODIFIED:20190108T182700Z
UID:4042-1547145000-1547150400@aksihawaii.org
SUMMARY:ESDE TOMO ÚNICO
DESCRIPTION:Módulo VIII – Evolução do Pensamento Religioso : Rot. 6 – Espiritismo: o Consolador prometido por Jesus. \nExpositores: Gabriela
URL:https://aksihawaii.org/event/esde-tomo-unico-13/
END:VEVENT
BEGIN:VEVENT
DTSTART;TZID=Pacific/Honolulu:20190106T090000
DTEND;TZID=Pacific/Honolulu:20190106T100000
DTSTAMP:20260425T181943
CREATED:20181106T204755Z
LAST-MODIFIED:20181106T211940Z
UID:4039-1546765200-1546768800@aksihawaii.org
SUMMARY:PUBLIC LECTURE
DESCRIPTION:Chapter 10. – BLESSED ARE THE MERCIFUL: Item 5-6 – Reconciliation with your adversaries. \nExpositor: Geronimo \n(In English)
URL:https://aksihawaii.org/event/public-lecture-17/
END:VEVENT
BEGIN:VEVENT
DTSTART;TZID=Pacific/Honolulu:20190103T183000
DTEND;TZID=Pacific/Honolulu:20190103T193000
DTSTAMP:20260425T181943
CREATED:20181008T091750Z
LAST-MODIFIED:20181008T091750Z
UID:3828-1546540200-1546543800@aksihawaii.org
SUMMARY:NEW YEAR REFLECTION
DESCRIPTION:
URL:https://aksihawaii.org/event/new-year-reflection/
END:VEVENT
BEGIN:VEVENT
DTSTART;TZID=Pacific/Honolulu:20181230T090000
DTEND;TZID=Pacific/Honolulu:20181230T100000
DTSTAMP:20260425T181943
CREATED:20181008T092144Z
LAST-MODIFIED:20181008T092144Z
UID:3833-1546160400-1546164000@aksihawaii.org
SUMMARY:SPIRITIST CHILDREN EDUCATION
DESCRIPTION:WINTER BREAK
URL:https://aksihawaii.org/event/spiritist-children-education-11/
END:VEVENT
END:VCALENDAR