BEGIN:VCALENDAR
VERSION:2.0
PRODID:-//Allan Kardec Spiritist Institute - ECPv6.15.20//NONSGML v1.0//EN
CALSCALE:GREGORIAN
METHOD:PUBLISH
X-ORIGINAL-URL:https://aksihawaii.org
X-WR-CALDESC:Events for Allan Kardec Spiritist Institute
REFRESH-INTERVAL;VALUE=DURATION:PT1H
X-Robots-Tag:noindex
X-PUBLISHED-TTL:PT1H
BEGIN:VTIMEZONE
TZID:Pacific/Honolulu
BEGIN:STANDARD
TZOFFSETFROM:-1000
TZOFFSETTO:-1000
TZNAME:HST
DTSTART:20240101T000000
END:STANDARD
END:VTIMEZONE
BEGIN:VEVENT
DTSTART;TZID=Pacific/Honolulu:20250623T200000
DTEND;TZID=Pacific/Honolulu:20250623T203000
DTSTAMP:20260424T055931
CREATED:20250522T044625Z
LAST-MODIFIED:20250522T044625Z
UID:4839-1750708800-1750710600@aksihawaii.org
SUMMARY:Study of the” Acts of the Apostles” (CANCELED)
DESCRIPTION:
URL:https://aksihawaii.org/event/study-of-the-acts-of-the-apostles-canceled/
END:VEVENT
BEGIN:VEVENT
DTSTART;TZID=Pacific/Honolulu:20250625T193000
DTEND;TZID=Pacific/Honolulu:20250625T203000
DTSTAMP:20260424T055931
CREATED:20250522T070613Z
LAST-MODIFIED:20250522T070613Z
UID:4851-1750879800-1750883400@aksihawaii.org
SUMMARY:Gospel According to Spiritism and The Spirits’ Book Study (In English)
DESCRIPTION:Meeting via ZOOM Meeting ID: 97580261745 Password: 966092
URL:https://aksihawaii.org/event/gospel-according-to-spiritism-and-the-spirits-book-study-in-english-8/
END:VEVENT
BEGIN:VEVENT
DTSTART;TZID=Pacific/Honolulu:20250628T170000
DTEND;TZID=Pacific/Honolulu:20250628T213000
DTSTAMP:20260424T055931
CREATED:20250522T045228Z
LAST-MODIFIED:20250522T180605Z
UID:4843-1751130000-1751146200@aksihawaii.org
SUMMARY:FESTA NO ARRAIAL
DESCRIPTION:Fourth  year celebrating our fundraising Festa no Arraial!
URL:https://aksihawaii.org/event/festa-no-arraial-2/
LOCATION:Heritage Hall\, 401 Baldwin Ave\, Paia\, HI\, 96779\, United States
END:VEVENT
BEGIN:VEVENT
DTSTART;TZID=Pacific/Honolulu:20250630T190000
DTEND;TZID=Pacific/Honolulu:20250630T193000
DTSTAMP:20260424T055931
CREATED:20250522T043939Z
LAST-MODIFIED:20250522T180518Z
UID:4825-1751310000-1751311800@aksihawaii.org
SUMMARY:Gospel According to Spiritism (In Portuguese)
DESCRIPTION:
URL:https://aksihawaii.org/event/gospel-according-to-spiritism-in-portuguese-10/
LOCATION:Heritage Hall\, 401 Baldwin Ave\, Paia\, HI\, 96779\, United States
END:VEVENT
BEGIN:VEVENT
DTSTART;TZID=Pacific/Honolulu:20250630T193000
DTEND;TZID=Pacific/Honolulu:20250630T194500
DTSTAMP:20260424T055931
CREATED:20250522T044421Z
LAST-MODIFIED:20250522T044421Z
UID:4837-1751311800-1751312700@aksihawaii.org
SUMMARY:Therapeutic Passes
DESCRIPTION:
URL:https://aksihawaii.org/event/therapeutic-passes-10/
END:VEVENT
BEGIN:VEVENT
DTSTART;TZID=Pacific/Honolulu:20250630T200000
DTEND;TZID=Pacific/Honolulu:20250630T203000
DTSTAMP:20260424T055931
CREATED:20250522T043112Z
LAST-MODIFIED:20250617T165504Z
UID:4813-1751313600-1751315400@aksihawaii.org
SUMMARY:Study of the” Acts of the Apostles” (In Portuguese)
DESCRIPTION:CHAPTER 2 : PENTECOST (2:1-42) \n 
URL:https://aksihawaii.org/event/study-of-the-acts-of-the-apostles-in-portuguese-5/
END:VEVENT
BEGIN:VEVENT
DTSTART;TZID=Pacific/Honolulu:20250702T193000
DTEND;TZID=Pacific/Honolulu:20250702T203000
DTSTAMP:20260424T055931
CREATED:20250522T070724Z
LAST-MODIFIED:20250522T070724Z
UID:4853-1751484600-1751488200@aksihawaii.org
SUMMARY:Gospel According to Spiritism and The Spirits’ Book Study (In English)
DESCRIPTION:Meeting via ZOOM Meeting ID: 97580261745 Password: 966092
URL:https://aksihawaii.org/event/gospel-according-to-spiritism-and-the-spirits-book-study-in-english-9/
END:VEVENT
BEGIN:VEVENT
DTSTART;TZID=Pacific/Honolulu:20250707T190000
DTEND;TZID=Pacific/Honolulu:20250707T193000
DTSTAMP:20260424T055931
CREATED:20250522T070945Z
LAST-MODIFIED:20250522T180458Z
UID:4855-1751914800-1751916600@aksihawaii.org
SUMMARY:Gospel According to Spiritism (In Portuguese)
DESCRIPTION:
URL:https://aksihawaii.org/event/gospel-according-to-spiritism-in-portuguese-11/
LOCATION:Heritage Hall\, 401 Baldwin Ave\, Paia\, HI\, 96779\, United States
END:VEVENT
BEGIN:VEVENT
DTSTART;TZID=Pacific/Honolulu:20250707T193000
DTEND;TZID=Pacific/Honolulu:20250707T194500
DTSTAMP:20260424T055931
CREATED:20250522T071019Z
LAST-MODIFIED:20250522T071019Z
UID:4857-1751916600-1751917500@aksihawaii.org
SUMMARY:Therapeutic Passes
DESCRIPTION:
URL:https://aksihawaii.org/event/therapeutic-passes-11/
END:VEVENT
BEGIN:VEVENT
DTSTART;TZID=Pacific/Honolulu:20250707T200000
DTEND;TZID=Pacific/Honolulu:20250707T203000
DTSTAMP:20260424T055931
CREATED:20250522T174556Z
LAST-MODIFIED:20250617T165541Z
UID:4873-1751918400-1751920200@aksihawaii.org
SUMMARY:Study of the” Acts of the Apostles” (In Portuguese)
DESCRIPTION:CHAPTER 2: THE LIFE OF EARLY CHRISTIANS (2:43-47) \n 
URL:https://aksihawaii.org/event/study-of-the-acts-of-the-apostles-in-portuguese-6/
END:VEVENT
BEGIN:VEVENT
DTSTART;TZID=Pacific/Honolulu:20250709T193000
DTEND;TZID=Pacific/Honolulu:20250709T203000
DTSTAMP:20260424T055931
CREATED:20250522T175357Z
LAST-MODIFIED:20250522T175357Z
UID:4881-1752089400-1752093000@aksihawaii.org
SUMMARY:Gospel According to Spiritism and The Spirits’ Book Study (In English)
DESCRIPTION:Meeting via ZOOM Meeting ID: 97580261745 Password: 966092
URL:https://aksihawaii.org/event/gospel-according-to-spiritism-and-the-spirits-book-study-in-english-10/
END:VEVENT
BEGIN:VEVENT
DTSTART;TZID=Pacific/Honolulu:20250714T190000
DTEND;TZID=Pacific/Honolulu:20250714T193000
DTSTAMP:20260424T055931
CREATED:20250522T174020Z
LAST-MODIFIED:20250522T180441Z
UID:4867-1752519600-1752521400@aksihawaii.org
SUMMARY:Gospel According to Spiritism (In Portuguese)
DESCRIPTION:
URL:https://aksihawaii.org/event/gospel-according-to-spiritism-in-portuguese-13/
LOCATION:Heritage Hall\, 401 Baldwin Ave\, Paia\, HI\, 96779\, United States
END:VEVENT
BEGIN:VEVENT
DTSTART;TZID=Pacific/Honolulu:20250714T193000
DTEND;TZID=Pacific/Honolulu:20250714T194500
DTSTAMP:20260424T055931
CREATED:20250522T173813Z
LAST-MODIFIED:20250522T173813Z
UID:4859-1752521400-1752522300@aksihawaii.org
SUMMARY:Therapeutic Passes
DESCRIPTION:
URL:https://aksihawaii.org/event/therapeutic-passes-12/
END:VEVENT
BEGIN:VEVENT
DTSTART;TZID=Pacific/Honolulu:20250714T200000
DTEND;TZID=Pacific/Honolulu:20250714T203000
DTSTAMP:20260424T055931
CREATED:20250522T174754Z
LAST-MODIFIED:20250617T165604Z
UID:4875-1752523200-1752525000@aksihawaii.org
SUMMARY:Study of the” Acts of the Apostles” (In Portuguese)
DESCRIPTION:CHAPTER 3 : THE HEALING OF A LAME MAN (3:1-10) \n 
URL:https://aksihawaii.org/event/study-of-the-acts-of-the-apostles-in-portuguese-7/
END:VEVENT
BEGIN:VEVENT
DTSTART;TZID=Pacific/Honolulu:20250716T193000
DTEND;TZID=Pacific/Honolulu:20250716T203000
DTSTAMP:20260424T055931
CREATED:20250522T175444Z
LAST-MODIFIED:20250522T175444Z
UID:4883-1752694200-1752697800@aksihawaii.org
SUMMARY:Gospel According to Spiritism and The Spirits’ Book Study (In English)
DESCRIPTION:Meeting via ZOOM Meeting ID: 97580261745 Password: 966092
URL:https://aksihawaii.org/event/gospel-according-to-spiritism-and-the-spirits-book-study-in-english-11/
END:VEVENT
BEGIN:VEVENT
DTSTART;TZID=Pacific/Honolulu:20250721T190000
DTEND;TZID=Pacific/Honolulu:20250721T193000
DTSTAMP:20260424T055931
CREATED:20250522T174057Z
LAST-MODIFIED:20250522T180406Z
UID:4869-1753124400-1753126200@aksihawaii.org
SUMMARY:Gospel According to Spiritism (In Portuguese)
DESCRIPTION:
URL:https://aksihawaii.org/event/gospel-according-to-spiritism-in-portuguese-14/
LOCATION:Heritage Hall\, 401 Baldwin Ave\, Paia\, HI\, 96779\, United States
END:VEVENT
BEGIN:VEVENT
DTSTART;TZID=Pacific/Honolulu:20250721T193000
DTEND;TZID=Pacific/Honolulu:20250721T194500
DTSTAMP:20260424T055931
CREATED:20250522T173847Z
LAST-MODIFIED:20250522T173847Z
UID:4861-1753126200-1753127100@aksihawaii.org
SUMMARY:Therapeutic Passes
DESCRIPTION:
URL:https://aksihawaii.org/event/therapeutic-passes-13/
END:VEVENT
BEGIN:VEVENT
DTSTART;TZID=Pacific/Honolulu:20250721T200000
DTEND;TZID=Pacific/Honolulu:20250721T203000
DTSTAMP:20260424T055931
CREATED:20250522T175008Z
LAST-MODIFIED:20250617T165626Z
UID:4877-1753128000-1753129800@aksihawaii.org
SUMMARY:Study of the” Acts of the Apostles” (In Portuguese)
DESCRIPTION:CHAPTER 3: PETER’S SPEECH (3:11-26) \n 
URL:https://aksihawaii.org/event/study-of-the-acts-of-the-apostles-in-portuguese-8/
END:VEVENT
BEGIN:VEVENT
DTSTART;TZID=Pacific/Honolulu:20250723T193000
DTEND;TZID=Pacific/Honolulu:20250723T203000
DTSTAMP:20260424T055931
CREATED:20250522T175523Z
LAST-MODIFIED:20250522T175523Z
UID:4885-1753299000-1753302600@aksihawaii.org
SUMMARY:Gospel According to Spiritism and The Spirits’ Book Study (In English)
DESCRIPTION:Meeting via ZOOM Meeting ID: 97580261745 Password: 966092
URL:https://aksihawaii.org/event/gospel-according-to-spiritism-and-the-spirits-book-study-in-english-12/
END:VEVENT
BEGIN:VEVENT
DTSTART;TZID=Pacific/Honolulu:20250728T190000
DTEND;TZID=Pacific/Honolulu:20250728T193000
DTSTAMP:20260424T055931
CREATED:20250522T174131Z
LAST-MODIFIED:20250522T180346Z
UID:4871-1753729200-1753731000@aksihawaii.org
SUMMARY:Gospel According to Spiritism (In Portuguese)
DESCRIPTION:
URL:https://aksihawaii.org/event/gospel-according-to-spiritism-in-portuguese-15/
LOCATION:Heritage Hall\, 401 Baldwin Ave\, Paia\, HI\, 96779\, United States
END:VEVENT
BEGIN:VEVENT
DTSTART;TZID=Pacific/Honolulu:20250728T193000
DTEND;TZID=Pacific/Honolulu:20250728T194500
DTSTAMP:20260424T055931
CREATED:20250522T173916Z
LAST-MODIFIED:20250522T180208Z
UID:4863-1753731000-1753731900@aksihawaii.org
SUMMARY:Therapeutic Passes
DESCRIPTION:
URL:https://aksihawaii.org/event/therapeutic-passes-14/
END:VEVENT
BEGIN:VEVENT
DTSTART;TZID=Pacific/Honolulu:20250728T200000
DTEND;TZID=Pacific/Honolulu:20250728T203000
DTSTAMP:20260424T055931
CREATED:20250522T175246Z
LAST-MODIFIED:20250831T230829Z
UID:4879-1753732800-1753734600@aksihawaii.org
SUMMARY:Study of the” Acts of the Apostles” (In Portuguese)
DESCRIPTION:
URL:https://aksihawaii.org/event/study-of-the-acts-of-the-apostles-in-portuguese-9/
END:VEVENT
BEGIN:VEVENT
DTSTART;TZID=Pacific/Honolulu:20250730T193000
DTEND;TZID=Pacific/Honolulu:20250730T203000
DTSTAMP:20260424T055931
CREATED:20250522T175603Z
LAST-MODIFIED:20250522T175603Z
UID:4887-1753903800-1753907400@aksihawaii.org
SUMMARY:Gospel According to Spiritism and The Spirits’ Book Study (In English)
DESCRIPTION:Meeting via ZOOM Meeting ID: 97580261745 Password: 966092
URL:https://aksihawaii.org/event/gospel-according-to-spiritism-and-the-spirits-book-study-in-english-13/
END:VEVENT
BEGIN:VEVENT
DTSTART;VALUE=DATE:20250801
DTEND;VALUE=DATE:20250802
DTSTAMP:20260424T055931
CREATED:20250901T024021Z
LAST-MODIFIED:20250901T024021Z
UID:5102-1754006400-1754092799@aksihawaii.org
SUMMARY:Book Heaven and Hell - 160 years since publication
DESCRIPTION:
URL:https://aksihawaii.org/event/book-heaven-and-hell-160-years-since-publication/
END:VEVENT
BEGIN:VEVENT
DTSTART;TZID=Pacific/Honolulu:20250804T200000
DTEND;TZID=Pacific/Honolulu:20250804T203000
DTSTAMP:20260424T055931
CREATED:20250617T165807Z
LAST-MODIFIED:20250831T230753Z
UID:4905-1754337600-1754339400@aksihawaii.org
SUMMARY:Study of the” Acts of the Apostles” (In Portuguese)
DESCRIPTION:
URL:https://aksihawaii.org/event/study-of-the-acts-of-the-apostles-in-portuguese-10/
END:VEVENT
BEGIN:VEVENT
DTSTART;VALUE=DATE:20250815
DTEND;VALUE=DATE:20250816
DTSTAMP:20260424T055931
CREATED:20250901T024713Z
LAST-MODIFIED:20250901T024713Z
UID:5110-1755216000-1755302399@aksihawaii.org
SUMMARY:MEDIUM'S BOOK - 165 YEARS SINCE PUBLICATION
DESCRIPTION:
URL:https://aksihawaii.org/event/mediums-book-165-years-since-publication/
END:VEVENT
BEGIN:VEVENT
DTSTART;TZID=Pacific/Honolulu:20250901T190000
DTEND;TZID=Pacific/Honolulu:20250901T193000
DTSTAMP:20260424T055931
CREATED:20250831T210334Z
LAST-MODIFIED:20250831T210334Z
UID:4911-1756753200-1756755000@aksihawaii.org
SUMMARY:Gospel According to Spiritism (In Portuguese)
DESCRIPTION:
URL:https://aksihawaii.org/event/gospel-according-to-spiritism-in-portuguese-12/
END:VEVENT
BEGIN:VEVENT
DTSTART;TZID=Pacific/Honolulu:20250901T193000
DTEND;TZID=Pacific/Honolulu:20250901T194500
DTSTAMP:20260424T055931
CREATED:20250831T210435Z
LAST-MODIFIED:20250831T210435Z
UID:4913-1756755000-1756755900@aksihawaii.org
SUMMARY:Therapeutic Passes
DESCRIPTION:
URL:https://aksihawaii.org/event/therapeutic-passes-15/
END:VEVENT
BEGIN:VEVENT
DTSTART;TZID=Pacific/Honolulu:20250901T200000
DTEND;TZID=Pacific/Honolulu:20250901T203000
DTSTAMP:20260424T055931
CREATED:20250831T210535Z
LAST-MODIFIED:20250831T221021Z
UID:4915-1756756800-1756758600@aksihawaii.org
SUMMARY:Study of the” Acts of the Apostles” (In Portuguese)
DESCRIPTION:CHAPTER 4 : PETER AND JOHN BEFORE THE SANHEDRIN (4:1-22)
URL:https://aksihawaii.org/event/study-of-the-acts-of-the-apostles-in-portuguese-11/
END:VEVENT
BEGIN:VEVENT
DTSTART;TZID=Pacific/Honolulu:20250903T193000
DTEND;TZID=Pacific/Honolulu:20250903T203000
DTSTAMP:20260424T055931
CREATED:20250831T224539Z
LAST-MODIFIED:20250831T224539Z
UID:5019-1756927800-1756931400@aksihawaii.org
SUMMARY:Gospel According to Spiritism and The Spirits’ Book Study (In English)
DESCRIPTION:Meeting via ZOOM Meeting ID: 97580261745 Password: 966092
URL:https://aksihawaii.org/event/gospel-according-to-spiritism-and-the-spirits-book-study-in-english-14/
END:VEVENT
END:VCALENDAR