BEGIN:VCALENDAR
VERSION:2.0
PRODID:-//Allan Kardec Spiritist Institute - ECPv6.15.20//NONSGML v1.0//EN
CALSCALE:GREGORIAN
METHOD:PUBLISH
X-ORIGINAL-URL:https://aksihawaii.org
X-WR-CALDESC:Events for Allan Kardec Spiritist Institute
REFRESH-INTERVAL;VALUE=DURATION:PT1H
X-Robots-Tag:noindex
X-PUBLISHED-TTL:PT1H
BEGIN:VTIMEZONE
TZID:Pacific/Honolulu
BEGIN:STANDARD
TZOFFSETFROM:-1000
TZOFFSETTO:-1000
TZNAME:HST
DTSTART:20240101T000000
END:STANDARD
END:VTIMEZONE
BEGIN:VEVENT
DTSTART;TZID=Pacific/Honolulu:20250922T190000
DTEND;TZID=Pacific/Honolulu:20250922T193000
DTSTAMP:20260424T025923
CREATED:20250831T221238Z
LAST-MODIFIED:20250831T221238Z
UID:4967-1758567600-1758569400@aksihawaii.org
SUMMARY:Gospel According to Spiritism (In Portuguese)
DESCRIPTION:
URL:https://aksihawaii.org/event/gospel-according-to-spiritism-in-portuguese-18/
END:VEVENT
BEGIN:VEVENT
DTSTART;TZID=Pacific/Honolulu:20250922T193000
DTEND;TZID=Pacific/Honolulu:20250922T194500
DTSTAMP:20260424T025923
CREATED:20250831T222804Z
LAST-MODIFIED:20250831T222949Z
UID:4991-1758569400-1758570300@aksihawaii.org
SUMMARY:Therapeutic Passes
DESCRIPTION:
URL:https://aksihawaii.org/event/therapeutic-passes-16/
END:VEVENT
BEGIN:VEVENT
DTSTART;TZID=Pacific/Honolulu:20250922T200000
DTEND;TZID=Pacific/Honolulu:20250922T203000
DTSTAMP:20260424T025923
CREATED:20250831T211111Z
LAST-MODIFIED:20250912T231727Z
UID:4920-1758571200-1758573000@aksihawaii.org
SUMMARY:Study of the” Acts of the Apostles” (In Portuguese)
DESCRIPTION:CHAPTER 4: PRAYER OF APOSTLES IN PERSECUTION (4:23-31) \n 
URL:https://aksihawaii.org/event/study-of-the-acts-of-the-apostles-in-portuguese-13/
END:VEVENT
BEGIN:VEVENT
DTSTART;TZID=Pacific/Honolulu:20250924T193000
DTEND;TZID=Pacific/Honolulu:20250924T203000
DTSTAMP:20260424T025923
CREATED:20250831T224730Z
LAST-MODIFIED:20250831T224730Z
UID:5025-1758742200-1758745800@aksihawaii.org
SUMMARY:Gospel According to Spiritism and The Spirits’ Book Study (In English)
DESCRIPTION:Meeting via ZOOM Meeting ID: 97580261745 Password: 966092
URL:https://aksihawaii.org/event/gospel-according-to-spiritism-and-the-spirits-book-study-in-english-17/
END:VEVENT
BEGIN:VEVENT
DTSTART;TZID=Pacific/Honolulu:20250927T090000
DTEND;TZID=Pacific/Honolulu:20250927T100000
DTSTAMP:20260424T025923
CREATED:20250901T004201Z
LAST-MODIFIED:20250901T004201Z
UID:5069-1758963600-1758967200@aksihawaii.org
SUMMARY:SPIRITIST EDUCATION (SCHOOL OF VIRTUES)
DESCRIPTION:FOR KIDS\, PRE-TEENS\, AND TEENS \nLESSON 8: GOD LOVES ME
URL:https://aksihawaii.org/event/spiritist-education-school-of-virtues-4/
END:VEVENT
BEGIN:VEVENT
DTSTART;TZID=Pacific/Honolulu:20250929T190000
DTEND;TZID=Pacific/Honolulu:20250929T193000
DTSTAMP:20260424T025923
CREATED:20250831T221131Z
LAST-MODIFIED:20250831T221332Z
UID:4963-1759172400-1759174200@aksihawaii.org
SUMMARY:Gospel According to Spiritism (In Portuguese)
DESCRIPTION:
URL:https://aksihawaii.org/event/gospel-according-to-spiritism-in-portuguese-16/
END:VEVENT
BEGIN:VEVENT
DTSTART;TZID=Pacific/Honolulu:20250929T193000
DTEND;TZID=Pacific/Honolulu:20250929T194500
DTSTAMP:20260424T025923
CREATED:20250831T223654Z
LAST-MODIFIED:20250831T223654Z
UID:4995-1759174200-1759175100@aksihawaii.org
SUMMARY:Therapeutic Passes
DESCRIPTION:
URL:https://aksihawaii.org/event/therapeutic-passes-18/
END:VEVENT
BEGIN:VEVENT
DTSTART;TZID=Pacific/Honolulu:20250929T200000
DTEND;TZID=Pacific/Honolulu:20250929T203000
DTSTAMP:20260424T025923
CREATED:20250831T211425Z
LAST-MODIFIED:20250912T231932Z
UID:4922-1759176000-1759177800@aksihawaii.org
SUMMARY:Study of the” Acts of the Apostles” (In Portuguese)
DESCRIPTION:CHAPTER 4: PRAYER OF APOSTLES IN PERSECUTION (4:23-31) \n  \n 
URL:https://aksihawaii.org/event/study-of-the-acts-of-the-apostles-in-portuguese-14/
END:VEVENT
BEGIN:VEVENT
DTSTART;TZID=Pacific/Honolulu:20251001T193000
DTEND;TZID=Pacific/Honolulu:20251001T203000
DTSTAMP:20260424T025923
CREATED:20250831T224810Z
LAST-MODIFIED:20250831T224810Z
UID:5027-1759347000-1759350600@aksihawaii.org
SUMMARY:Gospel According to Spiritism and The Spirits’ Book Study (In English)
DESCRIPTION:Meeting via ZOOM Meeting ID: 97580261745 Password: 966092
URL:https://aksihawaii.org/event/gospel-according-to-spiritism-and-the-spirits-book-study-in-english-18/
END:VEVENT
BEGIN:VEVENT
DTSTART;VALUE=DATE:20251003
DTEND;VALUE=DATE:20251004
DTSTAMP:20260424T025923
CREATED:20250901T024109Z
LAST-MODIFIED:20250901T024109Z
UID:5104-1759449600-1759535999@aksihawaii.org
SUMMARY:Allan Kardec's Birthday
DESCRIPTION:
URL:https://aksihawaii.org/event/allan-kardecs-birthday/
END:VEVENT
BEGIN:VEVENT
DTSTART;TZID=Pacific/Honolulu:20251004T090000
DTEND;TZID=Pacific/Honolulu:20251004T100000
DTSTAMP:20260424T025923
CREATED:20250901T004342Z
LAST-MODIFIED:20250901T011638Z
UID:5071-1759568400-1759572000@aksihawaii.org
SUMMARY:SPIRITIST EDUCATION (SCHOOL OF VIRTUES)
DESCRIPTION:FOR KIDS\, PRE-TEENS\, AND TEENS \nLESSON 9:  LIFE GOES ON
URL:https://aksihawaii.org/event/spiritist-education-school-of-virtues-5/
END:VEVENT
BEGIN:VEVENT
DTSTART;TZID=Pacific/Honolulu:20251006T190000
DTEND;TZID=Pacific/Honolulu:20251006T193000
DTSTAMP:20260424T025923
CREATED:20250831T221440Z
LAST-MODIFIED:20250831T221440Z
UID:4969-1759777200-1759779000@aksihawaii.org
SUMMARY:Gospel According to Spiritism (In Portuguese)
DESCRIPTION:
URL:https://aksihawaii.org/event/gospel-according-to-spiritism-in-portuguese-19/
END:VEVENT
BEGIN:VEVENT
DTSTART;TZID=Pacific/Honolulu:20251006T193000
DTEND;TZID=Pacific/Honolulu:20251006T194500
DTSTAMP:20260424T025923
CREATED:20250831T223755Z
LAST-MODIFIED:20250831T223755Z
UID:4997-1759779000-1759779900@aksihawaii.org
SUMMARY:Therapeutic Passes
DESCRIPTION:
URL:https://aksihawaii.org/event/therapeutic-passes-19/
END:VEVENT
BEGIN:VEVENT
DTSTART;TZID=Pacific/Honolulu:20251006T200000
DTEND;TZID=Pacific/Honolulu:20251006T203000
DTSTAMP:20260424T025923
CREATED:20250831T211756Z
LAST-MODIFIED:20250912T231827Z
UID:4926-1759780800-1759782600@aksihawaii.org
SUMMARY:Study of the” Acts of the Apostles” (In Portuguese)
DESCRIPTION:CHAPTER 4 : THE FIRST CHRISTIAN COMMUNITY (4:32-35) \n 
URL:https://aksihawaii.org/event/study-of-the-acts-of-the-apostles-in-portuguese-15/
END:VEVENT
BEGIN:VEVENT
DTSTART;TZID=Pacific/Honolulu:20251008T193000
DTEND;TZID=Pacific/Honolulu:20251008T203000
DTSTAMP:20260424T025923
CREATED:20250831T224853Z
LAST-MODIFIED:20250831T224853Z
UID:5029-1759951800-1759955400@aksihawaii.org
SUMMARY:Gospel According to Spiritism and The Spirits’ Book Study (In English)
DESCRIPTION:Meeting via ZOOM Meeting ID: 97580261745 Password: 966092
URL:https://aksihawaii.org/event/gospel-according-to-spiritism-and-the-spirits-book-study-in-english-19/
END:VEVENT
BEGIN:VEVENT
DTSTART;TZID=Pacific/Honolulu:20251011T090000
DTEND;TZID=Pacific/Honolulu:20251011T100000
DTSTAMP:20260424T025923
CREATED:20250901T004912Z
LAST-MODIFIED:20250901T004912Z
UID:5075-1760173200-1760176800@aksihawaii.org
SUMMARY:FALL BREAK (NO CLASS)
DESCRIPTION:
URL:https://aksihawaii.org/event/fall-break-no-class/
END:VEVENT
BEGIN:VEVENT
DTSTART;TZID=Pacific/Honolulu:20251013T190000
DTEND;TZID=Pacific/Honolulu:20251013T193000
DTSTAMP:20260424T025923
CREATED:20250831T221514Z
LAST-MODIFIED:20250831T221514Z
UID:4971-1760382000-1760383800@aksihawaii.org
SUMMARY:Gospel According to Spiritism (In Portuguese)
DESCRIPTION:
URL:https://aksihawaii.org/event/gospel-according-to-spiritism-in-portuguese-20/
END:VEVENT
BEGIN:VEVENT
DTSTART;TZID=Pacific/Honolulu:20251013T193000
DTEND;TZID=Pacific/Honolulu:20251013T194500
DTSTAMP:20260424T025923
CREATED:20250831T223825Z
LAST-MODIFIED:20250831T223825Z
UID:4999-1760383800-1760384700@aksihawaii.org
SUMMARY:Therapeutic Passes
DESCRIPTION:
URL:https://aksihawaii.org/event/therapeutic-passes-20/
END:VEVENT
BEGIN:VEVENT
DTSTART;TZID=Pacific/Honolulu:20251013T200000
DTEND;TZID=Pacific/Honolulu:20251013T203000
DTSTAMP:20260424T025923
CREATED:20250831T212035Z
LAST-MODIFIED:20250912T232138Z
UID:4928-1760385600-1760387400@aksihawaii.org
SUMMARY:Study of the” Acts of the Apostles” (In Portuguese)
DESCRIPTION:CHAPTER 4 : THE FIRST CHRISTIAN COMMUNITY (4:32-35) \n  \n 
URL:https://aksihawaii.org/event/study-of-the-acts-of-the-apostles-in-portuguese-16/
END:VEVENT
BEGIN:VEVENT
DTSTART;TZID=Pacific/Honolulu:20251015T193000
DTEND;TZID=Pacific/Honolulu:20251015T203000
DTSTAMP:20260424T025923
CREATED:20250831T224922Z
LAST-MODIFIED:20250831T224922Z
UID:5031-1760556600-1760560200@aksihawaii.org
SUMMARY:Gospel According to Spiritism and The Spirits’ Book Study (In English)
DESCRIPTION:Meeting via ZOOM Meeting ID: 97580261745 Password: 966092
URL:https://aksihawaii.org/event/gospel-according-to-spiritism-and-the-spirits-book-study-in-english-20/
END:VEVENT
BEGIN:VEVENT
DTSTART;TZID=Pacific/Honolulu:20251018T090000
DTEND;TZID=Pacific/Honolulu:20251018T100000
DTSTAMP:20260424T025923
CREATED:20250901T004814Z
LAST-MODIFIED:20250901T004814Z
UID:5073-1760778000-1760781600@aksihawaii.org
SUMMARY:SPIRITIST EDUCATION (SCHOOL OF VIRTUES)
DESCRIPTION:FOR KIDS\, PRE-TEENS\, AND TEENS \nLESSON 10: OUR CHOICES\, LAW OF CAUSE AND EFFECT
URL:https://aksihawaii.org/event/spiritist-education-school-of-virtues-6/
END:VEVENT
BEGIN:VEVENT
DTSTART;TZID=Pacific/Honolulu:20251020T190000
DTEND;TZID=Pacific/Honolulu:20251020T193000
DTSTAMP:20260424T025923
CREATED:20250831T221542Z
LAST-MODIFIED:20250831T221542Z
UID:4973-1760986800-1760988600@aksihawaii.org
SUMMARY:Gospel According to Spiritism (In Portuguese)
DESCRIPTION:
URL:https://aksihawaii.org/event/gospel-according-to-spiritism-in-portuguese-21/
END:VEVENT
BEGIN:VEVENT
DTSTART;TZID=Pacific/Honolulu:20251020T193000
DTEND;TZID=Pacific/Honolulu:20251020T194500
DTSTAMP:20260424T025923
CREATED:20250831T223855Z
LAST-MODIFIED:20250831T223855Z
UID:5001-1760988600-1760989500@aksihawaii.org
SUMMARY:Therapeutic Passes
DESCRIPTION:
URL:https://aksihawaii.org/event/therapeutic-passes-21/
END:VEVENT
BEGIN:VEVENT
DTSTART;TZID=Pacific/Honolulu:20251020T200000
DTEND;TZID=Pacific/Honolulu:20251020T203000
DTSTAMP:20260424T025923
CREATED:20250831T212230Z
LAST-MODIFIED:20250912T232257Z
UID:4930-1760990400-1760992200@aksihawaii.org
SUMMARY:Study of the” Acts of the Apostles” (In Portuguese)
DESCRIPTION:CHAPTER 4 : BARNABAS (4:36-37)
URL:https://aksihawaii.org/event/study-of-the-acts-of-the-apostles-in-portuguese-17/
END:VEVENT
BEGIN:VEVENT
DTSTART;TZID=Pacific/Honolulu:20251022T193000
DTEND;TZID=Pacific/Honolulu:20251022T203000
DTSTAMP:20260424T025923
CREATED:20250831T225000Z
LAST-MODIFIED:20250831T225000Z
UID:5033-1761161400-1761165000@aksihawaii.org
SUMMARY:Gospel According to Spiritism and The Spirits’ Book Study (In English)
DESCRIPTION:Meeting via ZOOM Meeting ID: 97580261745 Password: 966092
URL:https://aksihawaii.org/event/gospel-according-to-spiritism-and-the-spirits-book-study-in-english-21/
END:VEVENT
BEGIN:VEVENT
DTSTART;TZID=Pacific/Honolulu:20251025T090000
DTEND;TZID=Pacific/Honolulu:20251025T100000
DTSTAMP:20260424T025923
CREATED:20250901T005136Z
LAST-MODIFIED:20250901T005136Z
UID:5077-1761382800-1761386400@aksihawaii.org
SUMMARY:SPIRITIST EDUCATION (SCHOOL OF VIRTUES)
DESCRIPTION:FOR KIDS\, PRE-TEENS\, AND TEENS \nLESSON 11: LOVE IN ACTION\, LOVE AND TRUTH
URL:https://aksihawaii.org/event/spiritist-education-school-of-virtues-7/
END:VEVENT
BEGIN:VEVENT
DTSTART;TZID=Pacific/Honolulu:20251027T190000
DTEND;TZID=Pacific/Honolulu:20251027T193000
DTSTAMP:20260424T025923
CREATED:20250831T221606Z
LAST-MODIFIED:20250831T221606Z
UID:4975-1761591600-1761593400@aksihawaii.org
SUMMARY:Gospel According to Spiritism (In Portuguese)
DESCRIPTION:
URL:https://aksihawaii.org/event/gospel-according-to-spiritism-in-portuguese-22/
END:VEVENT
BEGIN:VEVENT
DTSTART;TZID=Pacific/Honolulu:20251027T193000
DTEND;TZID=Pacific/Honolulu:20251027T194500
DTSTAMP:20260424T025923
CREATED:20250831T223949Z
LAST-MODIFIED:20250831T223949Z
UID:5003-1761593400-1761594300@aksihawaii.org
SUMMARY:Therapeutic Passes
DESCRIPTION:
URL:https://aksihawaii.org/event/therapeutic-passes-22/
END:VEVENT
BEGIN:VEVENT
DTSTART;TZID=Pacific/Honolulu:20251027T200000
DTEND;TZID=Pacific/Honolulu:20251027T203000
DTSTAMP:20260424T025923
CREATED:20250831T212808Z
LAST-MODIFIED:20250912T232348Z
UID:4932-1761595200-1761597000@aksihawaii.org
SUMMARY:Study of the” Acts of the Apostles” (In Portuguese)
DESCRIPTION:CHAPTER 5: THE FROUD OF ANANIAS AND SAPHIRA (5:1-11)
URL:https://aksihawaii.org/event/study-of-the-acts-of-the-apostles-in-portuguese-18/
END:VEVENT
BEGIN:VEVENT
DTSTART;TZID=Pacific/Honolulu:20251029T193000
DTEND;TZID=Pacific/Honolulu:20251029T203000
DTSTAMP:20260424T025923
CREATED:20250831T225036Z
LAST-MODIFIED:20250831T225036Z
UID:5035-1761766200-1761769800@aksihawaii.org
SUMMARY:Gospel According to Spiritism and The Spirits’ Book Study (In English)
DESCRIPTION:Meeting via ZOOM Meeting ID: 97580261745 Password: 966092
URL:https://aksihawaii.org/event/gospel-according-to-spiritism-and-the-spirits-book-study-in-english-22/
END:VEVENT
END:VCALENDAR