BEGIN:VCALENDAR
VERSION:2.0
PRODID:-//Allan Kardec Spiritist Institute - ECPv6.15.20//NONSGML v1.0//EN
CALSCALE:GREGORIAN
METHOD:PUBLISH
X-WR-CALNAME:Allan Kardec Spiritist Institute
X-ORIGINAL-URL:https://aksihawaii.org
X-WR-CALDESC:Events for Allan Kardec Spiritist Institute
REFRESH-INTERVAL;VALUE=DURATION:PT1H
X-Robots-Tag:noindex
X-PUBLISHED-TTL:PT1H
BEGIN:VTIMEZONE
TZID:Pacific/Honolulu
BEGIN:STANDARD
TZOFFSETFROM:-1000
TZOFFSETTO:-1000
TZNAME:HST
DTSTART:20180101T000000
END:STANDARD
END:VTIMEZONE
BEGIN:VEVENT
DTSTART;TZID=Pacific/Honolulu:20200312T183000
DTEND;TZID=Pacific/Honolulu:20200312T200000
DTSTAMP:20260425T031700
CREATED:20200229T143239Z
LAST-MODIFIED:20200229T143239Z
UID:4600-1584037800-1584043200@aksihawaii.org
SUMMARY:A VIDA NO MUNDO ESPIRITUAL: LIVRO OS MENSAGEIROS
DESCRIPTION:Cap: 47- No trabalho ativo  e 48 – Pavor da morte\nPaulo
URL:https://aksihawaii.org/event/a-vida-no-mundo-espiritual-livro-os-mensageiros-22/
END:VEVENT
BEGIN:VEVENT
DTSTART;TZID=Pacific/Honolulu:20200308T090000
DTEND;TZID=Pacific/Honolulu:20200308T100000
DTSTAMP:20260425T031700
CREATED:20200229T142634Z
LAST-MODIFIED:20200229T143820Z
UID:4597-1583658000-1583661600@aksihawaii.org
SUMMARY:PUBLIC LECTURE
DESCRIPTION:Chapter 17. – BE PERFECT. Item 4: The good Spiritist\nPaulo (IN PORTUGUESE)
URL:https://aksihawaii.org/event/public-lecture-77/
END:VEVENT
BEGIN:VEVENT
DTSTART;TZID=Pacific/Honolulu:20200308T090000
DTEND;TZID=Pacific/Honolulu:20200308T100000
DTSTAMP:20260425T031700
CREATED:20200229T142420Z
LAST-MODIFIED:20200229T142728Z
UID:4595-1583658000-1583661600@aksihawaii.org
SUMMARY:SPIRITIST CHILDREN EDUCATION
DESCRIPTION:lesson 8 – Trusting God\, The law of evolution\nTeacher: Raquel
URL:https://aksihawaii.org/event/spiritist-children-education-71/
END:VEVENT
BEGIN:VEVENT
DTSTART;TZID=Pacific/Honolulu:20200305T183000
DTEND;TZID=Pacific/Honolulu:20200305T200000
DTSTAMP:20260425T031700
CREATED:20200229T142145Z
LAST-MODIFIED:20200229T142206Z
UID:4592-1583433000-1583438400@aksihawaii.org
SUMMARY:A VIDA NO MUNDO ESPIRITUAL: LIVRO OS MENSAGEIROS
DESCRIPTION:Cap. 45 – Mente Enferma  e 46 – Aprendendo sempre\nRenata e Brisa
URL:https://aksihawaii.org/event/a-vida-no-mundo-espiritual-livro-os-mensageiros-21/
END:VEVENT
BEGIN:VEVENT
DTSTART;TZID=Pacific/Honolulu:20200301T090000
DTEND;TZID=Pacific/Honolulu:20200301T100000
DTSTAMP:20260425T031700
CREATED:20200229T141924Z
LAST-MODIFIED:20200229T141924Z
UID:4590-1583053200-1583056800@aksihawaii.org
SUMMARY:PUBLIC LECTURE
DESCRIPTION:Chapter 17. – BE PERFECT- Item 3: The good person\nGeronimo(IN ENGLISH)
URL:https://aksihawaii.org/event/public-lecture-76/
END:VEVENT
BEGIN:VEVENT
DTSTART;TZID=Pacific/Honolulu:20200301T090000
DTEND;TZID=Pacific/Honolulu:20200301T100000
DTSTAMP:20260425T031700
CREATED:20200229T141555Z
LAST-MODIFIED:20200229T141555Z
UID:4588-1583053200-1583056800@aksihawaii.org
SUMMARY:SPIRITIST CHILDREN EDUCATION
DESCRIPTION:Lesson 7 – Talking to God\, Prayer\nTeacher: Raquel
URL:https://aksihawaii.org/event/spiritist-children-education-70/
END:VEVENT
BEGIN:VEVENT
DTSTART;TZID=Pacific/Honolulu:20200227T183000
DTEND;TZID=Pacific/Honolulu:20200227T200000
DTSTAMP:20260425T031700
CREATED:20200116T185319Z
LAST-MODIFIED:20200206T211918Z
UID:4568-1582828200-1582833600@aksihawaii.org
SUMMARY:A VIDA NO MUNDO ESPIRITUAL: LIVRO OS MENSAGEIROS
DESCRIPTION:CAPÍTULOS : 43 e 44 (Antes da reunião\, Assistência)\nExpositores: Geronimo
URL:https://aksihawaii.org/event/a-vida-no-mundo-espiritual-livro-os-mensageiros-20/
END:VEVENT
BEGIN:VEVENT
DTSTART;TZID=Pacific/Honolulu:20200223T090000
DTEND;TZID=Pacific/Honolulu:20200223T100000
DTSTAMP:20260425T031700
CREATED:20200116T191044Z
LAST-MODIFIED:20200206T212002Z
UID:4580-1582448400-1582452000@aksihawaii.org
SUMMARY:PUBLIC LECTURE
DESCRIPTION:Chapter 17. – BE PERFECT – item 1 -2 – Characteristics of perfection\nPaulo
URL:https://aksihawaii.org/event/public-lecture-75/
END:VEVENT
BEGIN:VEVENT
DTSTART;TZID=Pacific/Honolulu:20200223T090000
DTEND;TZID=Pacific/Honolulu:20200223T100000
DTSTAMP:20260425T031700
CREATED:20200116T190248Z
LAST-MODIFIED:20200116T190248Z
UID:4574-1582448400-1582452000@aksihawaii.org
SUMMARY:SPIRITIST CHILDREN EDUCATION
DESCRIPTION:Lesson 6 – Guardian Angels\nTeacher: Renata
URL:https://aksihawaii.org/event/spiritist-children-education-69/
END:VEVENT
BEGIN:VEVENT
DTSTART;TZID=Pacific/Honolulu:20200220T183000
DTEND;TZID=Pacific/Honolulu:20200220T200000
DTSTAMP:20260425T031700
CREATED:20200116T185132Z
LAST-MODIFIED:20200116T185132Z
UID:4566-1582223400-1582228800@aksihawaii.org
SUMMARY:A VIDA NO MUNDO ESPIRITUAL: LIVRO OS MENSAGEIROS
DESCRIPTION:CAPÍTULOS 41 e 42 (Entre  árvores\, Evangelho no ambiente rural)\nExpositor: Raquel e Ines
URL:https://aksihawaii.org/event/a-vida-no-mundo-espiritual-livro-os-mensageiros-19/
END:VEVENT
BEGIN:VEVENT
DTSTART;TZID=Pacific/Honolulu:20200216T090000
DTEND;TZID=Pacific/Honolulu:20200216T100000
DTSTAMP:20260425T031700
CREATED:20200116T190921Z
LAST-MODIFIED:20200116T190921Z
UID:4578-1581843600-1581847200@aksihawaii.org
SUMMARY:PUBLIC LECTURE
DESCRIPTION:Chapter 16. – IT IS NOT POSSIBLE TO SERVE BOTH GOD AND MAMMON\, Item 15 – Instructions from the Spirits:Transference of riches:\nRaquel
URL:https://aksihawaii.org/event/public-lecture-74/
END:VEVENT
BEGIN:VEVENT
DTSTART;TZID=Pacific/Honolulu:20200216T090000
DTEND;TZID=Pacific/Honolulu:20200216T100000
DTSTAMP:20260425T031700
CREATED:20200116T190119Z
LAST-MODIFIED:20200116T190119Z
UID:4572-1581843600-1581847200@aksihawaii.org
SUMMARY:SPIRITIST CHILDREN EDUCATION
DESCRIPTION:Lesson 5 – Review L. 1-4 ( Our Body God’s gift\, God father and Creator\, God’s creation\, God’s Provisions)\nTeacher: Itana
URL:https://aksihawaii.org/event/spiritist-children-education-68/
END:VEVENT
BEGIN:VEVENT
DTSTART;TZID=Pacific/Honolulu:20200213T183000
DTEND;TZID=Pacific/Honolulu:20200213T200000
DTSTAMP:20260425T031700
CREATED:20200116T184923Z
LAST-MODIFIED:20200116T184934Z
UID:4563-1581618600-1581624000@aksihawaii.org
SUMMARY:A VIDA NO MUNDO ESPIRITUAL: LIVRO OS MENSAGEIROS
DESCRIPTION:CAPÍTULOS 39 e 40 – (Trabalho Incessante\, Rumo ao campo)\nExpositor: Paulo
URL:https://aksihawaii.org/event/a-vida-no-mundo-espiritual-livro-os-mensageiros-18/
END:VEVENT
BEGIN:VEVENT
DTSTART;TZID=Pacific/Honolulu:20200209T090000
DTEND;TZID=Pacific/Honolulu:20200209T100000
DTSTAMP:20260425T031700
CREATED:20200116T190505Z
LAST-MODIFIED:20200116T190645Z
UID:4576-1581238800-1581242400@aksihawaii.org
SUMMARY:PUBLIC LECTURE
DESCRIPTION:Chapter 16. – IT IS NOT POSSIBLE TO SERVE BOTH GOD AND MAMMON Item 14 – Instructions from the Spirits:Detachment from earthly possessions.\nPaulo
URL:https://aksihawaii.org/event/public-lecture-73/
END:VEVENT
BEGIN:VEVENT
DTSTART;TZID=Pacific/Honolulu:20200209T090000
DTEND;TZID=Pacific/Honolulu:20200209T100000
DTSTAMP:20260425T031700
CREATED:20200116T185831Z
LAST-MODIFIED:20200116T185831Z
UID:4570-1581238800-1581242400@aksihawaii.org
SUMMARY:SPIRITIST CHILDREN EDUCATION
DESCRIPTION:Lesson 4 – God’s provision\nTeacher: Raquel
URL:https://aksihawaii.org/event/spiritist-children-education-67/
END:VEVENT
BEGIN:VEVENT
DTSTART;TZID=Pacific/Honolulu:20200206T183000
DTEND;TZID=Pacific/Honolulu:20200206T200000
DTSTAMP:20260425T031700
CREATED:20200116T184419Z
LAST-MODIFIED:20200116T184419Z
UID:4561-1581013800-1581019200@aksihawaii.org
SUMMARY:A VIDA NO MUNDO ESPIRITUAL: LIVRO OS MENSAGEIROS
DESCRIPTION:CAPÍTULOS 37 e 38 ( No santuário doméstico\, Atividade plena)\nExpositores :Renata e Brisa
URL:https://aksihawaii.org/event/a-vida-no-mundo-espiritual-livro-os-mensageiros-17/
END:VEVENT
BEGIN:VEVENT
DTSTART;TZID=Pacific/Honolulu:20200202T090000
DTEND;TZID=Pacific/Honolulu:20200202T100000
DTSTAMP:20260425T031700
CREATED:20200113T154624Z
LAST-MODIFIED:20200113T154624Z
UID:4553-1580634000-1580637600@aksihawaii.org
SUMMARY:PUBLIC LECTURE
DESCRIPTION:Chapter 16. – IT IS NOT POSSIBLE TO SERVE BOTH GOD AND MAMMON Item 11-13 – Instructions from the Spirits: Detachment from earthly possessions.\nGeronimo (IN ENGLISH)
URL:https://aksihawaii.org/event/public-lecture-72/
END:VEVENT
BEGIN:VEVENT
DTSTART;TZID=Pacific/Honolulu:20200202T090000
DTEND;TZID=Pacific/Honolulu:20200202T100000
DTSTAMP:20260425T031700
CREATED:20200113T154436Z
LAST-MODIFIED:20200113T154436Z
UID:4551-1580634000-1580637600@aksihawaii.org
SUMMARY:SPIRITIST CHILDREN EDUCATION
DESCRIPTION:Lesson 3 – God’s Creation\nTeacher: Itana
URL:https://aksihawaii.org/event/spiritist-children-education-66/
END:VEVENT
BEGIN:VEVENT
DTSTART;TZID=Pacific/Honolulu:20200130T183000
DTEND;TZID=Pacific/Honolulu:20200130T200000
DTSTAMP:20260425T031700
CREATED:20200113T155448Z
LAST-MODIFIED:20200113T155448Z
UID:4559-1580409000-1580414400@aksihawaii.org
SUMMARY:A VIDA NO MUNDO ESPIRITUAL: LIVRO OS MENSAGEIROS
DESCRIPTION:CAPÍTULOS 35 e 36 (Culto doméstico\, Mãe e filhos)
URL:https://aksihawaii.org/event/a-vida-no-mundo-espiritual-livro-os-mensageiros-16/
END:VEVENT
BEGIN:VEVENT
DTSTART;TZID=Pacific/Honolulu:20200126T090000
DTEND;TZID=Pacific/Honolulu:20200126T100000
DTSTAMP:20260425T031700
CREATED:20200113T154247Z
LAST-MODIFIED:20200113T154247Z
UID:4549-1580029200-1580032800@aksihawaii.org
SUMMARY:SPIRITIST CHILDREN EDUCATION
DESCRIPTION:Lesson 2 – God\, Father and Creator\nTeacher: Renata
URL:https://aksihawaii.org/event/spiritist-children-education-65/
END:VEVENT
BEGIN:VEVENT
DTSTART;TZID=Pacific/Honolulu:20200126T090000
DTEND;TZID=Pacific/Honolulu:20200126T100000
DTSTAMP:20260425T031700
CREATED:20200113T153834Z
LAST-MODIFIED:20200113T153834Z
UID:4545-1580029200-1580032800@aksihawaii.org
SUMMARY:PUBLIC LECTURE
DESCRIPTION:Chapter 16. – IT IS NOT POSSIBLE TO SERVE BOTH GOD AND MAMMON Item 9 and 10 – Instructions from the Spirits: True property\nRaquel ( IN PORTUGUESE)
URL:https://aksihawaii.org/event/public-lecture-71/
END:VEVENT
BEGIN:VEVENT
DTSTART;TZID=Pacific/Honolulu:20200123T183000
DTEND;TZID=Pacific/Honolulu:20200123T200000
DTSTAMP:20260425T031700
CREATED:20200113T155226Z
LAST-MODIFIED:20200113T155245Z
UID:4557-1579804200-1579809600@aksihawaii.org
SUMMARY:A VIDA NO MUNDO ESPIRITUAL: LIVRO OS MENSAGEIROS
DESCRIPTION:CAPÍTULOS 33 e 34 ( A caminho da Crosta\, Ofincina do “Nosso Lar”)
URL:https://aksihawaii.org/event/a-vida-no-mundo-espiritual-livro-os-mensageiros-15/
END:VEVENT
BEGIN:VEVENT
DTSTART;TZID=Pacific/Honolulu:20200119T090000
DTEND;TZID=Pacific/Honolulu:20200119T100000
DTSTAMP:20260425T031700
CREATED:20200113T154108Z
LAST-MODIFIED:20200113T154108Z
UID:4547-1579424400-1579428000@aksihawaii.org
SUMMARY:SPIRITIST CHILDREN EDUCATION
DESCRIPTION:Lesson 1 – Our Body\, God’s Gift\nTeacher: Raquel
URL:https://aksihawaii.org/event/spiritist-children-education-64/
END:VEVENT
BEGIN:VEVENT
DTSTART;TZID=Pacific/Honolulu:20200119T090000
DTEND;TZID=Pacific/Honolulu:20200119T100000
DTSTAMP:20260425T031700
CREATED:20200113T153649Z
LAST-MODIFIED:20200113T153649Z
UID:4543-1579424400-1579428000@aksihawaii.org
SUMMARY:PUBLIC LECTURE
DESCRIPTION:Chapter 16. – IT IS NOT POSSIBLE TO SERVE BOTH GOD AND MAMMON Item 8- The inequality of riches\nItana (IN PORTUGUESE)
URL:https://aksihawaii.org/event/public-lecture-70/
END:VEVENT
BEGIN:VEVENT
DTSTART;TZID=Pacific/Honolulu:20200116T183000
DTEND;TZID=Pacific/Honolulu:20200116T200000
DTSTAMP:20260425T031700
CREATED:20200113T155035Z
LAST-MODIFIED:20200113T155035Z
UID:4555-1579199400-1579204800@aksihawaii.org
SUMMARY:A VIDA NO MUNDO ESPIRITUAL: LIVRO OS MENSAGEIROS
DESCRIPTION:CAPÍTULOS 31 e 32 (Cecília ao órgão\, Melodia sublime)
URL:https://aksihawaii.org/event/a-vida-no-mundo-espiritual-livro-os-mensageiros-14/
END:VEVENT
BEGIN:VEVENT
DTSTART;TZID=Pacific/Honolulu:20200109T183000
DTEND;TZID=Pacific/Honolulu:20200109T200000
DTSTAMP:20260425T031700
CREATED:20191109T210257Z
LAST-MODIFIED:20191111T172815Z
UID:4490-1578594600-1578600000@aksihawaii.org
SUMMARY:A VIDA NO MUNDO ESPIRITUAL: LIVRO OS MENSAGEIROS
DESCRIPTION:CAPÍTULOS 28-30 ( Vida social\, Notícias interessantes\, Em palestra afetuosa) Expositor: Renata e Brisa
URL:https://aksihawaii.org/event/a-vida-no-mundo-espiritual-livro-os-mensageiros-12/
END:VEVENT
BEGIN:VEVENT
DTSTART;TZID=Pacific/Honolulu:20200105T090000
DTEND;TZID=Pacific/Honolulu:20200105T100000
DTSTAMP:20260425T031700
CREATED:20191109T214354Z
LAST-MODIFIED:20191127T185943Z
UID:4521-1578214800-1578218400@aksihawaii.org
SUMMARY:PUBLIC LECTURE
DESCRIPTION:Chapter 16. – IT IS NOT POSSIBLE TO SERVE BOTH GOD AND MAMMON Item 7 – The providential utility of riches. Trials of riches and misery.\nGeronimo (IN ENGLISH)
URL:https://aksihawaii.org/event/public-lecture-67/
END:VEVENT
BEGIN:VEVENT
DTSTART;TZID=Pacific/Honolulu:20200105T090000
DTEND;TZID=Pacific/Honolulu:20200105T100000
DTSTAMP:20260425T031700
CREATED:20191109T213138Z
LAST-MODIFIED:20191109T213138Z
UID:4514-1578214800-1578218400@aksihawaii.org
SUMMARY:SPIRITIST CHILDREN EDUCATION
DESCRIPTION:WINTER BREAK
URL:https://aksihawaii.org/event/spiritist-children-education-63/
END:VEVENT
BEGIN:VEVENT
DTSTART;TZID=Pacific/Honolulu:20200102T183000
DTEND;TZID=Pacific/Honolulu:20200102T200000
DTSTAMP:20260425T031700
CREATED:20191109T211151Z
LAST-MODIFIED:20191109T211151Z
UID:4499-1577989800-1577995200@aksihawaii.org
SUMMARY:NEW YEAR
DESCRIPTION:Paulo – Prayer
URL:https://aksihawaii.org/event/new-year/
END:VEVENT
BEGIN:VEVENT
DTSTART;TZID=Pacific/Honolulu:20191229T090000
DTEND;TZID=Pacific/Honolulu:20191229T100000
DTSTAMP:20260425T031700
CREATED:20191110T173559Z
LAST-MODIFIED:20191110T173559Z
UID:4529-1577610000-1577613600@aksihawaii.org
SUMMARY:PUBLIC LECTURE
DESCRIPTION:Theme: NEW YEAR
URL:https://aksihawaii.org/event/public-lecture-69/
END:VEVENT
END:VCALENDAR