BEGIN:VCALENDAR
VERSION:2.0
PRODID:-//Allan Kardec Spiritist Institute - ECPv6.15.20//NONSGML v1.0//EN
CALSCALE:GREGORIAN
METHOD:PUBLISH
X-WR-CALNAME:Allan Kardec Spiritist Institute
X-ORIGINAL-URL:https://aksihawaii.org
X-WR-CALDESC:Events for Allan Kardec Spiritist Institute
REFRESH-INTERVAL;VALUE=DURATION:PT1H
X-Robots-Tag:noindex
X-PUBLISHED-TTL:PT1H
BEGIN:VTIMEZONE
TZID:Pacific/Honolulu
BEGIN:STANDARD
TZOFFSETFROM:-1000
TZOFFSETTO:-1000
TZNAME:HST
DTSTART:20240101T000000
END:STANDARD
END:VTIMEZONE
BEGIN:VEVENT
DTSTART;TZID=Pacific/Honolulu:20251004T090000
DTEND;TZID=Pacific/Honolulu:20251004T100000
DTSTAMP:20260424T001202
CREATED:20250901T004342Z
LAST-MODIFIED:20250901T011638Z
UID:5071-1759568400-1759572000@aksihawaii.org
SUMMARY:SPIRITIST EDUCATION (SCHOOL OF VIRTUES)
DESCRIPTION:FOR KIDS\, PRE-TEENS\, AND TEENS \nLESSON 9:  LIFE GOES ON
URL:https://aksihawaii.org/event/spiritist-education-school-of-virtues-5/
END:VEVENT
BEGIN:VEVENT
DTSTART;VALUE=DATE:20251003
DTEND;VALUE=DATE:20251004
DTSTAMP:20260424T001202
CREATED:20250901T024109Z
LAST-MODIFIED:20250901T024109Z
UID:5104-1759449600-1759535999@aksihawaii.org
SUMMARY:Allan Kardec's Birthday
DESCRIPTION:
URL:https://aksihawaii.org/event/allan-kardecs-birthday/
END:VEVENT
BEGIN:VEVENT
DTSTART;TZID=Pacific/Honolulu:20251001T193000
DTEND;TZID=Pacific/Honolulu:20251001T203000
DTSTAMP:20260424T001202
CREATED:20250831T224810Z
LAST-MODIFIED:20250831T224810Z
UID:5027-1759347000-1759350600@aksihawaii.org
SUMMARY:Gospel According to Spiritism and The Spirits’ Book Study (In English)
DESCRIPTION:Meeting via ZOOM Meeting ID: 97580261745 Password: 966092
URL:https://aksihawaii.org/event/gospel-according-to-spiritism-and-the-spirits-book-study-in-english-18/
END:VEVENT
BEGIN:VEVENT
DTSTART;TZID=Pacific/Honolulu:20250929T200000
DTEND;TZID=Pacific/Honolulu:20250929T203000
DTSTAMP:20260424T001202
CREATED:20250831T211425Z
LAST-MODIFIED:20250912T231932Z
UID:4922-1759176000-1759177800@aksihawaii.org
SUMMARY:Study of the” Acts of the Apostles” (In Portuguese)
DESCRIPTION:CHAPTER 4: PRAYER OF APOSTLES IN PERSECUTION (4:23-31) \n  \n 
URL:https://aksihawaii.org/event/study-of-the-acts-of-the-apostles-in-portuguese-14/
END:VEVENT
BEGIN:VEVENT
DTSTART;TZID=Pacific/Honolulu:20250929T193000
DTEND;TZID=Pacific/Honolulu:20250929T194500
DTSTAMP:20260424T001202
CREATED:20250831T223654Z
LAST-MODIFIED:20250831T223654Z
UID:4995-1759174200-1759175100@aksihawaii.org
SUMMARY:Therapeutic Passes
DESCRIPTION:
URL:https://aksihawaii.org/event/therapeutic-passes-18/
END:VEVENT
BEGIN:VEVENT
DTSTART;TZID=Pacific/Honolulu:20250929T190000
DTEND;TZID=Pacific/Honolulu:20250929T193000
DTSTAMP:20260424T001202
CREATED:20250831T221131Z
LAST-MODIFIED:20250831T221332Z
UID:4963-1759172400-1759174200@aksihawaii.org
SUMMARY:Gospel According to Spiritism (In Portuguese)
DESCRIPTION:
URL:https://aksihawaii.org/event/gospel-according-to-spiritism-in-portuguese-16/
END:VEVENT
BEGIN:VEVENT
DTSTART;TZID=Pacific/Honolulu:20250927T090000
DTEND;TZID=Pacific/Honolulu:20250927T100000
DTSTAMP:20260424T001202
CREATED:20250901T004201Z
LAST-MODIFIED:20250901T004201Z
UID:5069-1758963600-1758967200@aksihawaii.org
SUMMARY:SPIRITIST EDUCATION (SCHOOL OF VIRTUES)
DESCRIPTION:FOR KIDS\, PRE-TEENS\, AND TEENS \nLESSON 8: GOD LOVES ME
URL:https://aksihawaii.org/event/spiritist-education-school-of-virtues-4/
END:VEVENT
BEGIN:VEVENT
DTSTART;TZID=Pacific/Honolulu:20250924T193000
DTEND;TZID=Pacific/Honolulu:20250924T203000
DTSTAMP:20260424T001202
CREATED:20250831T224730Z
LAST-MODIFIED:20250831T224730Z
UID:5025-1758742200-1758745800@aksihawaii.org
SUMMARY:Gospel According to Spiritism and The Spirits’ Book Study (In English)
DESCRIPTION:Meeting via ZOOM Meeting ID: 97580261745 Password: 966092
URL:https://aksihawaii.org/event/gospel-according-to-spiritism-and-the-spirits-book-study-in-english-17/
END:VEVENT
BEGIN:VEVENT
DTSTART;TZID=Pacific/Honolulu:20250922T200000
DTEND;TZID=Pacific/Honolulu:20250922T203000
DTSTAMP:20260424T001202
CREATED:20250831T211111Z
LAST-MODIFIED:20250912T231727Z
UID:4920-1758571200-1758573000@aksihawaii.org
SUMMARY:Study of the” Acts of the Apostles” (In Portuguese)
DESCRIPTION:CHAPTER 4: PRAYER OF APOSTLES IN PERSECUTION (4:23-31) \n 
URL:https://aksihawaii.org/event/study-of-the-acts-of-the-apostles-in-portuguese-13/
END:VEVENT
BEGIN:VEVENT
DTSTART;TZID=Pacific/Honolulu:20250922T193000
DTEND;TZID=Pacific/Honolulu:20250922T194500
DTSTAMP:20260424T001202
CREATED:20250831T222804Z
LAST-MODIFIED:20250831T222949Z
UID:4991-1758569400-1758570300@aksihawaii.org
SUMMARY:Therapeutic Passes
DESCRIPTION:
URL:https://aksihawaii.org/event/therapeutic-passes-16/
END:VEVENT
BEGIN:VEVENT
DTSTART;TZID=Pacific/Honolulu:20250922T190000
DTEND;TZID=Pacific/Honolulu:20250922T193000
DTSTAMP:20260424T001202
CREATED:20250831T221238Z
LAST-MODIFIED:20250831T221238Z
UID:4967-1758567600-1758569400@aksihawaii.org
SUMMARY:Gospel According to Spiritism (In Portuguese)
DESCRIPTION:
URL:https://aksihawaii.org/event/gospel-according-to-spiritism-in-portuguese-18/
END:VEVENT
BEGIN:VEVENT
DTSTART;TZID=Pacific/Honolulu:20250920T090000
DTEND;TZID=Pacific/Honolulu:20250920T100000
DTSTAMP:20260424T001202
CREATED:20250901T004041Z
LAST-MODIFIED:20250901T011616Z
UID:5067-1758358800-1758362400@aksihawaii.org
SUMMARY:SPIRITIST EDUCATION (SCHOOL OF VIRTUES)
DESCRIPTION:FOR KIDS\, PRE-TEENS\, AND TEENS \nLESSON 7: TRUSTING GOD \, THE LAW OF EVOLUTION
URL:https://aksihawaii.org/event/spiritist-education-school-of-virtues-3/
END:VEVENT
BEGIN:VEVENT
DTSTART;TZID=Pacific/Honolulu:20250917T193000
DTEND;TZID=Pacific/Honolulu:20250917T203000
DTSTAMP:20260424T001202
CREATED:20250831T224652Z
LAST-MODIFIED:20250831T224652Z
UID:5023-1758137400-1758141000@aksihawaii.org
SUMMARY:Gospel According to Spiritism and The Spirits’ Book Study (In English)
DESCRIPTION:Meeting via ZOOM Meeting ID: 97580261745 Password: 966092
URL:https://aksihawaii.org/event/gospel-according-to-spiritism-and-the-spirits-book-study-in-english-16/
END:VEVENT
BEGIN:VEVENT
DTSTART;TZID=Pacific/Honolulu:20250915T200000
DTEND;TZID=Pacific/Honolulu:20250915T203000
DTSTAMP:20260424T001202
CREATED:20250831T210939Z
LAST-MODIFIED:20250912T231638Z
UID:4918-1757966400-1757968200@aksihawaii.org
SUMMARY:Study of the” Acts of the Apostles” (In Portuguese)
DESCRIPTION:CHAPTER 4 : PETER AND JOHN BEFORE THE SANHEDRIN (4:1-22) \n 
URL:https://aksihawaii.org/event/study-of-the-acts-of-the-apostles-in-portuguese-12/
END:VEVENT
BEGIN:VEVENT
DTSTART;TZID=Pacific/Honolulu:20250915T190000
DTEND;TZID=Pacific/Honolulu:20250915T194500
DTSTAMP:20260424T001202
CREATED:20250831T222843Z
LAST-MODIFIED:20250831T222843Z
UID:4993-1757962800-1757965500@aksihawaii.org
SUMMARY:Therapeutic Passes
DESCRIPTION:
URL:https://aksihawaii.org/event/therapeutic-passes-17/
END:VEVENT
BEGIN:VEVENT
DTSTART;TZID=Pacific/Honolulu:20250915T190000
DTEND;TZID=Pacific/Honolulu:20250915T193000
DTSTAMP:20260424T001202
CREATED:20250831T221204Z
LAST-MODIFIED:20250831T221204Z
UID:4965-1757962800-1757964600@aksihawaii.org
SUMMARY:Gospel According to Spiritism (In Portuguese)
DESCRIPTION:
URL:https://aksihawaii.org/event/gospel-according-to-spiritism-in-portuguese-17/
END:VEVENT
BEGIN:VEVENT
DTSTART;TZID=Pacific/Honolulu:20250913T090000
DTEND;TZID=Pacific/Honolulu:20250913T100000
DTSTAMP:20260424T001202
CREATED:20250901T003700Z
LAST-MODIFIED:20250901T003700Z
UID:5065-1757754000-1757757600@aksihawaii.org
SUMMARY:SPIRITIST EDUCATION (SCHOOL OF VIRTUES)
DESCRIPTION:FOR KIDS\, PRE-TEENS\, AND TEENS \nLESSON 6: TALKING TO GOD\, PRAYER
URL:https://aksihawaii.org/event/spiritist-education-school-of-virtues-2/
END:VEVENT
BEGIN:VEVENT
DTSTART;TZID=Pacific/Honolulu:20250910T193000
DTEND;TZID=Pacific/Honolulu:20250910T203000
DTSTAMP:20260424T001202
CREATED:20250831T224615Z
LAST-MODIFIED:20250831T224615Z
UID:5021-1757532600-1757536200@aksihawaii.org
SUMMARY:Gospel According to Spiritism and The Spirits’ Book Study (In English)
DESCRIPTION:Meeting via ZOOM Meeting ID: 97580261745 Password: 966092
URL:https://aksihawaii.org/event/gospel-according-to-spiritism-and-the-spirits-book-study-in-english-15/
END:VEVENT
BEGIN:VEVENT
DTSTART;TZID=Pacific/Honolulu:20250908T190000
DTEND;TZID=Pacific/Honolulu:20250908T203000
DTSTAMP:20260424T001202
CREATED:20250831T211527Z
LAST-MODIFIED:20250831T231359Z
UID:4924-1757358000-1757363400@aksihawaii.org
SUMMARY:MEMBERS MEETING
DESCRIPTION:NO CLASS \, MONDAY ACTIVITIES WILL RESUME ON SEPTEMBER 15TH.
URL:https://aksihawaii.org/event/members-meeting-no-class/
END:VEVENT
BEGIN:VEVENT
DTSTART;TZID=Pacific/Honolulu:20250906T090000
DTEND;TZID=Pacific/Honolulu:20250906T100000
DTSTAMP:20260424T001202
CREATED:20250831T231818Z
LAST-MODIFIED:20250831T231818Z
UID:5063-1757149200-1757152800@aksihawaii.org
SUMMARY:SPIRITIST EDUCATION (SCHOOL OF VIRTUES)
DESCRIPTION:FOR KIDS\, PRE-TEENS\, AND TEENS \nLESSON 5: GUARDIAN ANGELS
URL:https://aksihawaii.org/event/spiritist-education-school-of-virtues/
END:VEVENT
BEGIN:VEVENT
DTSTART;TZID=Pacific/Honolulu:20250903T193000
DTEND;TZID=Pacific/Honolulu:20250903T203000
DTSTAMP:20260424T001202
CREATED:20250831T224539Z
LAST-MODIFIED:20250831T224539Z
UID:5019-1756927800-1756931400@aksihawaii.org
SUMMARY:Gospel According to Spiritism and The Spirits’ Book Study (In English)
DESCRIPTION:Meeting via ZOOM Meeting ID: 97580261745 Password: 966092
URL:https://aksihawaii.org/event/gospel-according-to-spiritism-and-the-spirits-book-study-in-english-14/
END:VEVENT
BEGIN:VEVENT
DTSTART;TZID=Pacific/Honolulu:20250901T200000
DTEND;TZID=Pacific/Honolulu:20250901T203000
DTSTAMP:20260424T001202
CREATED:20250831T210535Z
LAST-MODIFIED:20250831T221021Z
UID:4915-1756756800-1756758600@aksihawaii.org
SUMMARY:Study of the” Acts of the Apostles” (In Portuguese)
DESCRIPTION:CHAPTER 4 : PETER AND JOHN BEFORE THE SANHEDRIN (4:1-22)
URL:https://aksihawaii.org/event/study-of-the-acts-of-the-apostles-in-portuguese-11/
END:VEVENT
BEGIN:VEVENT
DTSTART;TZID=Pacific/Honolulu:20250901T193000
DTEND;TZID=Pacific/Honolulu:20250901T194500
DTSTAMP:20260424T001202
CREATED:20250831T210435Z
LAST-MODIFIED:20250831T210435Z
UID:4913-1756755000-1756755900@aksihawaii.org
SUMMARY:Therapeutic Passes
DESCRIPTION:
URL:https://aksihawaii.org/event/therapeutic-passes-15/
END:VEVENT
BEGIN:VEVENT
DTSTART;TZID=Pacific/Honolulu:20250901T190000
DTEND;TZID=Pacific/Honolulu:20250901T193000
DTSTAMP:20260424T001202
CREATED:20250831T210334Z
LAST-MODIFIED:20250831T210334Z
UID:4911-1756753200-1756755000@aksihawaii.org
SUMMARY:Gospel According to Spiritism (In Portuguese)
DESCRIPTION:
URL:https://aksihawaii.org/event/gospel-according-to-spiritism-in-portuguese-12/
END:VEVENT
BEGIN:VEVENT
DTSTART;VALUE=DATE:20250815
DTEND;VALUE=DATE:20250816
DTSTAMP:20260424T001202
CREATED:20250901T024713Z
LAST-MODIFIED:20250901T024713Z
UID:5110-1755216000-1755302399@aksihawaii.org
SUMMARY:MEDIUM'S BOOK - 165 YEARS SINCE PUBLICATION
DESCRIPTION:
URL:https://aksihawaii.org/event/mediums-book-165-years-since-publication/
END:VEVENT
BEGIN:VEVENT
DTSTART;TZID=Pacific/Honolulu:20250804T200000
DTEND;TZID=Pacific/Honolulu:20250804T203000
DTSTAMP:20260424T001202
CREATED:20250617T165807Z
LAST-MODIFIED:20250831T230753Z
UID:4905-1754337600-1754339400@aksihawaii.org
SUMMARY:Study of the” Acts of the Apostles” (In Portuguese)
DESCRIPTION:
URL:https://aksihawaii.org/event/study-of-the-acts-of-the-apostles-in-portuguese-10/
END:VEVENT
BEGIN:VEVENT
DTSTART;VALUE=DATE:20250801
DTEND;VALUE=DATE:20250802
DTSTAMP:20260424T001202
CREATED:20250901T024021Z
LAST-MODIFIED:20250901T024021Z
UID:5102-1754006400-1754092799@aksihawaii.org
SUMMARY:Book Heaven and Hell - 160 years since publication
DESCRIPTION:
URL:https://aksihawaii.org/event/book-heaven-and-hell-160-years-since-publication/
END:VEVENT
BEGIN:VEVENT
DTSTART;TZID=Pacific/Honolulu:20250730T193000
DTEND;TZID=Pacific/Honolulu:20250730T203000
DTSTAMP:20260424T001202
CREATED:20250522T175603Z
LAST-MODIFIED:20250522T175603Z
UID:4887-1753903800-1753907400@aksihawaii.org
SUMMARY:Gospel According to Spiritism and The Spirits’ Book Study (In English)
DESCRIPTION:Meeting via ZOOM Meeting ID: 97580261745 Password: 966092
URL:https://aksihawaii.org/event/gospel-according-to-spiritism-and-the-spirits-book-study-in-english-13/
END:VEVENT
BEGIN:VEVENT
DTSTART;TZID=Pacific/Honolulu:20250728T200000
DTEND;TZID=Pacific/Honolulu:20250728T203000
DTSTAMP:20260424T001202
CREATED:20250522T175246Z
LAST-MODIFIED:20250831T230829Z
UID:4879-1753732800-1753734600@aksihawaii.org
SUMMARY:Study of the” Acts of the Apostles” (In Portuguese)
DESCRIPTION:
URL:https://aksihawaii.org/event/study-of-the-acts-of-the-apostles-in-portuguese-9/
END:VEVENT
BEGIN:VEVENT
DTSTART;TZID=Pacific/Honolulu:20250728T193000
DTEND;TZID=Pacific/Honolulu:20250728T194500
DTSTAMP:20260424T001202
CREATED:20250522T173916Z
LAST-MODIFIED:20250522T180208Z
UID:4863-1753731000-1753731900@aksihawaii.org
SUMMARY:Therapeutic Passes
DESCRIPTION:
URL:https://aksihawaii.org/event/therapeutic-passes-14/
END:VEVENT
END:VCALENDAR