BEGIN:VCALENDAR
VERSION:2.0
PRODID:-//Allan Kardec Spiritist Institute - ECPv6.15.20//NONSGML v1.0//EN
CALSCALE:GREGORIAN
METHOD:PUBLISH
X-WR-CALNAME:Allan Kardec Spiritist Institute
X-ORIGINAL-URL:https://aksihawaii.org
X-WR-CALDESC:Events for Allan Kardec Spiritist Institute
REFRESH-INTERVAL;VALUE=DURATION:PT1H
X-Robots-Tag:noindex
X-PUBLISHED-TTL:PT1H
BEGIN:VTIMEZONE
TZID:Pacific/Honolulu
BEGIN:STANDARD
TZOFFSETFROM:-1000
TZOFFSETTO:-1000
TZNAME:HST
DTSTART:20180101T000000
END:STANDARD
END:VTIMEZONE
BEGIN:VEVENT
DTSTART;TZID=Pacific/Honolulu:20191229T090000
DTEND;TZID=Pacific/Honolulu:20191229T100000
DTSTAMP:20260425T032500
CREATED:20191109T213050Z
LAST-MODIFIED:20191109T213050Z
UID:4512-1577610000-1577613600@aksihawaii.org
SUMMARY:SPIRITIST CHILDREN EDUCATION
DESCRIPTION:WINTER BREAK
URL:https://aksihawaii.org/event/spiritist-children-education-62/
END:VEVENT
BEGIN:VEVENT
DTSTART;TZID=Pacific/Honolulu:20191226T183000
DTEND;TZID=Pacific/Honolulu:20191226T200000
DTSTAMP:20260425T032500
CREATED:20191109T211037Z
LAST-MODIFIED:20191109T211103Z
UID:4496-1577385000-1577390400@aksihawaii.org
SUMMARY:CHRISTMAS
DESCRIPTION:Paulo – prayer
URL:https://aksihawaii.org/event/christmas/
END:VEVENT
BEGIN:VEVENT
DTSTART;TZID=Pacific/Honolulu:20191222T090000
DTEND;TZID=Pacific/Honolulu:20191222T100000
DTSTAMP:20260425T032500
CREATED:20191110T173453Z
LAST-MODIFIED:20191110T173453Z
UID:4527-1577005200-1577008800@aksihawaii.org
SUMMARY:PUBLIC LECTURE
DESCRIPTION:Theme: CHRISTMAS
URL:https://aksihawaii.org/event/public-lecture-68/
END:VEVENT
BEGIN:VEVENT
DTSTART;TZID=Pacific/Honolulu:20191222T090000
DTEND;TZID=Pacific/Honolulu:20191222T100000
DTSTAMP:20260425T032500
CREATED:20191109T213006Z
LAST-MODIFIED:20191109T213006Z
UID:4510-1577005200-1577008800@aksihawaii.org
SUMMARY:SPIRITIST CHILDREN EDUCATION
DESCRIPTION:WINTER BREAK
URL:https://aksihawaii.org/event/spiritist-children-education-61/
END:VEVENT
BEGIN:VEVENT
DTSTART;TZID=Pacific/Honolulu:20191219T183000
DTEND;TZID=Pacific/Honolulu:20191219T200000
DTSTAMP:20260425T032500
CREATED:20191109T210627Z
LAST-MODIFIED:20191109T211250Z
UID:4492-1576780200-1576785600@aksihawaii.org
SUMMARY:CHRISTMAS CONFRATERNIZATION
DESCRIPTION:Prayer \, Potluck and Exchange of gifts.
URL:https://aksihawaii.org/event/a-vida-no-mundo-espiritual-livro-os-mensageiros-13/
END:VEVENT
BEGIN:VEVENT
DTSTART;TZID=Pacific/Honolulu:20191215T090000
DTEND;TZID=Pacific/Honolulu:20191215T230000
DTSTAMP:20260425T032500
CREATED:20191109T220004Z
LAST-MODIFIED:20191109T220004Z
UID:4523-1576400400-1576450800@aksihawaii.org
SUMMARY:HOLIDAY GIVING EVENT
DESCRIPTION:
URL:https://aksihawaii.org/event/holiday-giving-event/
END:VEVENT
BEGIN:VEVENT
DTSTART;TZID=Pacific/Honolulu:20191215T090000
DTEND;TZID=Pacific/Honolulu:20191215T100000
DTSTAMP:20260425T032500
CREATED:20191109T212853Z
LAST-MODIFIED:20191109T212853Z
UID:4508-1576400400-1576404000@aksihawaii.org
SUMMARY:SPIRITIST CHILDREN EDUCATION
DESCRIPTION:Lesson 38. Christmas\nTeacher: Itana
URL:https://aksihawaii.org/event/spiritist-children-education-60/
END:VEVENT
BEGIN:VEVENT
DTSTART;TZID=Pacific/Honolulu:20191212T183000
DTEND;TZID=Pacific/Honolulu:20191212T200000
DTSTAMP:20260425T032500
CREATED:20191109T205758Z
LAST-MODIFIED:20191111T172659Z
UID:4486-1576175400-1576180800@aksihawaii.org
SUMMARY:A VIDA NO MUNDO ESPIRITUAL: LIVRO OS MENSAGEIROS
DESCRIPTION:CAPÍTULOS 25 e 26 ( Ouvindo Servidores\, O caluniador)\nExpositor: Itana\, Geronimo\, Jussara
URL:https://aksihawaii.org/event/a-vida-no-mundo-espiritual-livro-os-mensageiros-11/
END:VEVENT
BEGIN:VEVENT
DTSTART;TZID=Pacific/Honolulu:20191208T090000
DTEND;TZID=Pacific/Honolulu:20191208T100000
DTSTAMP:20260425T032500
CREATED:20191109T214111Z
LAST-MODIFIED:20191127T183534Z
UID:4518-1575795600-1575799200@aksihawaii.org
SUMMARY:PUBLIC LECTURE
DESCRIPTION:Chapter 16. – IT IS NOT POSSIBLE TO SERVE BOTH GOD AND MAMMON Item 7 – The providential utility of riches. Trials of riches and misery. Paulo (IN PORTUGUESE)
URL:https://aksihawaii.org/event/public-lecture-66/
END:VEVENT
BEGIN:VEVENT
DTSTART;TZID=Pacific/Honolulu:20191208T090000
DTEND;TZID=Pacific/Honolulu:20191208T100000
DTSTAMP:20260425T032500
CREATED:20191109T212721Z
LAST-MODIFIED:20191109T212721Z
UID:4506-1575795600-1575799200@aksihawaii.org
SUMMARY:SPIRITIST CHILDREN EDUCATION
DESCRIPTION:Lesson 37. Review Lesson 35. Respecting Life and Lesson 36. Respecting God’s Creation\nTeacher: Raquel
URL:https://aksihawaii.org/event/spiritist-children-education-59/
END:VEVENT
BEGIN:VEVENT
DTSTART;TZID=Pacific/Honolulu:20191205T183000
DTEND;TZID=Pacific/Honolulu:20191205T200000
DTSTAMP:20260425T032500
CREATED:20191109T205618Z
LAST-MODIFIED:20191111T172626Z
UID:4484-1575570600-1575576000@aksihawaii.org
SUMMARY:A VIDA NO MUNDO ESPIRITUAL: LIVRO OS MENSAGEIROS
DESCRIPTION:CAPÍTULOS 24 e 25 (A prece de Ismália \, Efeitos da oração)\nExpositor: Raquel e Ines
URL:https://aksihawaii.org/event/a-vida-no-mundo-espiritual-livro-os-mensageiros-10/
END:VEVENT
BEGIN:VEVENT
DTSTART;TZID=Pacific/Honolulu:20191201T090000
DTEND;TZID=Pacific/Honolulu:20191201T100000
DTSTAMP:20260425T032500
CREATED:20191109T213951Z
LAST-MODIFIED:20191127T183330Z
UID:4516-1575190800-1575194400@aksihawaii.org
SUMMARY:PUBLIC LECTURE
DESCRIPTION:Chapter 16. – IT IS NOT POSSIBLE TO SERVE BOTH GOD AND MAMMON Item 6 -The parable of the talents.\nGeronimo (IN ENGLISH)
URL:https://aksihawaii.org/event/public-lecture-64/
END:VEVENT
BEGIN:VEVENT
DTSTART;TZID=Pacific/Honolulu:20191201T090000
DTEND;TZID=Pacific/Honolulu:20191201T100000
DTSTAMP:20260425T032500
CREATED:20191109T212529Z
LAST-MODIFIED:20191109T212529Z
UID:4503-1575190800-1575194400@aksihawaii.org
SUMMARY:SPIRITIST CHILDREN EDUCATION
DESCRIPTION:Lesson 36. Respecting God’s Creation\nTeacher: Renata
URL:https://aksihawaii.org/event/spiritist-children-education-58/
END:VEVENT
BEGIN:VEVENT
DTSTART;TZID=Pacific/Honolulu:20191128T183000
DTEND;TZID=Pacific/Honolulu:20191128T200000
DTSTAMP:20260425T032500
CREATED:20191109T205847Z
LAST-MODIFIED:20191109T205954Z
UID:4488-1574965800-1574971200@aksihawaii.org
SUMMARY:THANKSGIVING
DESCRIPTION:Paulo – Prayer
URL:https://aksihawaii.org/event/thanksgiving/
END:VEVENT
BEGIN:VEVENT
DTSTART;TZID=Pacific/Honolulu:20191124T090000
DTEND;TZID=Pacific/Honolulu:20191124T100000
DTSTAMP:20260425T032500
CREATED:20191028T230344Z
LAST-MODIFIED:20191028T230344Z
UID:4480-1574586000-1574589600@aksihawaii.org
SUMMARY:PUBLIC LECTURE
DESCRIPTION:Thanksgiving\nPaulo
URL:https://aksihawaii.org/event/public-lecture-65/
END:VEVENT
BEGIN:VEVENT
DTSTART;TZID=Pacific/Honolulu:20191124T090000
DTEND;TZID=Pacific/Honolulu:20191124T100000
DTSTAMP:20260425T032500
CREATED:20191028T221305Z
LAST-MODIFIED:20191028T221305Z
UID:4470-1574586000-1574589600@aksihawaii.org
SUMMARY:SPIRITIST CHILDREN EDUCATION
DESCRIPTION:Thanksgiving
URL:https://aksihawaii.org/event/spiritist-children-education-57/
END:VEVENT
BEGIN:VEVENT
DTSTART;TZID=Pacific/Honolulu:20191123T170000
DTEND;TZID=Pacific/Honolulu:20191123T200000
DTSTAMP:20260425T032500
CREATED:20191111T173225Z
LAST-MODIFIED:20191111T173225Z
UID:4531-1574528400-1574539200@aksihawaii.org
SUMMARY:THANKSGIVING DINNER
DESCRIPTION:Members and families
URL:https://aksihawaii.org/event/thanksgiving-dinner/
END:VEVENT
BEGIN:VEVENT
DTSTART;TZID=Pacific/Honolulu:20191121T183000
DTEND;TZID=Pacific/Honolulu:20191121T200000
DTSTAMP:20260425T032500
CREATED:20191001T195918Z
LAST-MODIFIED:20191111T172534Z
UID:4439-1574361000-1574366400@aksihawaii.org
SUMMARY:A VIDA NO MUNDO ESPIRITUAL: LIVRO OS MENSAGEIROS
DESCRIPTION:CAPÍTULOS 22 -23 (Os que dormem\, Pesadelos) Expositor: Paulo
URL:https://aksihawaii.org/event/a-vida-no-mundo-espiritual-livro-os-mensageiros-9/
END:VEVENT
BEGIN:VEVENT
DTSTART;TZID=Pacific/Honolulu:20191117T090000
DTEND;TZID=Pacific/Honolulu:20191117T100000
DTSTAMP:20260425T032500
CREATED:20191028T225903Z
LAST-MODIFIED:20191028T225903Z
UID:4476-1573981200-1573984800@aksihawaii.org
SUMMARY:PUBLIC LECTURE
DESCRIPTION:Chapter 16. – IT IS NOT POSSIBLE TO SERVE BOTH GOD AND MAMMON Item 5 The parable of the bad rich man.\nRaquel (IN PORTUGUESE)
URL:https://aksihawaii.org/event/public-lecture-63/
END:VEVENT
BEGIN:VEVENT
DTSTART;TZID=Pacific/Honolulu:20191117T090000
DTEND;TZID=Pacific/Honolulu:20191117T100000
DTSTAMP:20260425T032500
CREATED:20191028T221111Z
LAST-MODIFIED:20191028T221111Z
UID:4468-1573981200-1573984800@aksihawaii.org
SUMMARY:SPIRITIST CHILDREN EDUCATION
DESCRIPTION:Lesson 35. Gratitude\nTeacher: Itana
URL:https://aksihawaii.org/event/spiritist-children-education-56/
END:VEVENT
BEGIN:VEVENT
DTSTART;TZID=Pacific/Honolulu:20191114T183000
DTEND;TZID=Pacific/Honolulu:20191114T200000
DTSTAMP:20260425T032500
CREATED:20191111T173408Z
LAST-MODIFIED:20191111T173554Z
UID:4533-1573756200-1573761600@aksihawaii.org
SUMMARY:GUEST SPEAKERS
DESCRIPTION:
URL:https://aksihawaii.org/event/guest-speakers/
END:VEVENT
BEGIN:VEVENT
DTSTART;TZID=Pacific/Honolulu:20191110T090000
DTEND;TZID=Pacific/Honolulu:20191110T100000
DTSTAMP:20260425T032500
CREATED:20191028T223154Z
LAST-MODIFIED:20191028T230442Z
UID:4474-1573376400-1573380000@aksihawaii.org
SUMMARY:PUBLIC LECTURE
DESCRIPTION:Chapter 16. – IT IS NOT POSSIBLE TO SERVE BOTH GOD AND MAMMON Item 4 – Jesus in the house of Zacchaéus\nPaulo (IN PORTUGUESE)
URL:https://aksihawaii.org/event/public-lecture-62/
END:VEVENT
BEGIN:VEVENT
DTSTART;TZID=Pacific/Honolulu:20191110T090000
DTEND;TZID=Pacific/Honolulu:20191110T100000
DTSTAMP:20260425T032500
CREATED:20191028T220947Z
LAST-MODIFIED:20191028T220947Z
UID:4466-1573376400-1573380000@aksihawaii.org
SUMMARY:SPIRITIST CHILDREN EDUCATION
DESCRIPTION:Lesson 34. Respecting Life\nTeacher: Renata
URL:https://aksihawaii.org/event/spiritist-children-education-55/
END:VEVENT
BEGIN:VEVENT
DTSTART;TZID=Pacific/Honolulu:20191107T183000
DTEND;TZID=Pacific/Honolulu:20191107T200000
DTSTAMP:20260425T032500
CREATED:20190902T052750Z
LAST-MODIFIED:20191028T214444Z
UID:4430-1573151400-1573156800@aksihawaii.org
SUMMARY:A VIDA NO MUNDO ESPIRITUAL: LIVRO OS MENSAGEIROS
DESCRIPTION:CAPÍTULOS 19 -21 ( O sopro\,Defesas contra o mal\, Espíritos dementados)\nExpositor: Renata e Brisa
URL:https://aksihawaii.org/event/a-vida-no-mundo-espiritual-livro-os-mensageiros-8/
END:VEVENT
BEGIN:VEVENT
DTSTART;TZID=Pacific/Honolulu:20191103T090000
DTEND;TZID=Pacific/Honolulu:20191103T100000
DTSTAMP:20260425T032500
CREATED:20191028T222904Z
LAST-MODIFIED:20191028T222904Z
UID:4472-1572771600-1572775200@aksihawaii.org
SUMMARY:PUBLIC LECTURE
DESCRIPTION:Chapter 16. – IT IS NOT POSSIBLE TO SERVE BOTH GOD AND\nMAMMON Item 3- Preserve yourself from avarice.\nGeronimo (IN ENGLISH)
URL:https://aksihawaii.org/event/public-lecture-61/
END:VEVENT
BEGIN:VEVENT
DTSTART;TZID=Pacific/Honolulu:20191103T090000
DTEND;TZID=Pacific/Honolulu:20191103T100000
DTSTAMP:20260425T032500
CREATED:20191028T220749Z
LAST-MODIFIED:20191028T220829Z
UID:4463-1572771600-1572775200@aksihawaii.org
SUMMARY:SPIRITIST CHILDREN EDUCATION
DESCRIPTION:Lesson 33. Review L. 31-Forgiveness and 32- Charity\, Cooperation & Pacience\nTeacher:Raquel
URL:https://aksihawaii.org/event/spiritist-children-education-54/
END:VEVENT
BEGIN:VEVENT
DTSTART;TZID=Pacific/Honolulu:20191027T090000
DTEND;TZID=Pacific/Honolulu:20191027T100000
DTSTAMP:20260425T032500
CREATED:20191001T201405Z
LAST-MODIFIED:20191001T201405Z
UID:4458-1572166800-1572170400@aksihawaii.org
SUMMARY:SPIRITIST CHILDREN EDUCATION
DESCRIPTION:Lesson 32. Charity\, Cooperation & Patience\nTeacher: Itana
URL:https://aksihawaii.org/event/spiritist-children-education-53/
END:VEVENT
BEGIN:VEVENT
DTSTART;TZID=Pacific/Honolulu:20191027T090000
DTEND;TZID=Pacific/Honolulu:20191027T100000
DTSTAMP:20260425T032500
CREATED:20191001T201308Z
LAST-MODIFIED:20191004T214855Z
UID:4456-1572166800-1572170400@aksihawaii.org
SUMMARY:PUBLIC LECTURE
DESCRIPTION:Chapter 16. – IT IS NOT POSSIBLE TO SERVE BOTH GOD AND MAMMON: Item 1-2 The salvation of the rich\nRaquel (IN PORTUGUESE)
URL:https://aksihawaii.org/event/public-lecture-60/
END:VEVENT
BEGIN:VEVENT
DTSTART;TZID=Pacific/Honolulu:20191024T183000
DTEND;TZID=Pacific/Honolulu:20191024T200000
DTSTAMP:20260425T032500
CREATED:20190902T052606Z
LAST-MODIFIED:20191004T214236Z
UID:4428-1571941800-1571947200@aksihawaii.org
SUMMARY:A VIDA NO MUNDO ESPIRITUAL: LIVRO OS MENSAGEIROS
DESCRIPTION:CAPÍTULOS 17-18 ( O romance de Alfredo\, Informações e esclarecimentos)\nExpositores: Itana\, Geronimo\, Jussara
URL:https://aksihawaii.org/event/a-vida-no-mundo-espiritual-livro-os-mensageiros-7/
END:VEVENT
BEGIN:VEVENT
DTSTART;TZID=Pacific/Honolulu:20191020T090000
DTEND;TZID=Pacific/Honolulu:20191020T100000
DTSTAMP:20260425T032500
CREATED:20191001T201103Z
LAST-MODIFIED:20191001T201103Z
UID:4454-1571562000-1571565600@aksihawaii.org
SUMMARY:SPIRITIST CHILDREN EDUCATION
DESCRIPTION:Lesson 31. Forgiveness & Goodness\nTeacher: Renata
URL:https://aksihawaii.org/event/spiritist-children-education-52/
END:VEVENT
END:VCALENDAR