BEGIN:VCALENDAR
VERSION:2.0
PRODID:-//Allan Kardec Spiritist Institute - ECPv6.15.20//NONSGML v1.0//EN
CALSCALE:GREGORIAN
METHOD:PUBLISH
X-ORIGINAL-URL:https://aksihawaii.org
X-WR-CALDESC:Events for Allan Kardec Spiritist Institute
REFRESH-INTERVAL;VALUE=DURATION:PT1H
X-Robots-Tag:noindex
X-PUBLISHED-TTL:PT1H
BEGIN:VTIMEZONE
TZID:Pacific/Honolulu
BEGIN:STANDARD
TZOFFSETFROM:-1000
TZOFFSETTO:-1000
TZNAME:HST
DTSTART:20240101T000000
END:STANDARD
END:VTIMEZONE
BEGIN:VEVENT
DTSTART;TZID=Pacific/Honolulu:20250505T190000
DTEND;TZID=Pacific/Honolulu:20250505T193000
DTSTAMP:20260423T234226
CREATED:20250418T023922Z
LAST-MODIFIED:20250418T023922Z
UID:4786-1746471600-1746473400@aksihawaii.org
SUMMARY:Gospel According to Spiritism (In Portuguese)
DESCRIPTION:
URL:https://aksihawaii.org/event/gospel-according-to-spiritism-in-portuguese-4/
END:VEVENT
BEGIN:VEVENT
DTSTART;TZID=Pacific/Honolulu:20250505T193000
DTEND;TZID=Pacific/Honolulu:20250505T194500
DTSTAMP:20260423T234226
CREATED:20250418T024011Z
LAST-MODIFIED:20250418T024011Z
UID:4788-1746473400-1746474300@aksihawaii.org
SUMMARY:Therapeutic Passes
DESCRIPTION:
URL:https://aksihawaii.org/event/therapeutic-passes-4/
END:VEVENT
BEGIN:VEVENT
DTSTART;TZID=Pacific/Honolulu:20250505T200000
DTEND;TZID=Pacific/Honolulu:20250505T203000
DTSTAMP:20260423T234226
CREATED:20250418T024118Z
LAST-MODIFIED:20250418T024118Z
UID:4790-1746475200-1746477000@aksihawaii.org
SUMMARY:Study of the Book ” Good News” (In Portuguese)
DESCRIPTION:Chapter 30 – Mary
URL:https://aksihawaii.org/event/study-of-the-book-good-news-in-portuguese-3/
END:VEVENT
BEGIN:VEVENT
DTSTART;TZID=Pacific/Honolulu:20250507T193000
DTEND;TZID=Pacific/Honolulu:20250507T203000
DTSTAMP:20260423T234226
CREATED:20250418T024724Z
LAST-MODIFIED:20250418T024741Z
UID:4798-1746646200-1746649800@aksihawaii.org
SUMMARY:Gospel According to Spiritism and The Spirits’ Book Study (In English)
DESCRIPTION:Meeting via ZOOM \nMeeting ID: 97580261745 \nPassword: 966092
URL:https://aksihawaii.org/event/gospel-according-to-spiritism-and-the-spirits-book-study-in-english-4/
END:VEVENT
BEGIN:VEVENT
DTSTART;TZID=Pacific/Honolulu:20250514T193000
DTEND;TZID=Pacific/Honolulu:20250514T203000
DTSTAMP:20260423T234226
CREATED:20250418T024310Z
LAST-MODIFIED:20250418T024310Z
UID:4792-1747251000-1747254600@aksihawaii.org
SUMMARY:Gospel According to Spiritism and The Spirits’ Book Study (In English)
DESCRIPTION:Meeting via ZOOM \nMeeting ID: 97580261745 \nPassword: 966092
URL:https://aksihawaii.org/event/gospel-according-to-spiritism-and-the-spirits-book-study-in-english/
END:VEVENT
BEGIN:VEVENT
DTSTART;TZID=Pacific/Honolulu:20250521T193000
DTEND;TZID=Pacific/Honolulu:20250521T203000
DTSTAMP:20260423T234226
CREATED:20250418T024509Z
LAST-MODIFIED:20250418T024509Z
UID:4794-1747855800-1747859400@aksihawaii.org
SUMMARY:Gospel According to Spiritism and The Spirits’ Book Study (In English)
DESCRIPTION:Meeting via ZOOM \nMeeting ID: 97580261745 \nPassword: 966092
URL:https://aksihawaii.org/event/gospel-according-to-spiritism-and-the-spirits-book-study-in-english-2/
END:VEVENT
BEGIN:VEVENT
DTSTART;TZID=Pacific/Honolulu:20250526T190000
DTEND;TZID=Pacific/Honolulu:20250526T193000
DTSTAMP:20260423T234226
CREATED:20250522T043220Z
LAST-MODIFIED:20250522T180330Z
UID:4815-1748286000-1748287800@aksihawaii.org
SUMMARY:Gospel According to Spiritism (In Portuguese)
DESCRIPTION:
URL:https://aksihawaii.org/event/gospel-according-to-spiritism-in-portuguese-5/
LOCATION:Heritage Hall\, 401 Baldwin Ave\, Paia\, HI\, 96779\, United States
END:VEVENT
BEGIN:VEVENT
DTSTART;TZID=Pacific/Honolulu:20250526T193000
DTEND;TZID=Pacific/Honolulu:20250526T194500
DTSTAMP:20260423T234226
CREATED:20250522T044034Z
LAST-MODIFIED:20250522T044034Z
UID:4827-1748287800-1748288700@aksihawaii.org
SUMMARY:Therapeutic Passes
DESCRIPTION:
URL:https://aksihawaii.org/event/therapeutic-passes-5/
END:VEVENT
BEGIN:VEVENT
DTSTART;TZID=Pacific/Honolulu:20250526T200000
DTEND;TZID=Pacific/Honolulu:20250526T203000
DTSTAMP:20260423T234226
CREATED:20250522T041943Z
LAST-MODIFIED:20250617T165201Z
UID:4805-1748289600-1748291400@aksihawaii.org
SUMMARY:Study of the" Acts of the Apostles" (In Portuguese)
DESCRIPTION:Overview of the “Acts of the Apostles”
URL:https://aksihawaii.org/event/study-of-the-acts-of-the-apostles-in-portuguese/
END:VEVENT
BEGIN:VEVENT
DTSTART;TZID=Pacific/Honolulu:20250528T193000
DTEND;TZID=Pacific/Honolulu:20250528T203000
DTSTAMP:20260423T234226
CREATED:20250418T024610Z
LAST-MODIFIED:20250418T024610Z
UID:4796-1748460600-1748464200@aksihawaii.org
SUMMARY:Gospel According to Spiritism and The Spirits’ Book Study (In English)
DESCRIPTION:Meeting via ZOOM \nMeeting ID: 97580261745 \nPassword: 966092
URL:https://aksihawaii.org/event/gospel-according-to-spiritism-and-the-spirits-book-study-in-english-3/
END:VEVENT
END:VCALENDAR